Back to Multiple platform build/check report for BioC 3.22:   simplified   long
A[B]CDEFGHIJKLMNOPQRSTUVWXYZ

This page was generated on 2025-11-20 12:04 -0500 (Thu, 20 Nov 2025).

HostnameOSArch (*)R versionInstalled pkgs
nebbiolo2Linux (Ubuntu 24.04.3 LTS)x86_644.5.2 (2025-10-31) -- "[Not] Part in a Rumble" 4615
merida1macOS 12.7.6 Montereyx86_644.5.2 Patched (2025-11-05 r88990) -- "[Not] Part in a Rumble" 4610
kjohnson1macOS 13.7.5 Venturaarm644.5.2 Patched (2025-11-04 r88984) -- "[Not] Part in a Rumble" 4598
taishanLinux (openEuler 24.03 LTS)aarch644.5.0 (2025-04-11) -- "How About a Twenty-Six" 4668
Click on any hostname to see more info about the system (e.g. compilers)      (*) as reported by 'uname -p', except on Windows and Mac OS X

Package 158/2361HostnameOS / ArchINSTALLBUILDCHECKBUILD BIN
beachmat.tiledb 1.2.0  (landing page)
Aaron Lun
Snapshot Date: 2025-11-17 13:45 -0500 (Mon, 17 Nov 2025)
git_url: https://git.bioconductor.org/packages/beachmat.tiledb
git_branch: RELEASE_3_22
git_last_commit: 70c0ac3
git_last_commit_date: 2025-10-29 11:33:24 -0500 (Wed, 29 Oct 2025)
nebbiolo2Linux (Ubuntu 24.04.3 LTS) / x86_64  OK    OK    WARNINGS  UNNEEDED, same version is already published
merida1macOS 12.7.6 Monterey / x86_64  OK    OK    ERROR    OK  
kjohnson1macOS 13.7.5 Ventura / arm64  OK    OK    OK    OK  UNNEEDED, same version is already published
taishanLinux (openEuler 24.03 LTS) / aarch64  ERROR    ERROR  skipped


CHECK results for beachmat.tiledb on merida1

To the developers/maintainers of the beachmat.tiledb package:
- Allow up to 24 hours (and sometimes 48 hours) for your latest push to git@git.bioconductor.org:packages/beachmat.tiledb.git to reflect on this report. See Troubleshooting Build Report for more information.
- Use the following Renviron settings to reproduce errors and warnings.
- If 'R CMD check' started to fail recently on the Linux builder(s) over a missing dependency, add the missing dependency to 'Suggests:' in your DESCRIPTION file. See Renviron.bioc for more information.

raw results


Summary

Package: beachmat.tiledb
Version: 1.2.0
Command: /Library/Frameworks/R.framework/Resources/bin/R CMD check --install=check:beachmat.tiledb.install-out.txt --library=/Library/Frameworks/R.framework/Resources/library --no-vignettes --timings beachmat.tiledb_1.2.0.tar.gz
StartedAt: 2025-11-18 04:11:14 -0500 (Tue, 18 Nov 2025)
EndedAt: 2025-11-18 04:16:18 -0500 (Tue, 18 Nov 2025)
EllapsedTime: 303.6 seconds
RetCode: 1
Status:   ERROR  
CheckDir: beachmat.tiledb.Rcheck
Warnings: NA

Command output

##############################################################################
##############################################################################
###
### Running command:
###
###   /Library/Frameworks/R.framework/Resources/bin/R CMD check --install=check:beachmat.tiledb.install-out.txt --library=/Library/Frameworks/R.framework/Resources/library --no-vignettes --timings beachmat.tiledb_1.2.0.tar.gz
###
##############################################################################
##############################################################################


* using log directory ‘/Users/biocbuild/bbs-3.22-bioc/meat/beachmat.tiledb.Rcheck’
* using R version 4.5.2 Patched (2025-11-05 r88990)
* using platform: x86_64-apple-darwin20
* R was compiled by
    Apple clang version 14.0.0 (clang-1400.0.29.202)
    GNU Fortran (GCC) 14.2.0
* running under: macOS Monterey 12.7.6
* using session charset: UTF-8
* using option ‘--no-vignettes’
* checking for file ‘beachmat.tiledb/DESCRIPTION’ ... OK
* this is package ‘beachmat.tiledb’ version ‘1.2.0’
* package encoding: UTF-8
* checking package namespace information ... OK
* checking package dependencies ... OK
* checking if this is a source package ... OK
* checking if there is a namespace ... OK
* checking for hidden files and directories ... OK
* checking for portable file names ... OK
* checking for sufficient/correct file permissions ... OK
* checking whether package ‘beachmat.tiledb’ can be installed ... OK
* used C++ compiler: ‘Apple clang version 14.0.0 (clang-1400.0.29.202)’
* used SDK: ‘MacOSX11.3.1.sdk’
* checking C++ specification ... OK
* checking installed package size ... OK
* checking package directory ... OK
* checking ‘build’ directory ... OK
* checking DESCRIPTION meta-information ... OK
* checking top-level files ... OK
* checking for left-over files ... OK
* checking index information ... OK
* checking package subdirectories ... OK
* checking code files for non-ASCII characters ... OK
* checking R files for syntax errors ... OK
* checking whether the package can be loaded ... OK
* checking whether the package can be loaded with stated dependencies ... OK
* checking whether the package can be unloaded cleanly ... OK
* checking whether the namespace can be loaded with stated dependencies ... OK
* checking whether the namespace can be unloaded cleanly ... OK
* checking dependencies in R code ... OK
* checking S3 generic/method consistency ... OK
* checking replacement functions ... OK
* checking foreign function calls ... OK
* checking R code for possible problems ... OK
* checking Rd files ... OK
* checking Rd metadata ... OK
* checking Rd cross-references ... OK
* checking for missing documentation entries ... OK
* checking for code/documentation mismatches ... OK
* checking Rd \usage sections ... OK
* checking Rd contents ... OK
* checking for unstated dependencies in examples ... OK
* checking line endings in shell scripts ... OK
* checking line endings in C/C++/Fortran sources/headers ... OK
* checking line endings in Makefiles ... OK
* checking compilation flags in Makevars ... OK
* checking for GNU extensions in Makefiles ... OK
* checking for portable use of $(BLAS_LIBS) and $(LAPACK_LIBS) ... OK
* checking use of PKG_*FLAGS in Makefiles ... OK
* checking compiled code ... NOTE
Note: information on .o files is not available
* checking files in ‘vignettes’ ... OK
* checking examples ...sh: line 1: 84363 Illegal instruction: 4  LANGUAGE=en _R_CHECK_INTERNALS2_=1 R_LIBS=/var/folders/v1/y6dg5h4n163dzmrfl6t_r5480000gp/T//RtmpCLxtPA/RLIBS_12bb79330abe R_ENVIRON_USER='' R_LIBS_USER='NULL' R_LIBS_SITE='NULL' '/Library/Frameworks/R.framework/Resources/bin/R' --vanilla > 'beachmat.tiledb-Ex.Rout' 2>&1 < 'beachmat.tiledb-Ex.R'
 ERROR
Running examples in ‘beachmat.tiledb-Ex.R’ failed
The error most likely occurred in:

> base::assign(".ptime", proc.time(), pos = "CheckExEnv")
> ### Name: initializeCpp
> ### Title: Initialize TileDB-backed matrices
> ### Aliases: initializeCpp initializeCpp,TileDBArraySeed-method
> 
> ### ** Examples
> 
> library(TileDBArray)
Loading required package: SparseArray
Loading required package: Matrix
Loading required package: BiocGenerics
Loading required package: generics

Attaching package: ‘generics’

The following objects are masked from ‘package:base’:

    as.difftime, as.factor, as.ordered, intersect, is.element, setdiff,
    setequal, union


Attaching package: ‘BiocGenerics’

The following objects are masked from ‘package:stats’:

    IQR, mad, sd, var, xtabs

The following objects are masked from ‘package:base’:

    Filter, Find, Map, Position, Reduce, anyDuplicated, aperm, append,
    as.data.frame, basename, cbind, colnames, dirname, do.call,
    duplicated, eval, evalq, get, grep, grepl, is.unsorted, lapply,
    mapply, match, mget, order, paste, pmax, pmax.int, pmin, pmin.int,
    rank, rbind, rownames, sapply, saveRDS, table, tapply, unique,
    unsplit, which.max, which.min

Loading required package: MatrixGenerics
Loading required package: matrixStats

Attaching package: ‘MatrixGenerics’

The following objects are masked from ‘package:matrixStats’:

    colAlls, colAnyNAs, colAnys, colAvgsPerRowSet, colCollapse,
    colCounts, colCummaxs, colCummins, colCumprods, colCumsums,
    colDiffs, colIQRDiffs, colIQRs, colLogSumExps, colMadDiffs,
    colMads, colMaxs, colMeans2, colMedians, colMins, colOrderStats,
    colProds, colQuantiles, colRanges, colRanks, colSdDiffs, colSds,
    colSums2, colTabulates, colVarDiffs, colVars, colWeightedMads,
    colWeightedMeans, colWeightedMedians, colWeightedSds,
    colWeightedVars, rowAlls, rowAnyNAs, rowAnys, rowAvgsPerColSet,
    rowCollapse, rowCounts, rowCummaxs, rowCummins, rowCumprods,
    rowCumsums, rowDiffs, rowIQRDiffs, rowIQRs, rowLogSumExps,
    rowMadDiffs, rowMads, rowMaxs, rowMeans2, rowMedians, rowMins,
    rowOrderStats, rowProds, rowQuantiles, rowRanges, rowRanks,
    rowSdDiffs, rowSds, rowSums2, rowTabulates, rowVarDiffs, rowVars,
    rowWeightedMads, rowWeightedMeans, rowWeightedMedians,
    rowWeightedSds, rowWeightedVars

Loading required package: S4Vectors
Loading required package: stats4

Attaching package: ‘S4Vectors’

The following objects are masked from ‘package:Matrix’:

    expand, unname

The following object is masked from ‘package:utils’:

    findMatches

The following objects are masked from ‘package:base’:

    I, expand.grid, unname

Loading required package: S4Arrays
Loading required package: abind
Loading required package: IRanges

Attaching package: ‘S4Arrays’

The following object is masked from ‘package:abind’:

    abind

The following object is masked from ‘package:base’:

    rowsum

Loading required package: DelayedArray

Attaching package: ‘DelayedArray’

The following objects are masked from ‘package:base’:

    apply, scale, sweep

> y <- matrix(runif(1000), ncol=20, nrow=50)
> z <- as(y, "TileDBArray")

 *** caught illegal operation ***
address 0x1068465d3, cause 'illegal opcode'

Traceback:
 1: libtiledb_array_open(ctx@ptr, uri, query_type)
 2: tiledb_array(sink@path, attrs = sink@attr, query_type = "WRITE")
 3: write_block(sink, viewport, block)
 4: write_block(sink, viewport, block)
 5: FUN(init, viewport, ...)
 6: FUN(viewport, init, ...)
 7: gridReduce(FUN_WRAPPER, grid, sink, FUN, ..., verbose = verbose)
 8: sinkApply(sink, FUN, x, verbose, verbose_read_block, grid = grid,     verbose = FALSE)
 9: BLOCK_write_to_sink(sink, x)
10: writeTileDBArray(from)
11: asMethod(object)
12: as(y, "TileDBArray")
An irrecoverable exception occurred. R is aborting now ...
* checking for unstated dependencies in ‘tests’ ... OK
* checking tests ...
  Running ‘testthat.R’/Library/Frameworks/R.framework/Resources/bin/BATCH: line 60: 84713 Illegal instruction: 4  ${R_HOME}/bin/R -f ${in} ${opts} ${R_BATCH_OPTIONS} > ${out} 2>&1

 ERROR
Running the tests in ‘tests/testthat.R’ failed.
Last 13 lines of output:
  22: withRestarts(tryCatch(withCallingHandlers({    eval(code, test_env)    new_expectations <- the$test_expectations > starting_expectations    if (snapshot_skipped) {        skip("On CRAN")    }    else if (!new_expectations && skip_on_empty) {        skip_empty()    }}, expectation = handle_expectation, packageNotFoundError = function(e) {    if (on_cran()) {        skip(paste0("{", e$package, "} is not installed."))    }}, snapshot_on_cran = function(cnd) {    snapshot_skipped <<- TRUE    invokeRestart("muffle_cran_snapshot")}, skip = handle_skip, warning = handle_warning, message = handle_message,     error = handle_error, interrupt = handle_interrupt), error = handle_fatal),     end_test = function() {    })
  23: test_code(code = exprs, env = env, reporter = get_reporter() %||%     StopReporter$new())
  24: source_file(path, env = env(env), desc = desc, shuffle = shuffle,     error_call = error_call)
  25: FUN(X[[i]], ...)
  26: lapply(test_paths, test_one_file, env = env, desc = desc, shuffle = shuffle,     error_call = error_call)
  27: doTryCatch(return(expr), name, parentenv, handler)
  28: tryCatchOne(expr, names, parentenv, handlers[[1L]])
  29: tryCatchList(expr, classes, parentenv, handlers)
  30: tryCatch(code, testthat_abort_reporter = function(cnd) {    cat(conditionMessage(cnd), "\n")    NULL})
  31: with_reporter(reporters$multi, lapply(test_paths, test_one_file,     env = env, desc = desc, shuffle = shuffle, error_call = error_call))
  32: test_files_serial(test_dir = test_dir, test_package = test_package,     test_paths = test_paths, load_helpers = load_helpers, reporter = reporter,     env = env, stop_on_failure = stop_on_failure, stop_on_warning = stop_on_warning,     desc = desc, load_package = load_package, shuffle = shuffle,     error_call = error_call)
  33: test_files(test_dir = path, test_paths = test_paths, test_package = package,     reporter = reporter, load_helpers = load_helpers, env = env,     stop_on_failure = stop_on_failure, stop_on_warning = stop_on_warning,     load_package = load_package, parallel = parallel, shuffle = shuffle)
  34: test_dir("testthat", package = package, reporter = reporter,     ..., load_package = "installed")
  35: test_check("beachmat.tiledb")
  An irrecoverable exception occurred. R is aborting now ...
* checking for unstated dependencies in vignettes ... OK
* checking package vignettes ... OK
* checking running R code from vignettes ... SKIPPED
* checking re-building of vignette outputs ... SKIPPED
* checking PDF version of manual ... OK
* DONE

Status: 2 ERRORs, 1 NOTE
See
  ‘/Users/biocbuild/bbs-3.22-bioc/meat/beachmat.tiledb.Rcheck/00check.log’
for details.


Installation output

beachmat.tiledb.Rcheck/00install.out

##############################################################################
##############################################################################
###
### Running command:
###
###   /Library/Frameworks/R.framework/Resources/bin/R CMD INSTALL beachmat.tiledb
###
##############################################################################
##############################################################################


* installing to library ‘/Library/Frameworks/R.framework/Versions/4.5-x86_64/Resources/library’
* installing *source* package ‘beachmat.tiledb’ ...
** this is package ‘beachmat.tiledb’ version ‘1.2.0’
** using staged installation
checking if tiledb-R downloaded its own TileDB... yes
configure: creating ./config.status
config.status: creating src/Makevars
** libs
using C++ compiler: ‘Apple clang version 14.0.0 (clang-1400.0.29.202)’
using C++17
using SDK: ‘MacOSX11.3.1.sdk’
clang++ -arch x86_64 -std=gnu++17 -I"/Library/Frameworks/R.framework/Resources/include" -DNDEBUG -I/Library/Frameworks/R.framework/Versions/4.5-x86_64/Resources/library/tiledb/tiledb/include -I'/Library/Frameworks/R.framework/Versions/4.5-x86_64/Resources/library/Rcpp/include' -I'/Library/Frameworks/R.framework/Versions/4.5-x86_64/Resources/library/assorthead/include' -I'/Library/Frameworks/R.framework/Versions/4.5-x86_64/Resources/library/beachmat/include' -I/opt/R/x86_64/include    -fPIC  -falign-functions=64 -Wall -g -O2   -c RcppExports.cpp -o RcppExports.o
clang++ -arch x86_64 -std=gnu++17 -I"/Library/Frameworks/R.framework/Resources/include" -DNDEBUG -I/Library/Frameworks/R.framework/Versions/4.5-x86_64/Resources/library/tiledb/tiledb/include -I'/Library/Frameworks/R.framework/Versions/4.5-x86_64/Resources/library/Rcpp/include' -I'/Library/Frameworks/R.framework/Versions/4.5-x86_64/Resources/library/assorthead/include' -I'/Library/Frameworks/R.framework/Versions/4.5-x86_64/Resources/library/beachmat/include' -I/opt/R/x86_64/include    -fPIC  -falign-functions=64 -Wall -g -O2   -c initialize.cpp -o initialize.o
clang++ -arch x86_64 -std=gnu++17 -I"/Library/Frameworks/R.framework/Resources/include" -DNDEBUG -I/Library/Frameworks/R.framework/Versions/4.5-x86_64/Resources/library/tiledb/tiledb/include -I'/Library/Frameworks/R.framework/Versions/4.5-x86_64/Resources/library/Rcpp/include' -I'/Library/Frameworks/R.framework/Versions/4.5-x86_64/Resources/library/assorthead/include' -I'/Library/Frameworks/R.framework/Versions/4.5-x86_64/Resources/library/beachmat/include' -I/opt/R/x86_64/include    -fPIC  -falign-functions=64 -Wall -g -O2   -c load_dense.cpp -o load_dense.o
clang++ -arch x86_64 -std=gnu++17 -I"/Library/Frameworks/R.framework/Resources/include" -DNDEBUG -I/Library/Frameworks/R.framework/Versions/4.5-x86_64/Resources/library/tiledb/tiledb/include -I'/Library/Frameworks/R.framework/Versions/4.5-x86_64/Resources/library/Rcpp/include' -I'/Library/Frameworks/R.framework/Versions/4.5-x86_64/Resources/library/assorthead/include' -I'/Library/Frameworks/R.framework/Versions/4.5-x86_64/Resources/library/beachmat/include' -I/opt/R/x86_64/include    -fPIC  -falign-functions=64 -Wall -g -O2   -c load_sparse.cpp -o load_sparse.o
clang++ -arch x86_64 -std=gnu++17 -dynamiclib -Wl,-headerpad_max_install_names -undefined dynamic_lookup -L/Library/Frameworks/R.framework/Resources/lib -L/opt/R/x86_64/lib -o beachmat.tiledb.so RcppExports.o initialize.o load_dense.o load_sparse.o -ltiledb -L/Library/Frameworks/R.framework/Versions/4.5-x86_64/Resources/library/tiledb/lib -L/Library/Frameworks/R.framework/Versions/4.5-x86_64/Resources/library/tiledb/tiledb/lib -F/Library/Frameworks/R.framework/.. -framework R
installing to /Library/Frameworks/R.framework/Versions/4.5-x86_64/Resources/library/00LOCK-beachmat.tiledb/00new/beachmat.tiledb/libs
** R
** inst
** byte-compile and prepare package for lazy loading
** help
*** installing help indices
** building package indices
** installing vignettes
** testing if installed package can be loaded from temporary location
** checking absolute paths in shared objects and dynamic libraries
** testing if installed package can be loaded from final location
** testing if installed package keeps a record of temporary installation path
* DONE (beachmat.tiledb)

Tests output

beachmat.tiledb.Rcheck/tests/testthat.Rout.fail


R version 4.5.2 Patched (2025-11-05 r88990) -- "[Not] Part in a Rumble"
Copyright (C) 2025 The R Foundation for Statistical Computing
Platform: x86_64-apple-darwin20

R is free software and comes with ABSOLUTELY NO WARRANTY.
You are welcome to redistribute it under certain conditions.
Type 'license()' or 'licence()' for distribution details.

R is a collaborative project with many contributors.
Type 'contributors()' for more information and
'citation()' on how to cite R or R packages in publications.

Type 'demo()' for some demos, 'help()' for on-line help, or
'help.start()' for an HTML browser interface to help.
Type 'q()' to quit R.

> library(beachmat.tiledb)
> library(testthat)
> test_check("beachmat.tiledb")

 *** caught illegal operation ***
address 0x1137f75d3, cause 'illegal opcode'

Traceback:
 1: libtiledb_array_open(ctx@ptr, uri, query_type)
 2: tiledb_array(sink@path, attrs = sink@attr, query_type = "WRITE")
 3: write_block(sink, viewport, block)
 4: write_block(sink, viewport, block)
 5: FUN(init, viewport, ...)
 6: FUN(viewport, init, ...)
 7: gridReduce(FUN_WRAPPER, grid, sink, FUN, ..., verbose = verbose)
 8: sinkApply(sink, FUN, x, verbose, verbose_read_block, grid = grid,     verbose = FALSE)
 9: BLOCK_write_to_sink(sink, x)
10: writeTileDBArray(from)
11: asMethod(object)
12: as(y, "TileDBArray")
13: eval(code, test_env)
14: eval(code, test_env)
15: withCallingHandlers({    eval(code, test_env)    new_expectations <- the$test_expectations > starting_expectations    if (snapshot_skipped) {        skip("On CRAN")    }    else if (!new_expectations && skip_on_empty) {        skip_empty()    }}, expectation = handle_expectation, packageNotFoundError = function(e) {    if (on_cran()) {        skip(paste0("{", e$package, "} is not installed."))    }}, snapshot_on_cran = function(cnd) {    snapshot_skipped <<- TRUE    invokeRestart("muffle_cran_snapshot")}, skip = handle_skip, warning = handle_warning, message = handle_message,     error = handle_error, interrupt = handle_interrupt)
16: doTryCatch(return(expr), name, parentenv, handler)
17: tryCatchOne(expr, names, parentenv, handlers[[1L]])
18: tryCatchList(expr, classes, parentenv, handlers)
19: tryCatch(withCallingHandlers({    eval(code, test_env)    new_expectations <- the$test_expectations > starting_expectations    if (snapshot_skipped) {        skip("On CRAN")    }    else if (!new_expectations && skip_on_empty) {        skip_empty()    }}, expectation = handle_expectation, packageNotFoundError = function(e) {    if (on_cran()) {        skip(paste0("{", e$package, "} is not installed."))    }}, snapshot_on_cran = function(cnd) {    snapshot_skipped <<- TRUE    invokeRestart("muffle_cran_snapshot")}, skip = handle_skip, warning = handle_warning, message = handle_message,     error = handle_error, interrupt = handle_interrupt), error = handle_fatal)
20: doWithOneRestart(return(expr), restart)
21: withOneRestart(expr, restarts[[1L]])
22: withRestarts(tryCatch(withCallingHandlers({    eval(code, test_env)    new_expectations <- the$test_expectations > starting_expectations    if (snapshot_skipped) {        skip("On CRAN")    }    else if (!new_expectations && skip_on_empty) {        skip_empty()    }}, expectation = handle_expectation, packageNotFoundError = function(e) {    if (on_cran()) {        skip(paste0("{", e$package, "} is not installed."))    }}, snapshot_on_cran = function(cnd) {    snapshot_skipped <<- TRUE    invokeRestart("muffle_cran_snapshot")}, skip = handle_skip, warning = handle_warning, message = handle_message,     error = handle_error, interrupt = handle_interrupt), error = handle_fatal),     end_test = function() {    })
23: test_code(code = exprs, env = env, reporter = get_reporter() %||%     StopReporter$new())
24: source_file(path, env = env(env), desc = desc, shuffle = shuffle,     error_call = error_call)
25: FUN(X[[i]], ...)
26: lapply(test_paths, test_one_file, env = env, desc = desc, shuffle = shuffle,     error_call = error_call)
27: doTryCatch(return(expr), name, parentenv, handler)
28: tryCatchOne(expr, names, parentenv, handlers[[1L]])
29: tryCatchList(expr, classes, parentenv, handlers)
30: tryCatch(code, testthat_abort_reporter = function(cnd) {    cat(conditionMessage(cnd), "\n")    NULL})
31: with_reporter(reporters$multi, lapply(test_paths, test_one_file,     env = env, desc = desc, shuffle = shuffle, error_call = error_call))
32: test_files_serial(test_dir = test_dir, test_package = test_package,     test_paths = test_paths, load_helpers = load_helpers, reporter = reporter,     env = env, stop_on_failure = stop_on_failure, stop_on_warning = stop_on_warning,     desc = desc, load_package = load_package, shuffle = shuffle,     error_call = error_call)
33: test_files(test_dir = path, test_paths = test_paths, test_package = package,     reporter = reporter, load_helpers = load_helpers, env = env,     stop_on_failure = stop_on_failure, stop_on_warning = stop_on_warning,     load_package = load_package, parallel = parallel, shuffle = shuffle)
34: test_dir("testthat", package = package, reporter = reporter,     ..., load_package = "installed")
35: test_check("beachmat.tiledb")
An irrecoverable exception occurred. R is aborting now ...

Example timings

beachmat.tiledb.Rcheck/beachmat.tiledb-Ex.timings

nameusersystemelapsed