| Back to Multiple platform build/check report for BioC 3.21: simplified long | 
 | 
This page was generated on 2025-08-18 11:41 -0400 (Mon, 18 Aug 2025).
| Hostname | OS | Arch (*) | R version | Installed pkgs | 
|---|---|---|---|---|
| nebbiolo1 | Linux (Ubuntu 24.04.3 LTS) | x86_64 | 4.5.1 (2025-06-13) -- "Great Square Root" | 4824 | 
| palomino7 | Windows Server 2022 Datacenter | x64 | 4.5.1 (2025-06-13 ucrt) -- "Great Square Root" | 4566 | 
| merida1 | macOS 12.7.5 Monterey | x86_64 | 4.5.1 RC (2025-06-05 r88288) -- "Great Square Root" | 4604 | 
| kjohnson1 | macOS 13.6.6 Ventura | arm64 | 4.5.1 Patched (2025-06-14 r88325) -- "Great Square Root" | 4545 | 
| kunpeng2 | Linux (openEuler 24.03 LTS) | aarch64 | R Under development (unstable) (2025-02-19 r87757) -- "Unsuffered Consequences" | 4579 | 
| Click on any hostname to see more info about the system (e.g. compilers) (*) as reported by 'uname -p', except on Windows and Mac OS X | ||||
| Package 129/2341 | Hostname | OS / Arch | INSTALL | BUILD | CHECK | BUILD BIN | ||||||||
| bandle 1.12.0  (landing page) Oliver M. Crook 
 | nebbiolo1 | Linux (Ubuntu 24.04.3 LTS) / x86_64 | OK | OK | WARNINGS |  | ||||||||
| palomino7 | Windows Server 2022 Datacenter / x64 | OK | OK | WARNINGS | OK |  | ||||||||
| merida1 | macOS 12.7.5 Monterey / x86_64 | OK | OK | WARNINGS | OK |  | ||||||||
| kjohnson1 | macOS 13.6.6 Ventura / arm64 | OK | OK | WARNINGS | OK |  | ||||||||
| kunpeng2 | Linux (openEuler 24.03 LTS) / aarch64 | OK | OK | WARNINGS | ||||||||||
| To the developers/maintainers of the bandle package: - Allow up to 24 hours (and sometimes 48 hours) for your latest push to git@git.bioconductor.org:packages/bandle.git to reflect on this report. See Troubleshooting Build Report for more information. - Use the following Renviron settings to reproduce errors and warnings. - If 'R CMD check' started to fail recently on the Linux builder(s) over a missing dependency, add the missing dependency to 'Suggests:' in your DESCRIPTION file. See Renviron.bioc for more information. | 
| Package: bandle | 
| Version: 1.12.0 | 
| Command: rm -rf bandle.buildbin-libdir && mkdir bandle.buildbin-libdir && E:\biocbuild\bbs-3.21-bioc\R\bin\R.exe CMD INSTALL --build --library=bandle.buildbin-libdir bandle_1.12.0.tar.gz | 
| StartedAt: 2025-08-15 08:47:56 -0400 (Fri, 15 Aug 2025) | 
| EndedAt: 2025-08-15 08:50:35 -0400 (Fri, 15 Aug 2025) | 
| EllapsedTime: 159.2 seconds | 
| RetCode: 0 | 
| Status: OK | 
| PackageFile: bandle_1.12.0.zip | 
| PackageFileSize: 2.939 MiB | 
##############################################################################
##############################################################################
###
### Running command:
###
###   rm -rf bandle.buildbin-libdir && mkdir bandle.buildbin-libdir && E:\biocbuild\bbs-3.21-bioc\R\bin\R.exe CMD INSTALL --build --library=bandle.buildbin-libdir bandle_1.12.0.tar.gz
###
##############################################################################
##############################################################################
* installing *source* package 'bandle' ...
** this is package 'bandle' version '1.12.0'
** using staged installation
** libs
using C++ compiler: 'G__~1.EXE (GCC) 14.2.0'
using C++14
g++  -std=gnu++14 -I"E:/biocbuild/bbs-3.21-bioc/R/include" -DNDEBUG  -I'E:/biocbuild/bbs-3.21-bioc/R/library/Rcpp/include' -I'E:/biocbuild/bbs-3.21-bioc/R/library/RcppArmadillo/include' -I'E:/biocbuild/bbs-3.21-bioc/R/library/BH/include'   -I"C:/rtools45/x86_64-w64-mingw32.static.posix/include"   -fopenmp    -O2 -Wall  -mfpmath=sse -msse2 -mstackrealign    -c Bessel2ndKind.cpp -o Bessel2ndKind.o
In file included from E:/biocbuild/bbs-3.21-bioc/R/library/BH/include/boost/math/special_functions/bessel.hpp:30,
                 from Bessel2ndKind.cpp:3:
E:/biocbuild/bbs-3.21-bioc/R/library/BH/include/boost/math/special_functions/detail/bessel_ik.hpp: In function 'int boost::math::detail::bessel_ik(T, T, T*, T*, int, const Policy&) [with T = long double; Policy = boost::math::policies::policy<boost::math::policies::promote_float<false>, boost::math::policies::promote_double<false>, boost::math::policies::default_policy, boost::math::policies::default_policy, boost::math::policies::default_policy, boost::math::policies::default_policy, boost::math::policies::default_policy, boost::math::policies::default_policy, boost::math::policies::default_policy, boost::math::policies::default_policy, boost::math::policies::default_policy>]':
E:/biocbuild/bbs-3.21-bioc/R/library/BH/include/boost/math/special_functions/detail/bessel_ik.hpp:421:22: warning: 'n' may be used uninitialized [-Wmaybe-uninitialized]
  421 |         T z = (u + n % 2);
      |                    ~~^~~
E:/biocbuild/bbs-3.21-bioc/R/library/BH/include/boost/math/special_functions/detail/bessel_ik.hpp:311:14: note: 'n' was declared here
  311 |     unsigned n, k;
      |              ^
E:/biocbuild/bbs-3.21-bioc/R/library/BH/include/boost/math/special_functions/detail/bessel_ik.hpp:421:11: warning: 'u' may be used uninitialized [-Wmaybe-uninitialized]
  421 |         T z = (u + n % 2);
      |           ^
E:/biocbuild/bbs-3.21-bioc/R/library/BH/include/boost/math/special_functions/detail/bessel_ik.hpp:308:7: note: 'u' was declared here
  308 |     T u, Iv, Kv, Kv1, Ku, Ku1, fv;
      |       ^
g++  -std=gnu++14 -I"E:/biocbuild/bbs-3.21-bioc/R/include" -DNDEBUG  -I'E:/biocbuild/bbs-3.21-bioc/R/library/Rcpp/include' -I'E:/biocbuild/bbs-3.21-bioc/R/library/RcppArmadillo/include' -I'E:/biocbuild/bbs-3.21-bioc/R/library/BH/include'   -I"C:/rtools45/x86_64-w64-mingw32.static.posix/include"   -fopenmp    -O2 -Wall  -mfpmath=sse -msse2 -mstackrealign    -c RcppExports.cpp -o RcppExports.o
g++  -std=gnu++14 -I"E:/biocbuild/bbs-3.21-bioc/R/include" -DNDEBUG  -I'E:/biocbuild/bbs-3.21-bioc/R/library/Rcpp/include' -I'E:/biocbuild/bbs-3.21-bioc/R/library/RcppArmadillo/include' -I'E:/biocbuild/bbs-3.21-bioc/R/library/BH/include'   -I"C:/rtools45/x86_64-w64-mingw32.static.posix/include"   -fopenmp    -O2 -Wall  -mfpmath=sse -msse2 -mstackrealign    -c dmvtCpp.cpp -o dmvtCpp.o
g++  -std=gnu++14 -I"E:/biocbuild/bbs-3.21-bioc/R/include" -DNDEBUG  -I'E:/biocbuild/bbs-3.21-bioc/R/library/Rcpp/include' -I'E:/biocbuild/bbs-3.21-bioc/R/library/RcppArmadillo/include' -I'E:/biocbuild/bbs-3.21-bioc/R/library/BH/include'   -I"C:/rtools45/x86_64-w64-mingw32.static.posix/include"   -fopenmp    -O2 -Wall  -mfpmath=sse -msse2 -mstackrealign    -c leapfrogGPcpp.cpp -o leapfrogGPcpp.o
g++  -std=gnu++14 -I"E:/biocbuild/bbs-3.21-bioc/R/include" -DNDEBUG  -I'E:/biocbuild/bbs-3.21-bioc/R/library/Rcpp/include' -I'E:/biocbuild/bbs-3.21-bioc/R/library/RcppArmadillo/include' -I'E:/biocbuild/bbs-3.21-bioc/R/library/BH/include'   -I"C:/rtools45/x86_64-w64-mingw32.static.posix/include"   -fopenmp    -O2 -Wall  -mfpmath=sse -msse2 -mstackrealign    -c pg_sample.cpp -o pg_sample.o
g++ -shared -s -static-libgcc -o bandle.dll tmp.def Bessel2ndKind.o RcppExports.o dmvtCpp.o leapfrogGPcpp.o pg_sample.o -fopenmp -LE:/biocbuild/bbs-3.21-bioc/R/bin/x64 -lRlapack -LE:/biocbuild/bbs-3.21-bioc/R/bin/x64 -lRblas -lgfortran -lquadmath -LC:/rtools45/x86_64-w64-mingw32.static.posix/lib/x64 -LC:/rtools45/x86_64-w64-mingw32.static.posix/lib -LE:/biocbuild/bbs-3.21-bioc/R/bin/x64 -lR
installing to E:/biocbuild/bbs-3.21-bioc/meat/bandle.buildbin-libdir/00LOCK-bandle/00new/bandle/libs/x64
** R
** inst
** byte-compile and prepare package for lazy loading
Creating a generic function from function 'posteriorEstimates' in package 'bandle'
Creating a generic function from function 'bandleJoint' in package 'bandle'
** help
*** installing help indices
** building package indices
** installing vignettes
** testing if installed package can be loaded from temporary location
** testing if installed package can be loaded from final location
** testing if installed package keeps a record of temporary installation path
* MD5 sums
packaged installation of 'bandle' as bandle_1.12.0.zip
* DONE (bandle)