| Back to Multiple platform build/check report for BioC 3.21: simplified long |
|
This page was generated on 2025-10-16 11:39 -0400 (Thu, 16 Oct 2025).
| Hostname | OS | Arch (*) | R version | Installed pkgs |
|---|---|---|---|---|
| nebbiolo1 | Linux (Ubuntu 24.04.3 LTS) | x86_64 | 4.5.1 (2025-06-13) -- "Great Square Root" | 4833 |
| merida1 | macOS 12.7.6 Monterey | x86_64 | 4.5.1 RC (2025-06-05 r88288) -- "Great Square Root" | 4614 |
| kjohnson1 | macOS 13.7.5 Ventura | arm64 | 4.5.1 Patched (2025-06-14 r88325) -- "Great Square Root" | 4555 |
| kunpeng2 | Linux (openEuler 24.03 LTS) | aarch64 | R Under development (unstable) (2025-02-19 r87757) -- "Unsuffered Consequences" | 4586 |
| Click on any hostname to see more info about the system (e.g. compilers) (*) as reported by 'uname -p', except on Windows and Mac OS X | ||||
| Package 115/2341 | Hostname | OS / Arch | INSTALL | BUILD | CHECK | BUILD BIN | ||||||||
| attract 1.60.0 (landing page) Samuel Zimmerman
| nebbiolo1 | Linux (Ubuntu 24.04.3 LTS) / x86_64 | OK | OK | OK | |||||||||
| merida1 | macOS 12.7.6 Monterey / x86_64 | OK | OK | OK | OK | |||||||||
| kjohnson1 | macOS 13.7.5 Ventura / arm64 | OK | OK | OK | OK | |||||||||
| kunpeng2 | Linux (openEuler 24.03 LTS) / aarch64 | OK | ERROR | skipped | ||||||||||
|
To the developers/maintainers of the attract package: - Allow up to 24 hours (and sometimes 48 hours) for your latest push to git@git.bioconductor.org:packages/attract.git to reflect on this report. See Troubleshooting Build Report for more information. - Use the following Renviron settings to reproduce errors and warnings. - If 'R CMD check' started to fail recently on the Linux builder(s) over a missing dependency, add the missing dependency to 'Suggests:' in your DESCRIPTION file. See Renviron.bioc for more information. |
| Package: attract |
| Version: 1.60.0 |
| Command: /Library/Frameworks/R.framework/Resources/bin/R CMD check --install=check:attract.install-out.txt --library=/Library/Frameworks/R.framework/Resources/library --no-vignettes --timings attract_1.60.0.tar.gz |
| StartedAt: 2025-10-14 13:10:45 -0400 (Tue, 14 Oct 2025) |
| EndedAt: 2025-10-14 13:16:03 -0400 (Tue, 14 Oct 2025) |
| EllapsedTime: 318.6 seconds |
| RetCode: 0 |
| Status: OK |
| CheckDir: attract.Rcheck |
| Warnings: 0 |
##############################################################################
##############################################################################
###
### Running command:
###
### /Library/Frameworks/R.framework/Resources/bin/R CMD check --install=check:attract.install-out.txt --library=/Library/Frameworks/R.framework/Resources/library --no-vignettes --timings attract_1.60.0.tar.gz
###
##############################################################################
##############################################################################
* using log directory ‘/Users/biocbuild/bbs-3.21-bioc/meat/attract.Rcheck’
* using R version 4.5.1 Patched (2025-06-14 r88325)
* using platform: aarch64-apple-darwin20
* R was compiled by
Apple clang version 16.0.0 (clang-1600.0.26.6)
GNU Fortran (GCC) 14.2.0
* running under: macOS Ventura 13.7.5
* using session charset: UTF-8
* using option ‘--no-vignettes’
* checking for file ‘attract/DESCRIPTION’ ... OK
* checking extension type ... Package
* this is package ‘attract’ version ‘1.60.0’
* checking package namespace information ... OK
* checking package dependencies ... OK
* checking if this is a source package ... OK
* checking if there is a namespace ... OK
* checking for hidden files and directories ... OK
* checking for portable file names ... OK
* checking for sufficient/correct file permissions ... OK
* checking whether package ‘attract’ can be installed ... OK
* checking installed package size ... OK
* checking package directory ... OK
* checking ‘build’ directory ... OK
* checking DESCRIPTION meta-information ... OK
* checking top-level files ... OK
* checking for left-over files ... OK
* checking index information ... OK
* checking package subdirectories ... OK
* checking code files for non-ASCII characters ... OK
* checking R files for syntax errors ... OK
* checking whether the package can be loaded ... OK
* checking whether the package can be loaded with stated dependencies ... OK
* checking whether the package can be unloaded cleanly ... OK
* checking whether the namespace can be loaded with stated dependencies ... OK
* checking whether the namespace can be unloaded cleanly ... OK
* checking dependencies in R code ... OK
* checking S3 generic/method consistency ... OK
* checking replacement functions ... OK
* checking foreign function calls ... OK
* checking R code for possible problems ... NOTE
plotsynexprs: warning in axis(1, at = tickMarks, lab = tickLabels):
partial argument match of 'lab' to 'labels'
removeFlatGenes: warning in topTable(fit2, coef =
(1:(length(my.contrasts))), adjust = "fdr", n = nrow(dat.fr)):
partial argument match of 'n' to 'number'
removeFlatGenes: warning in topTable(fit2, coef =
(1:(length(my.contrasts))), adjust = "fdr", n = nrow(dat.fr)):
partial argument match of 'adjust' to 'adjust.method'
* checking Rd files ... NOTE
checkRd: (-1) attract-package.Rd:34: Lost braces
34 | M\"{u}ller F et al. 2008. Regulatory networks define phenotypic classes of human stem cell lines. Nature. 455(7211): 401.
| ^
checkRd: (-1) exprs.dat.Rd:29: Lost braces
29 | M\"{u}ller F, et al., Regulatory networks define phenotypic classes of human stem cell lines. Nature, 2008. 455(7211): p. 401-405.
| ^
checkRd: (-1) findOnepwaySynexprs.Rd:15: Lost braces
15 | a single character string denoting the KEGG or reactome ID of the pathway module to be analyzed or a character code{vector} of gene names of a pathway.
| ^
checkRd: (-1) findSynexprs.Rd:16: Lost braces
16 | It may also be a character code{vector} of gene names of a pathway if defining a custom pathway.
| ^
checkRd: (-1) loring.eset.Rd:23: Lost braces
23 | M\"{u}ller, F, et al., Regulatory networks define phenotypic classes of human stem cell lines. Nature, 2008. 455(7211): p. 401-405.
| ^
checkRd: (-1) samp.info.Rd:28: Lost braces
28 | M\"{u}ller F, et al., Regulatory networks define phenotypic classes of human stem cell lines. Nature, 2008. 455(7211): p. 401-405.
| ^
checkRd: (-1) subset.loring.eset.Rd:25: Lost braces
25 | M\"{u}ller, F, et al., Regulatory networks define phenotypic classes of human stem cell lines. Nature, 2008. 455(7211): p. 401-405.
| ^
* checking Rd metadata ... OK
* checking Rd cross-references ... OK
* checking for missing documentation entries ... OK
* checking for code/documentation mismatches ... OK
* checking Rd \usage sections ... OK
* checking Rd contents ... OK
* checking for unstated dependencies in examples ... OK
* checking contents of ‘data’ directory ... OK
* checking data for non-ASCII characters ... OK
* checking data for ASCII and uncompressed saves ... OK
* checking sizes of PDF files under ‘inst/doc’ ... OK
* checking files in ‘vignettes’ ... OK
* checking examples ... OK
Examples with CPU (user + system) or elapsed time > 5s
user system elapsed
calcFuncSynexprs 80.224 8.397 91.403
findAttractors 31.336 1.558 34.407
* checking for unstated dependencies in vignettes ... OK
* checking package vignettes ... OK
* checking running R code from vignettes ... SKIPPED
* checking re-building of vignette outputs ... SKIPPED
* checking PDF version of manual ... OK
* DONE
Status: 2 NOTEs
See
‘/Users/biocbuild/bbs-3.21-bioc/meat/attract.Rcheck/00check.log’
for details.
attract.Rcheck/00install.out
############################################################################## ############################################################################## ### ### Running command: ### ### /Library/Frameworks/R.framework/Resources/bin/R CMD INSTALL attract ### ############################################################################## ############################################################################## * installing to library ‘/Library/Frameworks/R.framework/Versions/4.5-arm64/Resources/library’ * installing *source* package ‘attract’ ... ** this is package ‘attract’ version ‘1.60.0’ ** using staged installation ** R ** data ** inst ** byte-compile and prepare package for lazy loading ** help *** installing help indices ** building package indices ** installing vignettes ** testing if installed package can be loaded from temporary location ** testing if installed package can be loaded from final location ** testing if installed package keeps a record of temporary installation path * DONE (attract)
attract.Rcheck/attract-Ex.timings
| name | user | system | elapsed | |
| AttractorModuleSet-class | 0.000 | 0.000 | 0.001 | |
| SynExpressionSet-class | 0.002 | 0.000 | 0.001 | |
| attract-package | 0.000 | 0.000 | 0.001 | |
| buildCorMatrix | 0.001 | 0.000 | 0.001 | |
| buildKeggIncidenceMatrix | 0.000 | 0.000 | 0.001 | |
| calcFuncSynexprs | 80.224 | 8.397 | 91.403 | |
| calcInform | 0.000 | 0.001 | 0.000 | |
| calcModfstat | 0 | 0 | 0 | |
| calcRss | 0 | 0 | 0 | |
| exprs.dat | 0.205 | 0.009 | 0.214 | |
| filterDataSet | 0.316 | 0.025 | 0.343 | |
| findAttractors | 31.336 | 1.558 | 34.407 | |
| findCorrPartners | 3.811 | 0.324 | 4.561 | |
| findOnepwaySynexprs | 0.000 | 0.000 | 0.001 | |
| findSynexprs | 3.708 | 0.144 | 4.304 | |
| flagPwayExists | 0 | 0 | 0 | |
| getCustomGenes | 0 | 0 | 0 | |
| getPwayGenes | 0 | 0 | 0 | |
| loring.eset | 0.217 | 0.008 | 0.227 | |
| plotsynexprs | 4.032 | 0.098 | 4.485 | |
| removeFlatGenes | 0.162 | 0.021 | 0.187 | |
| samp.info | 0.001 | 0.002 | 0.003 | |
| subset.loring.eset | 0.113 | 0.008 | 0.122 | |