| Back to Multiple platform build/check report for BioC 3.21: simplified long |
|
This page was generated on 2025-10-16 11:38 -0400 (Thu, 16 Oct 2025).
| Hostname | OS | Arch (*) | R version | Installed pkgs |
|---|---|---|---|---|
| nebbiolo1 | Linux (Ubuntu 24.04.3 LTS) | x86_64 | 4.5.1 (2025-06-13) -- "Great Square Root" | 4833 |
| merida1 | macOS 12.7.6 Monterey | x86_64 | 4.5.1 RC (2025-06-05 r88288) -- "Great Square Root" | 4614 |
| kjohnson1 | macOS 13.7.5 Ventura | arm64 | 4.5.1 Patched (2025-06-14 r88325) -- "Great Square Root" | 4555 |
| kunpeng2 | Linux (openEuler 24.03 LTS) | aarch64 | R Under development (unstable) (2025-02-19 r87757) -- "Unsuffered Consequences" | 4586 |
| Click on any hostname to see more info about the system (e.g. compilers) (*) as reported by 'uname -p', except on Windows and Mac OS X | ||||
| Package 31/2341 | Hostname | OS / Arch | INSTALL | BUILD | CHECK | BUILD BIN | ||||||||
| affyPLM 1.84.0 (landing page) Ben Bolstad
| nebbiolo1 | Linux (Ubuntu 24.04.3 LTS) / x86_64 | OK | OK | WARNINGS | |||||||||
| merida1 | macOS 12.7.6 Monterey / x86_64 | OK | OK | OK | OK | |||||||||
| kjohnson1 | macOS 13.7.5 Ventura / arm64 | OK | OK | OK | OK | |||||||||
| kunpeng2 | Linux (openEuler 24.03 LTS) / aarch64 | OK | OK | WARNINGS | ||||||||||
|
To the developers/maintainers of the affyPLM package: - Allow up to 24 hours (and sometimes 48 hours) for your latest push to git@git.bioconductor.org:packages/affyPLM.git to reflect on this report. See Troubleshooting Build Report for more information. - Use the following Renviron settings to reproduce errors and warnings. - If 'R CMD check' started to fail recently on the Linux builder(s) over a missing dependency, add the missing dependency to 'Suggests:' in your DESCRIPTION file. See Renviron.bioc for more information. |
| Package: affyPLM |
| Version: 1.84.0 |
| Command: /Library/Frameworks/R.framework/Resources/bin/R CMD INSTALL affyPLM |
| StartedAt: 2025-10-13 15:30:32 -0400 (Mon, 13 Oct 2025) |
| EndedAt: 2025-10-13 15:31:19 -0400 (Mon, 13 Oct 2025) |
| EllapsedTime: 47.0 seconds |
| RetCode: 0 |
| Status: OK |
##############################################################################
##############################################################################
###
### Running command:
###
### /Library/Frameworks/R.framework/Resources/bin/R CMD INSTALL affyPLM
###
##############################################################################
##############################################################################
* installing to library ‘/Library/Frameworks/R.framework/Versions/4.5-x86_64/Resources/library’
* installing *source* package ‘affyPLM’ ...
** this is package ‘affyPLM’ version ‘1.84.0’
** using staged installation
** libs
using C compiler: ‘Apple clang version 14.0.0 (clang-1400.0.29.202)’
using SDK: ‘MacOSX11.3.sdk’
clang -arch x86_64 -I"/Library/Frameworks/R.framework/Resources/include" -DNDEBUG -I'/Library/Frameworks/R.framework/Versions/4.5-x86_64/Resources/library/preprocessCore/include' -I/opt/R/x86_64/include -fPIC -falign-functions=64 -Wall -g -O2 -c LESN.c -o LESN.o
clang -arch x86_64 -I"/Library/Frameworks/R.framework/Resources/include" -DNDEBUG -I'/Library/Frameworks/R.framework/Versions/4.5-x86_64/Resources/library/preprocessCore/include' -I/opt/R/x86_64/include -fPIC -falign-functions=64 -Wall -g -O2 -c PLM_avg_log.c -o PLM_avg_log.o
clang -arch x86_64 -I"/Library/Frameworks/R.framework/Resources/include" -DNDEBUG -I'/Library/Frameworks/R.framework/Versions/4.5-x86_64/Resources/library/preprocessCore/include' -I/opt/R/x86_64/include -fPIC -falign-functions=64 -Wall -g -O2 -c PLM_biweight.c -o PLM_biweight.o
clang -arch x86_64 -I"/Library/Frameworks/R.framework/Resources/include" -DNDEBUG -I'/Library/Frameworks/R.framework/Versions/4.5-x86_64/Resources/library/preprocessCore/include' -I/opt/R/x86_64/include -fPIC -falign-functions=64 -Wall -g -O2 -c PLM_log_avg.c -o PLM_log_avg.o
clang -arch x86_64 -I"/Library/Frameworks/R.framework/Resources/include" -DNDEBUG -I'/Library/Frameworks/R.framework/Versions/4.5-x86_64/Resources/library/preprocessCore/include' -I/opt/R/x86_64/include -fPIC -falign-functions=64 -Wall -g -O2 -c PLM_medianPM.c -o PLM_medianPM.o
clang -arch x86_64 -I"/Library/Frameworks/R.framework/Resources/include" -DNDEBUG -I'/Library/Frameworks/R.framework/Versions/4.5-x86_64/Resources/library/preprocessCore/include' -I/opt/R/x86_64/include -fPIC -falign-functions=64 -Wall -g -O2 -c PLM_median_logPM.c -o PLM_median_logPM.o
clang -arch x86_64 -I"/Library/Frameworks/R.framework/Resources/include" -DNDEBUG -I'/Library/Frameworks/R.framework/Versions/4.5-x86_64/Resources/library/preprocessCore/include' -I/opt/R/x86_64/include -fPIC -falign-functions=64 -Wall -g -O2 -c PLM_medianpolish.c -o PLM_medianpolish.o
clang -arch x86_64 -I"/Library/Frameworks/R.framework/Resources/include" -DNDEBUG -I'/Library/Frameworks/R.framework/Versions/4.5-x86_64/Resources/library/preprocessCore/include' -I/opt/R/x86_64/include -fPIC -falign-functions=64 -Wall -g -O2 -c PLM_modelmatrix.c -o PLM_modelmatrix.o
clang -arch x86_64 -I"/Library/Frameworks/R.framework/Resources/include" -DNDEBUG -I'/Library/Frameworks/R.framework/Versions/4.5-x86_64/Resources/library/preprocessCore/include' -I/opt/R/x86_64/include -fPIC -falign-functions=64 -Wall -g -O2 -c SCAB.c -o SCAB.o
clang -arch x86_64 -I"/Library/Frameworks/R.framework/Resources/include" -DNDEBUG -I'/Library/Frameworks/R.framework/Versions/4.5-x86_64/Resources/library/preprocessCore/include' -I/opt/R/x86_64/include -fPIC -falign-functions=64 -Wall -g -O2 -c chipbackground.c -o chipbackground.o
clang -arch x86_64 -I"/Library/Frameworks/R.framework/Resources/include" -DNDEBUG -I'/Library/Frameworks/R.framework/Versions/4.5-x86_64/Resources/library/preprocessCore/include' -I/opt/R/x86_64/include -fPIC -falign-functions=64 -Wall -g -O2 -c common_types.c -o common_types.o
clang -arch x86_64 -I"/Library/Frameworks/R.framework/Resources/include" -DNDEBUG -I'/Library/Frameworks/R.framework/Versions/4.5-x86_64/Resources/library/preprocessCore/include' -I/opt/R/x86_64/include -fPIC -falign-functions=64 -Wall -g -O2 -c do_PLMrlm.c -o do_PLMrlm.o
do_PLMrlm.c:620:7: warning: variable 'first_ind' set but not used [-Wunused-but-set-variable]
int first_ind;
^
1 warning generated.
clang -arch x86_64 -I"/Library/Frameworks/R.framework/Resources/include" -DNDEBUG -I'/Library/Frameworks/R.framework/Versions/4.5-x86_64/Resources/library/preprocessCore/include' -I/opt/R/x86_64/include -fPIC -falign-functions=64 -Wall -g -O2 -c do_PLMrma.c -o do_PLMrma.o
do_PLMrma.c:209:7: warning: variable 'first_ind' set but not used [-Wunused-but-set-variable]
int first_ind;
^
1 warning generated.
clang -arch x86_64 -I"/Library/Frameworks/R.framework/Resources/include" -DNDEBUG -I'/Library/Frameworks/R.framework/Versions/4.5-x86_64/Resources/library/preprocessCore/include' -I/opt/R/x86_64/include -fPIC -falign-functions=64 -Wall -g -O2 -c do_PLMthreestep.c -o do_PLMthreestep.o
do_PLMthreestep.c:118:7: warning: variable 'first_ind' set but not used [-Wunused-but-set-variable]
int first_ind;
^
1 warning generated.
clang -arch x86_64 -I"/Library/Frameworks/R.framework/Resources/include" -DNDEBUG -I'/Library/Frameworks/R.framework/Versions/4.5-x86_64/Resources/library/preprocessCore/include' -I/opt/R/x86_64/include -fPIC -falign-functions=64 -Wall -g -O2 -c idealmismatch.c -o idealmismatch.o
idealmismatch.c:71:7: warning: variable 'first_ind' set but not used [-Wunused-but-set-variable]
int first_ind;
^
idealmismatch.c:183:7: warning: variable 'first_ind' set but not used [-Wunused-but-set-variable]
int first_ind;
^
2 warnings generated.
clang -arch x86_64 -I"/Library/Frameworks/R.framework/Resources/include" -DNDEBUG -I'/Library/Frameworks/R.framework/Versions/4.5-x86_64/Resources/library/preprocessCore/include' -I/opt/R/x86_64/include -fPIC -falign-functions=64 -Wall -g -O2 -c lm_threestep.c -o lm_threestep.o
clang -arch x86_64 -I"/Library/Frameworks/R.framework/Resources/include" -DNDEBUG -I'/Library/Frameworks/R.framework/Versions/4.5-x86_64/Resources/library/preprocessCore/include' -I/opt/R/x86_64/include -fPIC -falign-functions=64 -Wall -g -O2 -c matrix_functions.c -o matrix_functions.o
clang -arch x86_64 -I"/Library/Frameworks/R.framework/Resources/include" -DNDEBUG -I'/Library/Frameworks/R.framework/Versions/4.5-x86_64/Resources/library/preprocessCore/include' -I/opt/R/x86_64/include -fPIC -falign-functions=64 -Wall -g -O2 -c nthLargestPM.c -o nthLargestPM.o
clang -arch x86_64 -I"/Library/Frameworks/R.framework/Resources/include" -DNDEBUG -I'/Library/Frameworks/R.framework/Versions/4.5-x86_64/Resources/library/preprocessCore/include' -I/opt/R/x86_64/include -fPIC -falign-functions=64 -Wall -g -O2 -c preprocess.c -o preprocess.o
preprocess.c:158:7: warning: variable 'which_lesn' set but not used [-Wunused-but-set-variable]
int which_lesn;
^
preprocess.c:677:7: warning: variable 'rows' set but not used [-Wunused-but-set-variable]
int rows,cols;
^
preprocess.c:677:12: warning: variable 'cols' set but not used [-Wunused-but-set-variable]
int rows,cols;
^
3 warnings generated.
clang -arch x86_64 -I"/Library/Frameworks/R.framework/Resources/include" -DNDEBUG -I'/Library/Frameworks/R.framework/Versions/4.5-x86_64/Resources/library/preprocessCore/include' -I/opt/R/x86_64/include -fPIC -falign-functions=64 -Wall -g -O2 -c psi_fns.c -o psi_fns.o
clang -arch x86_64 -I"/Library/Frameworks/R.framework/Resources/include" -DNDEBUG -I'/Library/Frameworks/R.framework/Versions/4.5-x86_64/Resources/library/preprocessCore/include' -I/opt/R/x86_64/include -fPIC -falign-functions=64 -Wall -g -O2 -c qnorm_probeset.c -o qnorm_probeset.o
qnorm_probeset.c:110:7: warning: variable 'first_ind' set but not used [-Wunused-but-set-variable]
int first_ind;
^
1 warning generated.
clang -arch x86_64 -I"/Library/Frameworks/R.framework/Resources/include" -DNDEBUG -I'/Library/Frameworks/R.framework/Versions/4.5-x86_64/Resources/library/preprocessCore/include' -I/opt/R/x86_64/include -fPIC -falign-functions=64 -Wall -g -O2 -c read_rmaexpress.c -o read_rmaexpress.o
clang -arch x86_64 -I"/Library/Frameworks/R.framework/Resources/include" -DNDEBUG -I'/Library/Frameworks/R.framework/Versions/4.5-x86_64/Resources/library/preprocessCore/include' -I/opt/R/x86_64/include -fPIC -falign-functions=64 -Wall -g -O2 -c rlm_PLM.c -o rlm_PLM.o
rlm_PLM.c:1481:7: warning: variable 'rows' set but not used [-Wunused-but-set-variable]
int rows,cols;
^
rlm_PLM.c:1481:12: warning: variable 'cols' set but not used [-Wunused-but-set-variable]
int rows,cols;
^
2 warnings generated.
clang -arch x86_64 -I"/Library/Frameworks/R.framework/Resources/include" -DNDEBUG -I'/Library/Frameworks/R.framework/Versions/4.5-x86_64/Resources/library/preprocessCore/include' -I/opt/R/x86_64/include -fPIC -falign-functions=64 -Wall -g -O2 -c rlm_threestep.c -o rlm_threestep.o
clang -arch x86_64 -I"/Library/Frameworks/R.framework/Resources/include" -DNDEBUG -I'/Library/Frameworks/R.framework/Versions/4.5-x86_64/Resources/library/preprocessCore/include' -I/opt/R/x86_64/include -fPIC -falign-functions=64 -Wall -g -O2 -c rmaPLM_pseudo.c -o rmaPLM_pseudo.o
clang -arch x86_64 -I"/Library/Frameworks/R.framework/Resources/include" -DNDEBUG -I'/Library/Frameworks/R.framework/Versions/4.5-x86_64/Resources/library/preprocessCore/include' -I/opt/R/x86_64/include -fPIC -falign-functions=64 -Wall -g -O2 -c rma_PLM.c -o rma_PLM.o
clang -arch x86_64 -I"/Library/Frameworks/R.framework/Resources/include" -DNDEBUG -I'/Library/Frameworks/R.framework/Versions/4.5-x86_64/Resources/library/preprocessCore/include' -I/opt/R/x86_64/include -fPIC -falign-functions=64 -Wall -g -O2 -c rma_common.c -o rma_common.o
rma_common.c:60:7: warning: unused variable 'i' [-Wunused-variable]
int i;
^
1 warning generated.
clang -arch x86_64 -I"/Library/Frameworks/R.framework/Resources/include" -DNDEBUG -I'/Library/Frameworks/R.framework/Versions/4.5-x86_64/Resources/library/preprocessCore/include' -I/opt/R/x86_64/include -fPIC -falign-functions=64 -Wall -g -O2 -c scaling.c -o scaling.o
clang -arch x86_64 -I"/Library/Frameworks/R.framework/Resources/include" -DNDEBUG -I'/Library/Frameworks/R.framework/Versions/4.5-x86_64/Resources/library/preprocessCore/include' -I/opt/R/x86_64/include -fPIC -falign-functions=64 -Wall -g -O2 -c threestep.c -o threestep.o
threestep.c:82:15: warning: variable 'MM' set but not used [-Wunused-but-set-variable]
double *PM,*MM;
^
threestep.c:193:12: warning: variable 'cols' set but not used [-Wunused-but-set-variable]
int rows,cols;
^
threestep.c:193:7: warning: variable 'rows' set but not used [-Wunused-but-set-variable]
int rows,cols;
^
3 warnings generated.
clang -arch x86_64 -I"/Library/Frameworks/R.framework/Resources/include" -DNDEBUG -I'/Library/Frameworks/R.framework/Versions/4.5-x86_64/Resources/library/preprocessCore/include' -I/opt/R/x86_64/include -fPIC -falign-functions=64 -Wall -g -O2 -c threestep_PLM.c -o threestep_PLM.o
clang -arch x86_64 -I"/Library/Frameworks/R.framework/Resources/include" -DNDEBUG -I'/Library/Frameworks/R.framework/Versions/4.5-x86_64/Resources/library/preprocessCore/include' -I/opt/R/x86_64/include -fPIC -falign-functions=64 -Wall -g -O2 -c threestep_common.c -o threestep_common.o
clang -arch x86_64 -I"/Library/Frameworks/R.framework/Resources/include" -DNDEBUG -I'/Library/Frameworks/R.framework/Versions/4.5-x86_64/Resources/library/preprocessCore/include' -I/opt/R/x86_64/include -fPIC -falign-functions=64 -Wall -g -O2 -c threestep_summary.c -o threestep_summary.o
threestep_summary.c:73:7: warning: variable 'first_ind' set but not used [-Wunused-but-set-variable]
int first_ind;
^
1 warning generated.
clang -arch x86_64 -I"/Library/Frameworks/R.framework/Resources/include" -DNDEBUG -I'/Library/Frameworks/R.framework/Versions/4.5-x86_64/Resources/library/preprocessCore/include' -I/opt/R/x86_64/include -fPIC -falign-functions=64 -Wall -g -O2 -c threestep_summary_methods.c -o threestep_summary_methods.o
clang -arch x86_64 -I"/Library/Frameworks/R.framework/Resources/include" -DNDEBUG -I'/Library/Frameworks/R.framework/Versions/4.5-x86_64/Resources/library/preprocessCore/include' -I/opt/R/x86_64/include -fPIC -falign-functions=64 -Wall -g -O2 -c transfns.c -o transfns.o
clang -arch x86_64 -dynamiclib -Wl,-headerpad_max_install_names -undefined dynamic_lookup -L/Library/Frameworks/R.framework/Resources/lib -L/opt/R/x86_64/lib -o affyPLM.so LESN.o PLM_avg_log.o PLM_biweight.o PLM_log_avg.o PLM_medianPM.o PLM_median_logPM.o PLM_medianpolish.o PLM_modelmatrix.o SCAB.o chipbackground.o common_types.o do_PLMrlm.o do_PLMrma.o do_PLMthreestep.o idealmismatch.o lm_threestep.o matrix_functions.o nthLargestPM.o preprocess.o psi_fns.o qnorm_probeset.o read_rmaexpress.o rlm_PLM.o rlm_threestep.o rmaPLM_pseudo.o rma_PLM.o rma_common.o scaling.o threestep.o threestep_PLM.o threestep_common.o threestep_summary.o threestep_summary_methods.o transfns.o -L/Library/Frameworks/R.framework/Resources/lib -lRlapack -L/Library/Frameworks/R.framework/Resources/lib -lRblas -L/opt/gfortran/lib/gcc/x86_64-apple-darwin20.0/14.2.0 -L/opt/gfortran/lib -lemutls_w -lheapt_w -lgfortran -lquadmath -lz -F/Library/Frameworks/R.framework/.. -framework R
installing to /Library/Frameworks/R.framework/Versions/4.5-x86_64/Resources/library/00LOCK-affyPLM/00new/affyPLM/libs
** R
** inst
** byte-compile and prepare package for lazy loading
** help
*** installing help indices
** building package indices
** installing vignettes
** testing if installed package can be loaded from temporary location
** checking absolute paths in shared objects and dynamic libraries
** testing if installed package can be loaded from final location
** testing if installed package keeps a record of temporary installation path
* DONE (affyPLM)