| Back to Multiple platform build/check report for BioC 3.21: simplified long |
|
This page was generated on 2025-10-16 11:38 -0400 (Thu, 16 Oct 2025).
| Hostname | OS | Arch (*) | R version | Installed pkgs |
|---|---|---|---|---|
| nebbiolo1 | Linux (Ubuntu 24.04.3 LTS) | x86_64 | 4.5.1 (2025-06-13) -- "Great Square Root" | 4833 |
| merida1 | macOS 12.7.6 Monterey | x86_64 | 4.5.1 RC (2025-06-05 r88288) -- "Great Square Root" | 4614 |
| kjohnson1 | macOS 13.7.5 Ventura | arm64 | 4.5.1 Patched (2025-06-14 r88325) -- "Great Square Root" | 4555 |
| kunpeng2 | Linux (openEuler 24.03 LTS) | aarch64 | R Under development (unstable) (2025-02-19 r87757) -- "Unsuffered Consequences" | 4586 |
| Click on any hostname to see more info about the system (e.g. compilers) (*) as reported by 'uname -p', except on Windows and Mac OS X | ||||
| Package 2084/2341 | Hostname | OS / Arch | INSTALL | BUILD | CHECK | BUILD BIN | ||||||||
| SplineDV 1.0.0 (landing page) Shreyan Gupta
| nebbiolo1 | Linux (Ubuntu 24.04.3 LTS) / x86_64 | OK | OK | OK | |||||||||
| merida1 | macOS 12.7.6 Monterey / x86_64 | OK | OK | OK | OK | |||||||||
| kjohnson1 | macOS 13.7.5 Ventura / arm64 | OK | OK | OK | OK | |||||||||
| kunpeng2 | Linux (openEuler 24.03 LTS) / aarch64 | OK | OK | OK | ||||||||||
|
To the developers/maintainers of the SplineDV package: - Allow up to 24 hours (and sometimes 48 hours) for your latest push to git@git.bioconductor.org:packages/SplineDV.git to reflect on this report. See Troubleshooting Build Report for more information. - Use the following Renviron settings to reproduce errors and warnings. - If 'R CMD check' started to fail recently on the Linux builder(s) over a missing dependency, add the missing dependency to 'Suggests:' in your DESCRIPTION file. See Renviron.bioc for more information. |
| Package: SplineDV |
| Version: 1.0.0 |
| Command: /home/biocbuild/bbs-3.21-bioc/R/bin/R CMD check --install=check:SplineDV.install-out.txt --library=/home/biocbuild/bbs-3.21-bioc/R/site-library --timings SplineDV_1.0.0.tar.gz |
| StartedAt: 2025-10-16 04:00:41 -0400 (Thu, 16 Oct 2025) |
| EndedAt: 2025-10-16 04:06:44 -0400 (Thu, 16 Oct 2025) |
| EllapsedTime: 363.4 seconds |
| RetCode: 0 |
| Status: OK |
| CheckDir: SplineDV.Rcheck |
| Warnings: 0 |
##############################################################################
##############################################################################
###
### Running command:
###
### /home/biocbuild/bbs-3.21-bioc/R/bin/R CMD check --install=check:SplineDV.install-out.txt --library=/home/biocbuild/bbs-3.21-bioc/R/site-library --timings SplineDV_1.0.0.tar.gz
###
##############################################################################
##############################################################################
* using log directory ‘/home/biocbuild/bbs-3.21-bioc/meat/SplineDV.Rcheck’
* using R version 4.5.1 (2025-06-13)
* using platform: x86_64-pc-linux-gnu
* R was compiled by
gcc (Ubuntu 13.3.0-6ubuntu2~24.04) 13.3.0
GNU Fortran (Ubuntu 13.3.0-6ubuntu2~24.04) 13.3.0
* running under: Ubuntu 24.04.3 LTS
* using session charset: UTF-8
* checking for file ‘SplineDV/DESCRIPTION’ ... OK
* checking extension type ... Package
* this is package ‘SplineDV’ version ‘1.0.0’
* package encoding: UTF-8
* checking package namespace information ... OK
* checking package dependencies ... OK
* checking if this is a source package ... OK
* checking if there is a namespace ... OK
* checking for hidden files and directories ... OK
* checking for portable file names ... OK
* checking for sufficient/correct file permissions ... OK
* checking whether package ‘SplineDV’ can be installed ... OK
* checking installed package size ... OK
* checking package directory ... OK
* checking ‘build’ directory ... OK
* checking DESCRIPTION meta-information ... OK
* checking top-level files ... NOTE
File
LICENSE
is not mentioned in the DESCRIPTION file.
* checking for left-over files ... OK
* checking index information ... OK
* checking package subdirectories ... OK
* checking code files for non-ASCII characters ... OK
* checking R files for syntax errors ... OK
* checking whether the package can be loaded ... OK
* checking whether the package can be loaded with stated dependencies ... OK
* checking whether the package can be unloaded cleanly ... OK
* checking whether the namespace can be loaded with stated dependencies ... OK
* checking whether the namespace can be unloaded cleanly ... OK
* checking loading without being on the library search path ... OK
* checking dependencies in R code ... OK
* checking S3 generic/method consistency ... OK
* checking replacement functions ... OK
* checking foreign function calls ... OK
* checking R code for possible problems ... NOTE
DVPlot: no visible binding for global variable ‘mu1’
DVPlot: no visible binding for global variable ‘mu2’
HVGPlot: no visible binding for global variable ‘logMean’
splineDV: no visible binding for global variable ‘X_dvecx’
splineDV: no visible binding for global variable ‘X_dvecy’
splineDV: no visible binding for global variable ‘X_dvecz’
splineDV: no visible binding for global variable ‘Y_dvecx’
splineDV: no visible binding for global variable ‘Y_dvecy’
splineDV: no visible binding for global variable ‘Y_dvecz’
splineDV: no visible binding for global variable ‘dist1’
splineDV: no visible binding for global variable ‘dist2’
splineDV: no visible binding for global variable ‘vectorDist’
splineDV: no visible binding for global variable ‘Z’
splineDV: no visible binding for global variable ‘Pval’
splineDV: no visible binding for global variable ‘genes’
splineDV: no visible binding for global variable ‘mu1’
splineDV: no visible binding for global variable ‘mu2’
splineDV: no visible binding for global variable ‘CV1’
splineDV: no visible binding for global variable ‘CV2’
splineDV: no visible binding for global variable ‘drop1’
splineDV: no visible binding for global variable ‘drop2’
splineDV: no visible binding for global variable ‘X_splinex’
splineDV: no visible binding for global variable ‘X_spliney’
splineDV: no visible binding for global variable ‘X_splinez’
splineDV: no visible binding for global variable ‘Y_splinex’
splineDV: no visible binding for global variable ‘Y_spliney’
splineDV: no visible binding for global variable ‘Y_splinez’
splineDV: no visible binding for global variable ‘Direction’
splineHVG: no visible binding for global variable ‘logMean’
splineHVG: no visible binding for global variable ‘logCV’
splineHVG: no visible binding for global variable ‘spliney’
splineHVG: no visible binding for global variable ‘Distance’
Undefined global functions or variables:
CV1 CV2 Direction Distance Pval X_dvecx X_dvecy X_dvecz X_splinex
X_spliney X_splinez Y_dvecx Y_dvecy Y_dvecz Y_splinex Y_spliney
Y_splinez Z dist1 dist2 drop1 drop2 genes logCV logMean mu1 mu2
spliney vectorDist
Consider adding
importFrom("stats", "drop1")
to your NAMESPACE file.
* checking Rd files ... OK
* checking Rd metadata ... OK
* checking Rd cross-references ... OK
* checking for missing documentation entries ... OK
* checking for code/documentation mismatches ... OK
* checking Rd \usage sections ... OK
* checking Rd contents ... OK
* checking for unstated dependencies in examples ... OK
* checking files in ‘vignettes’ ... OK
* checking examples ... OK
* checking for unstated dependencies in ‘tests’ ... OK
* checking tests ...
Running ‘testthat.R’
OK
* checking for unstated dependencies in vignettes ... OK
* checking package vignettes ... OK
* checking re-building of vignette outputs ... OK
* checking PDF version of manual ... OK
* DONE
Status: 2 NOTEs
See
‘/home/biocbuild/bbs-3.21-bioc/meat/SplineDV.Rcheck/00check.log’
for details.
SplineDV.Rcheck/00install.out
############################################################################## ############################################################################## ### ### Running command: ### ### /home/biocbuild/bbs-3.21-bioc/R/bin/R CMD INSTALL SplineDV ### ############################################################################## ############################################################################## * installing to library ‘/home/biocbuild/bbs-3.21-bioc/R/site-library’ * installing *source* package ‘SplineDV’ ... ** this is package ‘SplineDV’ version ‘1.0.0’ ** using staged installation ** R ** inst ** byte-compile and prepare package for lazy loading ** help *** installing help indices ** building package indices ** installing vignettes ** testing if installed package can be loaded from temporary location ** testing if installed package can be loaded from final location ** testing if installed package keeps a record of temporary installation path * DONE (SplineDV)
SplineDV.Rcheck/tests/testthat.Rout
R version 4.5.1 (2025-06-13) -- "Great Square Root"
Copyright (C) 2025 The R Foundation for Statistical Computing
Platform: x86_64-pc-linux-gnu
R is free software and comes with ABSOLUTELY NO WARRANTY.
You are welcome to redistribute it under certain conditions.
Type 'license()' or 'licence()' for distribution details.
R is a collaborative project with many contributors.
Type 'contributors()' for more information and
'citation()' on how to cite R or R packages in publications.
Type 'demo()' for some demos, 'help()' for on-line help, or
'help.start()' for an HTML browser interface to help.
Type 'q()' to quit R.
> # This file is part of the standard setup for testthat.
> # It is recommended that you do not modify it.
> #
> # Where should you do additional test configuration?
> # Learn more about the roles of various files in:
> # * https://r-pkgs.org/testing-design.html#sec-tests-files-overview
> # * https://testthat.r-lib.org/articles/special-files.html
>
> library(testthat)
> library(SplineDV)
>
> test_check("SplineDV")
Computing distances for Data 1
Performing normalization...
Computing distances...
HVG computed
Computing distances for Data 2
Performing normalization...
Computing distances...
HVG computed
QC done
Performing normalization...
Computing distances...
HVG computed
[ FAIL 0 | WARN 0 | SKIP 0 | PASS 4 ]
>
> proc.time()
user system elapsed
14.672 0.782 15.444
SplineDV.Rcheck/SplineDV-Ex.timings
| name | user | system | elapsed | |
| DVPlot | 4.488 | 0.107 | 4.596 | |
| HVGPlot | 1.606 | 0.028 | 1.634 | |
| hvgQC | 0.262 | 0.000 | 0.262 | |
| splineDV | 3.188 | 0.031 | 3.220 | |
| splineHVG | 0.923 | 0.001 | 0.925 | |