Back to Multiple platform build/check report for BioC 3.22:   simplified   long
ABCDEFGHIJKLMNOPQ[R]STUVWXYZ

This page was generated on 2025-11-20 12:05 -0500 (Thu, 20 Nov 2025).

HostnameOSArch (*)R versionInstalled pkgs
nebbiolo2Linux (Ubuntu 24.04.3 LTS)x86_644.5.2 (2025-10-31) -- "[Not] Part in a Rumble" 4615
merida1macOS 12.7.6 Montereyx86_644.5.2 Patched (2025-11-05 r88990) -- "[Not] Part in a Rumble" 4610
kjohnson1macOS 13.7.5 Venturaarm644.5.2 Patched (2025-11-04 r88984) -- "[Not] Part in a Rumble" 4598
taishanLinux (openEuler 24.03 LTS)aarch644.5.0 (2025-04-11) -- "How About a Twenty-Six" 4668
Click on any hostname to see more info about the system (e.g. compilers)      (*) as reported by 'uname -p', except on Windows and Mac OS X

Package 1733/2361HostnameOS / ArchINSTALLBUILDCHECKBUILD BIN
Rcpi 1.46.0  (landing page)
Nan Xiao
Snapshot Date: 2025-11-17 13:45 -0500 (Mon, 17 Nov 2025)
git_url: https://git.bioconductor.org/packages/Rcpi
git_branch: RELEASE_3_22
git_last_commit: c114c2a
git_last_commit_date: 2025-10-29 10:18:37 -0500 (Wed, 29 Oct 2025)
nebbiolo2Linux (Ubuntu 24.04.3 LTS) / x86_64  OK    OK    OK  UNNEEDED, same version is already published
merida1macOS 12.7.6 Monterey / x86_64  OK    OK    OK    OK  UNNEEDED, same version is already published
kjohnson1macOS 13.7.5 Ventura / arm64  OK    OK    OK    OK  UNNEEDED, same version is already published
taishanLinux (openEuler 24.03 LTS) / aarch64  OK    OK    OK  


CHECK results for Rcpi on merida1

To the developers/maintainers of the Rcpi package:
- Allow up to 24 hours (and sometimes 48 hours) for your latest push to git@git.bioconductor.org:packages/Rcpi.git to reflect on this report. See Troubleshooting Build Report for more information.
- Use the following Renviron settings to reproduce errors and warnings.
- If 'R CMD check' started to fail recently on the Linux builder(s) over a missing dependency, add the missing dependency to 'Suggests:' in your DESCRIPTION file. See Renviron.bioc for more information.

raw results


Summary

Package: Rcpi
Version: 1.46.0
Command: /Library/Frameworks/R.framework/Resources/bin/R CMD check --install=check:Rcpi.install-out.txt --library=/Library/Frameworks/R.framework/Resources/library --no-vignettes --timings Rcpi_1.46.0.tar.gz
StartedAt: 2025-11-18 12:42:01 -0500 (Tue, 18 Nov 2025)
EndedAt: 2025-11-18 12:46:26 -0500 (Tue, 18 Nov 2025)
EllapsedTime: 264.3 seconds
RetCode: 0
Status:   OK  
CheckDir: Rcpi.Rcheck
Warnings: 0

Command output

##############################################################################
##############################################################################
###
### Running command:
###
###   /Library/Frameworks/R.framework/Resources/bin/R CMD check --install=check:Rcpi.install-out.txt --library=/Library/Frameworks/R.framework/Resources/library --no-vignettes --timings Rcpi_1.46.0.tar.gz
###
##############################################################################
##############################################################################


* using log directory ‘/Users/biocbuild/bbs-3.22-bioc/meat/Rcpi.Rcheck’
* using R version 4.5.2 Patched (2025-11-05 r88990)
* using platform: x86_64-apple-darwin20
* R was compiled by
    Apple clang version 14.0.0 (clang-1400.0.29.202)
    GNU Fortran (GCC) 14.2.0
* running under: macOS Monterey 12.7.6
* using session charset: UTF-8
* using option ‘--no-vignettes’
* checking for file ‘Rcpi/DESCRIPTION’ ... OK
* checking extension type ... Package
* this is package ‘Rcpi’ version ‘1.46.0’
* package encoding: UTF-8
* checking package namespace information ... OK
* checking package dependencies ... OK
* checking if this is a source package ... OK
* checking if there is a namespace ... OK
* checking for hidden files and directories ... OK
* checking for portable file names ... OK
* checking for sufficient/correct file permissions ... OK
* checking whether package ‘Rcpi’ can be installed ... OK
* checking installed package size ... OK
* checking package directory ... OK
* checking ‘build’ directory ... OK
* checking DESCRIPTION meta-information ... OK
* checking top-level files ... OK
* checking for left-over files ... OK
* checking index information ... OK
* checking package subdirectories ... OK
* checking code files for non-ASCII characters ... OK
* checking R files for syntax errors ... OK
* checking whether the package can be loaded ... OK
* checking whether the package can be loaded with stated dependencies ... OK
* checking whether the package can be unloaded cleanly ... OK
* checking whether the namespace can be loaded with stated dependencies ... OK
* checking whether the namespace can be unloaded cleanly ... OK
* checking dependencies in R code ... OK
* checking S3 generic/method consistency ... OK
* checking replacement functions ... OK
* checking foreign function calls ... OK
* checking R code for possible problems ... OK
* checking Rd files ... OK
* checking Rd metadata ... OK
* checking Rd cross-references ... OK
* checking for missing documentation entries ... OK
* checking for code/documentation mismatches ... OK
* checking Rd \usage sections ... OK
* checking Rd contents ... OK
* checking for unstated dependencies in examples ... OK
* checking contents of ‘data’ directory ... OK
* checking data for non-ASCII characters ... OK
* checking LazyData ... OK
* checking data for ASCII and uncompressed saves ... OK
* checking files in ‘vignettes’ ... OK
* checking examples ... OK
* checking for unstated dependencies in ‘tests’ ... OK
* checking tests ...
  Running ‘testthat.R’
 OK
* checking for unstated dependencies in vignettes ... OK
* checking package vignettes ... OK
* checking running R code from vignettes ... SKIPPED
* checking re-building of vignette outputs ... SKIPPED
* checking PDF version of manual ... OK
* DONE

Status: OK


Installation output

Rcpi.Rcheck/00install.out

##############################################################################
##############################################################################
###
### Running command:
###
###   /Library/Frameworks/R.framework/Resources/bin/R CMD INSTALL Rcpi
###
##############################################################################
##############################################################################


* installing to library ‘/Library/Frameworks/R.framework/Versions/4.5-x86_64/Resources/library’
* installing *source* package ‘Rcpi’ ...
** this is package ‘Rcpi’ version ‘1.46.0’
** using staged installation
** R
** data
*** moving datasets to lazyload DB
** inst
** byte-compile and prepare package for lazy loading
** help
*** installing help indices
*** copying figures
** building package indices
** installing vignettes
** testing if installed package can be loaded from temporary location
** testing if installed package can be loaded from final location
** testing if installed package keeps a record of temporary installation path
* DONE (Rcpi)

Tests output

Rcpi.Rcheck/tests/testthat.Rout


R version 4.5.2 Patched (2025-11-05 r88990) -- "[Not] Part in a Rumble"
Copyright (C) 2025 The R Foundation for Statistical Computing
Platform: x86_64-apple-darwin20

R is free software and comes with ABSOLUTELY NO WARRANTY.
You are welcome to redistribute it under certain conditions.
Type 'license()' or 'licence()' for distribution details.

R is a collaborative project with many contributors.
Type 'contributors()' for more information and
'citation()' on how to cite R or R packages in publications.

Type 'demo()' for some demos, 'help()' for on-line help, or
'help.start()' for an HTML browser interface to help.
Type 'q()' to quit R.

> library(testthat)
> library(Rcpi)

> 
> test_check("Rcpi")
[ FAIL 0 | WARN 0 | SKIP 0 | PASS 22 ]
> 
> proc.time()
   user  system elapsed 
 13.159   1.022  12.553 

Example timings

Rcpi.Rcheck/Rcpi-Ex.timings

nameusersystemelapsed
AA2DACOR0.0020.0020.005
AA3DMoRSE0.0010.0020.004
AAACF0.0010.0020.004
AABLOSUM1000.0020.0020.004
AABLOSUM450.0010.0030.003
AABLOSUM500.0020.0020.004
AABLOSUM620.0010.0020.004
AABLOSUM800.0020.0020.004
AABurden0.0010.0020.004
AACPSA0.0020.0020.003
AAConn0.0010.0030.005
AAConst0.0020.0020.004
AADescAll0.0010.0020.004
AAEdgeAdj0.0010.0020.003
AAEigIdx0.0020.0020.003
AAFGC0.0010.0020.004
AAGETAWAY0.0020.0020.005
AAGeom0.0010.0020.003
AAInfo0.0020.0020.003
AAMOE2D0.0010.0020.004
AAMOE3D0.0010.0020.005
AAMetaInfo0.0020.0020.004
AAMolProp0.0010.0020.003
AAPAM1200.0010.0010.002
AAPAM2500.0020.0020.003
AAPAM300.0010.0020.003
AAPAM400.0010.0020.004
AAPAM700.0020.0020.004
AARDF0.0010.0030.005
AARandic0.0020.0020.003
AATopo0.0010.0020.004
AATopoChg0.0020.0020.004
AAWHIM0.0010.0020.005
AAWalk0.0020.0020.005
AAindex0.0010.0020.004
OptAA3d0.0000.0000.001
acc0.0170.0140.031
calcDrugFPSim000
calcDrugMCSSim0.0070.0060.015
calcParProtGOSim0.0000.0010.001
calcParProtSeqSim0.0110.0050.017
calcTwoProtGOSim0.0000.0010.001
calcTwoProtSeqSim0.0030.0020.005
checkProt0.0030.0010.003
convMolFormat0.0020.0010.003
extractDrugAIO0.0010.0010.003
extractDrugALOGP0.0020.0010.002
extractDrugAminoAcidCount0.0010.0010.002
extractDrugApol0.0010.0000.002
extractDrugAromaticAtomsCount0.0020.0010.003
extractDrugAromaticBondsCount0.0020.0000.002
extractDrugAtomCount0.0010.0010.002
extractDrugAutocorrelationCharge0.0020.0000.002
extractDrugAutocorrelationMass0.0020.0010.002
extractDrugAutocorrelationPolarizability0.0010.0010.003
extractDrugBCUT0.0020.0010.002
extractDrugBPol0.0010.0010.002
extractDrugBondCount0.0020.0010.003
extractDrugCPSA0.0010.0000.002
extractDrugCarbonTypes0.0010.0010.003
extractDrugChiChain0.0020.0010.003
extractDrugChiCluster0.0010.0010.003
extractDrugChiPath0.0020.0000.002
extractDrugChiPathCluster0.0020.0010.002
extractDrugDescOB0.0210.0090.032
extractDrugECI0.0020.0000.003
extractDrugEstate0.0010.0010.003
extractDrugEstateComplete0.0020.0010.003
extractDrugExtended0.0010.0010.003
extractDrugExtendedComplete0.0020.0010.002
extractDrugFMF0.0010.0010.002
extractDrugFragmentComplexity0.0010.0000.002
extractDrugGraph0.0020.0010.002
extractDrugGraphComplete0.0010.0000.002
extractDrugGravitationalIndex0.0010.0010.002
extractDrugHBondAcceptorCount0.0020.0010.002
extractDrugHBondDonorCount0.0020.0000.002
extractDrugHybridization0.0010.0010.003
extractDrugHybridizationComplete0.0020.0010.002
extractDrugHybridizationRatio0.0010.0010.002
extractDrugIPMolecularLearning0.0020.0010.002
extractDrugKR0.0010.0000.002
extractDrugKRComplete0.0020.0010.002
extractDrugKappaShapeIndices0.0010.0010.003
extractDrugKierHallSmarts0.0020.0000.003
extractDrugLargestChain0.0010.0010.003
extractDrugLargestPiSystem0.0020.0010.002
extractDrugLengthOverBreadth0.0010.0000.002
extractDrugLongestAliphaticChain0.0020.0010.002
extractDrugMACCS0.0010.0000.002
extractDrugMACCSComplete0.0010.0010.002
extractDrugMDE0.0010.0000.002
extractDrugMannholdLogP0.0010.0010.002
extractDrugMomentOfInertia0.0020.0000.002
extractDrugOBFP20.0110.0050.016
extractDrugOBFP30.0180.0100.028
extractDrugOBFP40.0110.0060.016
extractDrugOBMACCS0.1070.0090.119
extractDrugPetitjeanNumber0.0010.0010.002
extractDrugPetitjeanShapeIndex0.0020.0010.002
extractDrugPubChem0.0010.0010.002
extractDrugPubChemComplete0.0010.0010.002
extractDrugRotatableBondsCount0.0020.0000.003
extractDrugRuleOfFive0.0010.0010.002
extractDrugShortestPath0.0020.0010.002
extractDrugShortestPathComplete0.0010.0010.002
extractDrugStandard0.0020.0010.002
extractDrugStandardComplete0.0020.0010.002
extractDrugTPSA0.0010.0010.002
extractDrugVABC0.0020.0010.002
extractDrugVAdjMa0.0010.0010.002
extractDrugWHIM0.0020.0010.002
extractDrugWeight0.0010.0010.002
extractDrugWeightedPath0.0010.0010.002
extractDrugWienerNumbers0.0020.0010.002
extractDrugXLogP0.0020.0010.002
extractDrugZagrebIndex0.0010.0010.002
extractPCMBLOSUM0.0170.0030.020
extractPCMDescScales0.0200.0040.024
extractPCMFAScales0.0280.0060.036
extractPCMMDSScales0.0170.0050.023
extractPCMPropScales0.0300.0040.035
extractPCMScales0.0300.0050.036
extractProtAAC0.0040.0010.005
extractProtAPAAC1.8150.0561.903
extractProtCTDC0.0040.0020.006
extractProtCTDD0.0080.0050.013
extractProtCTDT0.0090.0020.012
extractProtCTriad0.1880.0270.218
extractProtDC0.0070.0110.019
extractProtGeary0.2920.0260.322
extractProtMoran0.2940.0220.331
extractProtMoreauBroto0.2760.0210.299
extractProtPAAC1.1700.0161.197
extractProtPSSM0.0020.0000.003
extractProtPSSMAcc0.0020.0010.002
extractProtPSSMFeature0.0020.0000.003
extractProtQSO2.1420.0242.198
extractProtSOCN2.1310.0172.160
extractProtTC0.0870.2420.331
getCPI0.0050.0040.009
getDrug0.0000.0000.001
getFASTAFromKEGG0.0010.0000.000
getFASTAFromUniProt0.0000.0010.001
getMolFromCAS0.0000.0010.001
getMolFromChEMBL0.0000.0010.001
getMolFromDrugBank000
getMolFromKEGG000
getMolFromPubChem0.0000.0000.001
getPDBFromRCSBPDB0.0010.0000.000
getPPI0.0060.0050.021
getProt000
getSeqFromKEGG000
getSeqFromRCSBPDB000
getSeqFromUniProt0.0000.0000.001
getSmiFromChEMBL0.0000.0000.001
getSmiFromDrugBank0.0000.0000.001
getSmiFromKEGG0.0000.0000.001
getSmiFromPubChem0.0010.0000.001
readFASTA0.0030.0010.004
readMolFromSDF0.0040.0020.006
readMolFromSmi0.0010.0000.003
readPDB1.5580.0111.606
searchDrug0.0020.0020.004
segProt0.0040.0040.009