| Back to Multiple platform build/check report for BioC 3.21: simplified long |
|
This page was generated on 2025-10-16 11:41 -0400 (Thu, 16 Oct 2025).
| Hostname | OS | Arch (*) | R version | Installed pkgs |
|---|---|---|---|---|
| nebbiolo1 | Linux (Ubuntu 24.04.3 LTS) | x86_64 | 4.5.1 (2025-06-13) -- "Great Square Root" | 4833 |
| merida1 | macOS 12.7.6 Monterey | x86_64 | 4.5.1 RC (2025-06-05 r88288) -- "Great Square Root" | 4614 |
| kjohnson1 | macOS 13.7.5 Ventura | arm64 | 4.5.1 Patched (2025-06-14 r88325) -- "Great Square Root" | 4555 |
| kunpeng2 | Linux (openEuler 24.03 LTS) | aarch64 | R Under development (unstable) (2025-02-19 r87757) -- "Unsuffered Consequences" | 4586 |
| Click on any hostname to see more info about the system (e.g. compilers) (*) as reported by 'uname -p', except on Windows and Mac OS X | ||||
| Package 1798/2341 | Hostname | OS / Arch | INSTALL | BUILD | CHECK | BUILD BIN | ||||||||
| RMassBank 3.18.0 (landing page) RMassBank at Eawag
| nebbiolo1 | Linux (Ubuntu 24.04.3 LTS) / x86_64 | OK | OK | OK | |||||||||
| merida1 | macOS 12.7.6 Monterey / x86_64 | OK | OK | OK | OK | |||||||||
| kjohnson1 | macOS 13.7.5 Ventura / arm64 | OK | OK | OK | OK | |||||||||
| kunpeng2 | Linux (openEuler 24.03 LTS) / aarch64 | OK | OK | OK | ||||||||||
|
To the developers/maintainers of the RMassBank package: - Allow up to 24 hours (and sometimes 48 hours) for your latest push to git@git.bioconductor.org:packages/RMassBank.git to reflect on this report. See Troubleshooting Build Report for more information. - Use the following Renviron settings to reproduce errors and warnings. - If 'R CMD check' started to fail recently on the Linux builder(s) over a missing dependency, add the missing dependency to 'Suggests:' in your DESCRIPTION file. See Renviron.bioc for more information. - See Martin Grigorov's blog post for how to debug Linux ARM64 related issues on a x86_64 host. |
| Package: RMassBank |
| Version: 3.18.0 |
| Command: /home/biocbuild/R/R/bin/R CMD check --install=check:RMassBank.install-out.txt --library=/home/biocbuild/R/R/site-library --no-vignettes --timings RMassBank_3.18.0.tar.gz |
| StartedAt: 2025-10-14 13:22:57 -0000 (Tue, 14 Oct 2025) |
| EndedAt: 2025-10-14 13:31:20 -0000 (Tue, 14 Oct 2025) |
| EllapsedTime: 502.5 seconds |
| RetCode: 0 |
| Status: OK |
| CheckDir: RMassBank.Rcheck |
| Warnings: 0 |
##############################################################################
##############################################################################
###
### Running command:
###
### /home/biocbuild/R/R/bin/R CMD check --install=check:RMassBank.install-out.txt --library=/home/biocbuild/R/R/site-library --no-vignettes --timings RMassBank_3.18.0.tar.gz
###
##############################################################################
##############################################################################
* using log directory ‘/home/biocbuild/bbs-3.21-bioc/meat/RMassBank.Rcheck’
* using R Under development (unstable) (2025-02-19 r87757)
* using platform: aarch64-unknown-linux-gnu
* R was compiled by
aarch64-unknown-linux-gnu-gcc (GCC) 14.2.0
GNU Fortran (GCC) 14.2.0
* running under: openEuler 24.03 (LTS-SP1)
* using session charset: UTF-8
* using option ‘--no-vignettes’
* checking for file ‘RMassBank/DESCRIPTION’ ... OK
* checking extension type ... Package
* this is package ‘RMassBank’ version ‘3.18.0’
* package encoding: UTF-8
* checking package namespace information ... OK
* checking package dependencies ... INFO
Imports includes 25 non-default packages.
Importing from so many packages makes the package vulnerable to any of
them becoming unavailable. Move as many as possible to Suggests and
use conditionally.
* checking if this is a source package ... OK
* checking if there is a namespace ... OK
* checking for hidden files and directories ... NOTE
Found the following hidden files and directories:
.travis.yml
These were most likely included in error. See section ‘Package
structure’ in the ‘Writing R Extensions’ manual.
* checking for portable file names ... OK
* checking for sufficient/correct file permissions ... OK
* checking whether package ‘RMassBank’ can be installed ... OK
* checking installed package size ... OK
* checking package directory ... OK
* checking ‘build’ directory ... OK
* checking DESCRIPTION meta-information ... OK
* checking top-level files ... OK
* checking for left-over files ... OK
* checking index information ... OK
* checking package subdirectories ... OK
* checking code files for non-ASCII characters ... OK
* checking R files for syntax errors ... OK
* checking whether the package can be loaded ... OK
* checking whether the package can be loaded with stated dependencies ... OK
* checking whether the package can be unloaded cleanly ... OK
* checking whether the namespace can be loaded with stated dependencies ... OK
* checking whether the namespace can be unloaded cleanly ... OK
* checking loading without being on the library search path ... OK
* checking whether startup messages can be suppressed ... OK
* checking dependencies in R code ... OK
* checking S3 generic/method consistency ... OK
* checking replacement functions ... OK
* checking foreign function calls ... OK
* checking R code for possible problems ... OK
* checking Rd files ... NOTE
checkRd: (-1) RmbSettings.Rd:11-16: Lost braces in \itemize; meant \describe ?
checkRd: (-1) RmbSettings.Rd:17-20: Lost braces in \itemize; meant \describe ?
checkRd: (-1) RmbSettings.Rd:21-27: Lost braces in \itemize; meant \describe ?
checkRd: (-1) RmbSettings.Rd:28-31: Lost braces in \itemize; meant \describe ?
checkRd: (-1) RmbSettings.Rd:32-35: Lost braces in \itemize; meant \describe ?
checkRd: (-1) RmbSettings.Rd:36-59: Lost braces in \itemize; meant \describe ?
checkRd: (-1) RmbSettings.Rd:60-62: Lost braces in \itemize; meant \describe ?
checkRd: (-1) RmbSettings.Rd:63-67: Lost braces in \itemize; meant \describe ?
checkRd: (-1) RmbSettings.Rd:68-72: Lost braces in \itemize; meant \describe ?
checkRd: (-1) RmbSettings.Rd:73-75: Lost braces in \itemize; meant \describe ?
checkRd: (-1) RmbSettings.Rd:76-78: Lost braces in \itemize; meant \describe ?
checkRd: (-1) RmbSettings.Rd:79-81: Lost braces in \itemize; meant \describe ?
checkRd: (-1) RmbSettings.Rd:82-86: Lost braces in \itemize; meant \describe ?
checkRd: (-1) RmbSettings.Rd:87-89: Lost braces in \itemize; meant \describe ?
checkRd: (-1) RmbSettings.Rd:90-99: Lost braces in \itemize; meant \describe ?
checkRd: (-1) RmbSettings.Rd:100-134: Lost braces in \itemize; meant \describe ?
checkRd: (-1) RmbSettings.Rd:135-149: Lost braces in \itemize; meant \describe ?
checkRd: (-1) checkIsotopes.Rd:51-53: Lost braces in \itemize; meant \describe ?
checkRd: (-1) filterPeaksMultiplicity.Rd:22-23: Lost braces in \itemize; \value handles \item{}{} directly
checkRd: (-1) findMsMsHR.Rd:49: Lost braces
49 | to use for formula lookup. Note: In \\code{findMsMsHR.mass}, this is entirely optional and
| ^
* checking Rd metadata ... OK
* checking Rd cross-references ... NOTE
Found the following Rd file(s) with Rd \link{} targets missing package
anchors:
RmbSpectrum2-class.Rd: generate.formula
buildRecord.Rd: normalize
getMolecule.Rd: parse.smiles
to.limits.rcdk.Rd: generate.formula
Please provide package anchors for all Rd \link{} targets not in the
package itself and the base packages.
* checking for missing documentation entries ... OK
* checking for code/documentation mismatches ... OK
* checking Rd \usage sections ... OK
* checking Rd contents ... OK
* checking for unstated dependencies in examples ... OK
* checking line endings in Makefiles ... OK
* checking for GNU extensions in Makefiles ... OK
* checking include directives in Makefiles ... OK
* checking files in ‘vignettes’ ... OK
* checking examples ... OK
* checking for unstated dependencies in ‘tests’ ... OK
* checking tests ...
Running ‘doRUnit.R’
OK
* checking for unstated dependencies in vignettes ... OK
* checking package vignettes ... OK
* checking running R code from vignettes ... SKIPPED
* checking re-building of vignette outputs ... SKIPPED
* checking PDF version of manual ... OK
* DONE
Status: 3 NOTEs
See
‘/home/biocbuild/bbs-3.21-bioc/meat/RMassBank.Rcheck/00check.log’
for details.
RMassBank.Rcheck/00install.out
############################################################################## ############################################################################## ### ### Running command: ### ### /home/biocbuild/R/R/bin/R CMD INSTALL RMassBank ### ############################################################################## ############################################################################## * installing to library ‘/home/biocbuild/R/R-devel_2025-02-19/site-library’ * installing *source* package ‘RMassBank’ ... ** this is package ‘RMassBank’ version ‘3.18.0’ ** using staged installation ** R ** inst ** byte-compile and prepare package for lazy loading ** help *** installing help indices ** building package indices ** installing vignettes ** testing if installed package can be loaded from temporary location ** testing if installed package can be loaded from final location ** testing if installed package keeps a record of temporary installation path * DONE (RMassBank)
RMassBank.Rcheck/tests/doRUnit.Rout
R Under development (unstable) (2025-02-19 r87757) -- "Unsuffered Consequences"
Copyright (C) 2025 The R Foundation for Statistical Computing
Platform: aarch64-unknown-linux-gnu
R is free software and comes with ABSOLUTELY NO WARRANTY.
You are welcome to redistribute it under certain conditions.
Type 'license()' or 'licence()' for distribution details.
R is a collaborative project with many contributors.
Type 'contributors()' for more information and
'citation()' on how to cite R or R packages in publications.
Type 'demo()' for some demos, 'help()' for on-line help, or
'help.start()' for an HTML browser interface to help.
Type 'q()' to quit R.
> #### doRUnit.R --- Run RUnit tests
> ####------------------------------------------------------------------------
>
> ### Structure borrowed from rcppgls:
> ### https://github.com/eddelbuettel/rcppgsl/blob/master/tests/doRUnit.R
>
> if(require("RUnit", quietly = TRUE)) {
+ if(require("RMassBankData", quietly = TRUE) && !(compareVersion(installed.packages()["RMassBankData","Version"],"1.99.0") == -1)) {
+ pkg <- "RMassBank"
+ print("Starting tests")
+ require(pkg, character.only=TRUE)
+
+ path <- system.file("unitTests", package = pkg)
+
+ stopifnot(file.exists(path), file.info(path.expand(path))$isdir)
+
+ source(file.path(path, "runTests.R"), echo = TRUE)
+ } else {
+ ## Taking this message out until the new RMassBankData is on bioc, just to avoid confusion.
+ # message("Package RMassBankData with version > 1.99 not available, cannot run unit tests")
+ }
+ } else {
+ message("Package RUnit not available, cannot run unit tests")
+ }
NULL
>
> proc.time()
user system elapsed
0.332 0.017 0.502
RMassBank.Rcheck/RMassBank-Ex.timings
| name | user | system | elapsed | |
| CAS2SMILES | 0.073 | 0.005 | 2.946 | |
| CTS.externalIdSubset | 0 | 0 | 0 | |
| CTS.externalIdTypes | 0 | 0 | 0 | |
| RmbDefaultSettings | 0.002 | 0.004 | 0.009 | |
| add.formula | 0.005 | 0.000 | 0.005 | |
| addMB | 0 | 0 | 0 | |
| addPeaks | 0 | 0 | 0 | |
| addPeaksManually | 0.001 | 0.000 | 0.000 | |
| aggregateSpectra | 0 | 0 | 0 | |
| analyzeMsMs | 0 | 0 | 0 | |
| annotator.default | 0 | 0 | 0 | |
| archiveResults | 0.013 | 0.000 | 0.013 | |
| cleanElnoise | 0 | 0 | 0 | |
| combineMultiplicities | 0 | 0 | 0 | |
| compoundlist2SDF | 0 | 0 | 0 | |
| createCompoundlist | 0 | 0 | 0 | |
| createMolfile | 0 | 0 | 0 | |
| dbe | 0.001 | 0.000 | 0.000 | |
| deprofile | 0.001 | 0.000 | 0.000 | |
| dot-parseTitleString | 0 | 0 | 0 | |
| filterCompoundlist | 0 | 0 | 0 | |
| filterLowaccResults | 0 | 0 | 0 | |
| filterMultiplicity | 0 | 0 | 0 | |
| filterPeakSatellites | 0.000 | 0.000 | 0.001 | |
| filterPeaksMultiplicity | 0 | 0 | 0 | |
| findMass | 0.942 | 0.054 | 0.745 | |
| findMsMsHR | 0 | 0 | 0 | |
| findMsMsHRperxcms | 0 | 0 | 0 | |
| findMz | 0 | 0 | 0 | |
| findMz.formula | 0.435 | 0.010 | 0.408 | |
| findProgress | 0 | 0 | 0 | |
| flatten | 0 | 0 | 0 | |
| formulastring.to.list | 0.001 | 0.000 | 0.001 | |
| gatherCCTE | 0 | 0 | 0 | |
| gatherData | 0 | 0 | 0 | |
| gatherDataBabel | 0 | 0 | 0 | |
| gatherDataUnknown | 0 | 0 | 0 | |
| gatherPubChem | 0 | 0 | 0 | |
| getCASRN | 0 | 0 | 0 | |
| getCSID | 0 | 0 | 0 | |
| getCactus | 0.033 | 0.004 | 1.362 | |
| getCtsKey | 0.017 | 0.001 | 2.564 | |
| getCtsRecord | 0.010 | 0.000 | 0.476 | |
| getDTXCID | 0 | 0 | 0 | |
| getDTXSID | 0 | 0 | 0 | |
| getDTXSMILES | 0 | 0 | 0 | |
| getField | 0 | 0 | 0 | |
| getMolecule | 0.067 | 0.005 | 0.073 | |
| getPcId | 0.017 | 0.000 | 1.614 | |
| getPrefName | 0 | 0 | 0 | |
| is.valid.formula | 0.000 | 0.000 | 0.001 | |
| loadInfolists | 0 | 0 | 0 | |
| loadList | 0 | 0 | 0 | |
| makeRecalibration | 0 | 0 | 0 | |
| mbWorkflow | 0 | 0 | 0 | |
| mergePeaks | 0 | 0 | 0 | |
| order.formula | 0.000 | 0.002 | 0.007 | |
| parseMassBank | 0 | 0 | 0 | |
| parseMbRecord | 0.000 | 0.000 | 0.001 | |
| plotMbWorkspaces | 0 | 0 | 0 | |
| ppm | 0 | 0 | 0 | |
| problematicPeaks | 0.174 | 0.012 | 0.375 | |
| reanalyzeFailpeaks | 0 | 0 | 0 | |
| recalibrate | 0.000 | 0.000 | 0.001 | |
| recalibrate.addMS1data | 0 | 0 | 0 | |
| smiles2mass | 0 | 0 | 0 | |
| to.limits.rcdk | 0.002 | 0.000 | 0.008 | |
| toMassbank | 0 | 0 | 0 | |
| toRMB | 0.001 | 0.000 | 0.000 | |
| updateHeader | 0.000 | 0.000 | 0.001 | |
| updateSettings | 0 | 0 | 0 | |
| validate | 0 | 0 | 0 | |