Back to Multiple platform build/check report for BioC 3.22:   simplified   long
ABCDEFGHIJKLMNOPQ[R]STUVWXYZ

This page was generated on 2025-11-24 12:05 -0500 (Mon, 24 Nov 2025).

HostnameOSArch (*)R versionInstalled pkgs
nebbiolo2Linux (Ubuntu 24.04.3 LTS)x86_644.5.2 (2025-10-31) -- "[Not] Part in a Rumble" 4873
merida1macOS 12.7.6 Montereyx86_644.5.2 Patched (2025-11-05 r88990) -- "[Not] Part in a Rumble" 4654
kjohnson1macOS 13.7.5 Venturaarm644.5.2 Patched (2025-11-04 r88984) -- "[Not] Part in a Rumble" 4600
taishanLinux (openEuler 24.03 LTS)aarch644.5.0 (2025-04-11) -- "How About a Twenty-Six" 4668
Click on any hostname to see more info about the system (e.g. compilers)      (*) as reported by 'uname -p', except on Windows and Mac OS X

Package 1738/2361HostnameOS / ArchINSTALLBUILDCHECKBUILD BIN
RCy3 2.30.0  (landing page)
Alex Pico
Snapshot Date: 2025-11-20 15:01 -0500 (Thu, 20 Nov 2025)
git_url: https://git.bioconductor.org/packages/RCy3
git_branch: RELEASE_3_22
git_last_commit: 0677632
git_last_commit_date: 2025-10-29 10:28:27 -0500 (Wed, 29 Oct 2025)
nebbiolo2Linux (Ubuntu 24.04.3 LTS) / x86_64  OK    OK    OK  UNNEEDED, same version is already published
merida1macOS 12.7.6 Monterey / x86_64  OK    OK    OK    OK  UNNEEDED, same version is already published
kjohnson1macOS 13.7.5 Ventura / arm64  OK    OK    OK    OK  UNNEEDED, same version is already published
taishanLinux (openEuler 24.03 LTS) / aarch64  OK    OK    OK  


CHECK results for RCy3 on merida1

To the developers/maintainers of the RCy3 package:
- Allow up to 24 hours (and sometimes 48 hours) for your latest push to git@git.bioconductor.org:packages/RCy3.git to reflect on this report. See Troubleshooting Build Report for more information.
- Use the following Renviron settings to reproduce errors and warnings.
- If 'R CMD check' started to fail recently on the Linux builder(s) over a missing dependency, add the missing dependency to 'Suggests:' in your DESCRIPTION file. See Renviron.bioc for more information.

raw results


Summary

Package: RCy3
Version: 2.30.0
Command: /Library/Frameworks/R.framework/Resources/bin/R CMD check --install=check:RCy3.install-out.txt --library=/Library/Frameworks/R.framework/Resources/library --no-vignettes --timings RCy3_2.30.0.tar.gz
StartedAt: 2025-11-21 10:14:40 -0500 (Fri, 21 Nov 2025)
EndedAt: 2025-11-21 10:17:37 -0500 (Fri, 21 Nov 2025)
EllapsedTime: 176.5 seconds
RetCode: 0
Status:   OK  
CheckDir: RCy3.Rcheck
Warnings: 0

Command output

##############################################################################
##############################################################################
###
### Running command:
###
###   /Library/Frameworks/R.framework/Resources/bin/R CMD check --install=check:RCy3.install-out.txt --library=/Library/Frameworks/R.framework/Resources/library --no-vignettes --timings RCy3_2.30.0.tar.gz
###
##############################################################################
##############################################################################


* using log directory ‘/Users/biocbuild/bbs-3.22-bioc/meat/RCy3.Rcheck’
* using R version 4.5.2 Patched (2025-11-05 r88990)
* using platform: x86_64-apple-darwin20
* R was compiled by
    Apple clang version 14.0.0 (clang-1400.0.29.202)
    GNU Fortran (GCC) 14.2.0
* running under: macOS Monterey 12.7.6
* using session charset: UTF-8
* using option ‘--no-vignettes’
* checking for file ‘RCy3/DESCRIPTION’ ... OK
* checking extension type ... Package
* this is package ‘RCy3’ version ‘2.30.0’
* package encoding: UTF-8
* checking package namespace information ... OK
* checking package dependencies ... OK
* checking if this is a source package ... OK
* checking if there is a namespace ... OK
* checking for hidden files and directories ... NOTE
Found the following hidden files and directories:
  .travis.yml
These were most likely included in error. See section ‘Package
structure’ in the ‘Writing R Extensions’ manual.
* checking for portable file names ... OK
* checking for sufficient/correct file permissions ... OK
* checking whether package ‘RCy3’ can be installed ... OK
* checking installed package size ... OK
* checking package directory ... OK
* checking ‘build’ directory ... OK
* checking DESCRIPTION meta-information ... NOTE
License stub is invalid DCF.
* checking top-level files ... OK
* checking for left-over files ... OK
* checking index information ... OK
* checking package subdirectories ... OK
* checking code files for non-ASCII characters ... OK
* checking R files for syntax errors ... OK
* checking whether the package can be loaded ... OK
* checking whether the package can be loaded with stated dependencies ... OK
* checking whether the package can be unloaded cleanly ... OK
* checking whether the namespace can be loaded with stated dependencies ... OK
* checking whether the namespace can be unloaded cleanly ... OK
* checking dependencies in R code ... OK
* checking S3 generic/method consistency ... OK
* checking replacement functions ... OK
* checking foreign function calls ... OK
* checking R code for possible problems ... NOTE
.checkHexColor: no visible global function definition for ‘colors’
.edgeNameToEdgeSUID: no visible binding for global variable ‘SUID’
.nodeNameToNodeSUID: no visible binding for global variable ‘SUID’
createNetworkFromDataFrames: no visible binding for global variable
  ‘SUID’
Undefined global functions or variables:
  SUID colors
Consider adding
  importFrom("grDevices", "colors")
to your NAMESPACE file.
* checking Rd files ... NOTE
checkRd: (-1) importFileFromUrl.Rd:24: Lost braces; missing escapes or markup?
    24 | dict: {'filePath': <new file's absolute path in Cytoscape workstation>, 'fileByteCount': number of bytes read}
       |       ^
checkRd: (-1) sandboxGetFileInfo.Rd:17: Lost braces; missing escapes or markup?
    17 | dict: {'filePath': <full path on Cytoscape workstation>, 'modifiedTime': <last changed time, '' if file doesn't exist>, 'isFile': <True if file, False if directory>}
       |       ^
checkRd: (-1) sandboxRemove.Rd:15: Lost braces; missing escapes or markup?
    15 | dict: {'sandboxPath': <directory on Cytoscape workstation>, 'existed': <True if sandbox existed>}
       |       ^
checkRd: (-1) sandboxRemoveFile.Rd:17: Lost braces; missing escapes or markup?
    17 | dict: {'filePath': <file's absolute path in Cytoscape workstation>, 'existed': True if file existed before being deleted}
       |       ^
checkRd: (-1) sandboxUrlTo.Rd:27: Lost braces; missing escapes or markup?
    27 | dict: {'filePath': <new file's absolute path in Cytoscape workstation>, 'fileByteCount': number of bytes read}
       |       ^
* checking Rd metadata ... OK
* checking Rd cross-references ... OK
* checking for missing documentation entries ... OK
* checking for code/documentation mismatches ... OK
* checking Rd \usage sections ... OK
* checking Rd contents ... OK
* checking for unstated dependencies in examples ... OK
* checking files in ‘vignettes’ ... OK
* checking examples ... OK
* checking for unstated dependencies in ‘tests’ ... OK
* checking tests ...
  Running ‘runTests.R’
 OK
* checking for unstated dependencies in vignettes ... OK
* checking package vignettes ... OK
* checking running R code from vignettes ... SKIPPED
* checking re-building of vignette outputs ... SKIPPED
* checking PDF version of manual ... OK
* DONE

Status: 4 NOTEs
See
  ‘/Users/biocbuild/bbs-3.22-bioc/meat/RCy3.Rcheck/00check.log’
for details.


Installation output

RCy3.Rcheck/00install.out

##############################################################################
##############################################################################
###
### Running command:
###
###   /Library/Frameworks/R.framework/Resources/bin/R CMD INSTALL RCy3
###
##############################################################################
##############################################################################


* installing to library ‘/Library/Frameworks/R.framework/Versions/4.5-x86_64/Resources/library’
* installing *source* package ‘RCy3’ ...
** this is package ‘RCy3’ version ‘2.30.0’
** using staged installation
** R
** inst
** byte-compile and prepare package for lazy loading
** help
*** installing help indices
** building package indices
** installing vignettes
** testing if installed package can be loaded from temporary location
** testing if installed package can be loaded from final location
** testing if installed package keeps a record of temporary installation path
* DONE (RCy3)

Tests output

RCy3.Rcheck/tests/runTests.Rout


R version 4.5.2 Patched (2025-11-05 r88990) -- "[Not] Part in a Rumble"
Copyright (C) 2025 The R Foundation for Statistical Computing
Platform: x86_64-apple-darwin20

R is free software and comes with ABSOLUTELY NO WARRANTY.
You are welcome to redistribute it under certain conditions.
Type 'license()' or 'licence()' for distribution details.

R is a collaborative project with many contributors.
Type 'contributors()' for more information and
'citation()' on how to cite R or R packages in publications.

Type 'demo()' for some demos, 'help()' for on-line help, or
'help.start()' for an HTML browser interface to help.
Type 'q()' to quit R.

> # tests disabled as the Bioconductor build system no longer supports interactive sessions
> #require(RCy3) || stop("unable to load RCy3")
> #BiocGenerics:::testPackage('RCy3')
> 
> proc.time()
   user  system elapsed 
  0.350   0.118   0.440 

Example timings

RCy3.Rcheck/RCy3-Ex.timings

nameusersystemelapsed
AddToGroup000
RemoveFromGroup000
UpdateAnnotationBoundedText0.0010.0010.001
addAnnotationBoundedText0.0010.0010.001
addAnnotationImage000
addAnnotationShape0.0000.0000.001
addAnnotationText0.0000.0000.001
addCyEdges0.0000.0000.001
addCyNodes0.0000.0000.001
analyzeNetwork0.0000.0000.001
applyFilter0.0000.0000.001
bundleEdges0.0000.0000.001
checkNotebookIsRunning000
checkRunningRemote000
clearEdgeBends000
clearEdgePropertyBypass0.0000.0000.001
clearNetworkCenterBypass000
clearNetworkPropertyBypass0.0000.0000.001
clearNetworkZoomBypass0.0000.0000.001
clearNodeOpacityBypass000
clearNodePropertyBypass000
clearSelection000
cloneNetwork000
closeSession000
collapseGroup000
commandEcho000
commandOpenDialog000
commandPause0.0000.0000.001
commandQuit000
commandRunFile0.0000.0000.001
commandSleep0.0000.0000.001
commandsAPI0.0000.0000.001
commandsGET0.0010.0000.001
commandsHelp0.0000.0010.001
commandsPOST0.0000.0010.000
commandsRun0.0000.0010.001
copyVisualStyle0.0000.0010.001
createColumnFilter0.0000.0010.001
createCompositeFilter000
createCytoscapejsFromNetwork000
createDegreeFilter000
createGraphFromNetwork0.0010.0000.000
createGroup0.0010.0000.001
createGroupByColumn0.0010.0000.001
createIgraphFromNetwork0.0000.0000.001
createNetworkFromCytoscapejs000
createNetworkFromDataFrames0.0000.0010.000
createNetworkFromGraph0.0000.0010.000
createNetworkFromIgraph000
createSubnetwork0.0000.0000.001
createView0.0000.0000.001
createVisualStyle000
cybrowserClose000
cybrowserDialog0.0000.0000.001
cybrowserHide0.0000.0000.001
cybrowserList0.0000.0000.001
cybrowserSend0.0000.0000.001
cybrowserShow0.0000.0000.001
cybrowserVersion0.0000.0000.001
cyrestAPI0.0000.0000.001
cyrestDELETE0.0000.0000.001
cyrestGET000
cyrestPOST000
cyrestPUT000
cytoscapeApiVersions000
cytoscapeFreeMemory000
cytoscapeMemoryStatus000
cytoscapeNumberOfCores000
cytoscapePing0.0010.0000.000
cytoscapeVersionInfo0.0010.0000.000
deleteAllNetworks000
deleteAllVisualStyle0.0000.0000.001
deleteAnnotation0.0000.0000.001
deleteDuplicateEdges0.0000.0000.001
deleteGroup0.0000.0000.001
deleteNetwork0.0000.0000.001
deleteSelectedEdges0.0000.0000.001
deleteSelectedNodes0.0000.0000.001
deleteSelfLoops000
deleteStyleMapping0.0000.0000.001
deleteTableColumn000
deleteVisualStyle000
diffusionAdvanced000
diffusionBasic0.0000.0000.001
disableApp0.0000.0000.001
doInitializeSandbox000
doRequestRemote000
doSetSandbox0.0000.0010.000
dockPanel0.0000.0010.000
dot-exportShowImage0.0000.0010.000
dot-getDefaultSandbox0.0000.0010.000
dot-getRequester0.0000.0010.000
enableApp0.0000.0010.000
expandGroup000
exportFilters000
exportImage000
exportJPG0.0000.0010.000
exportNetwork0.0000.0010.001
exportNetworkToNDEx0.0000.0010.001
exportPDF0.0000.0010.001
exportPNG0.0000.0010.001
exportPS000
exportSVG000
exportVisualStyles000
findRemoteCytoscape000
fitContent000
floatPanel000
getAbsSandboxPath000
getAllEdges000
getAllNodes000
getAllStyleMappings000
getAnnotationList000
getAppInformation0.0000.0000.001
getAppStatus0.0000.0000.001
getAppUpdates0.0000.0010.001
getArrowShapes0.0000.0010.001
getAvailableApps0.0000.0010.000
getBackgroundColorDefault0.0000.0010.000
getBrowserClientChannel0.0000.0010.000
getBrowserClientJs0.0000.0010.000
getCollectionList000
getCollectionName000
getCollectionNetworks000
getCollectionSuid000
getCurrentSandbox000
getCurrentSandboxName000
getCurrentSandboxPath000
getCurrentStyle000
getDefaultSandbox000
getDefaultSandboxPath000
getDisabledApps0.0000.0000.001
getEdgeColor0.0000.0000.001
getEdgeCount000
getEdgeInfo000
getEdgeLineStyle0.0000.0000.001
getEdgeLineWidth0.0010.0000.001
getEdgeProperty0.0010.0000.000
getEdgeSelectionColorDefault000
getEdgeTargetArrowShape0.0000.0000.001
getFilterList0.0000.0000.001
getFirstNeighbors0.0000.0000.001
getGroupInfo0.0000.0010.000
getInstalledApps000
getJupyterBridgeURL000
getLayoutNameMapping0.0000.0010.000
getLayoutNames000
getLayoutPropertyNames0.0000.0010.000
getLayoutPropertyType0.0000.0010.001
getLayoutPropertyValue0.0000.0010.001
getLineStyles0.0000.0010.001
getNetworkCenter0.0010.0000.000
getNetworkCount000
getNetworkList0.0000.0000.001
getNetworkNDExId0.0000.0000.001
getNetworkName000
getNetworkProperty0.0000.0000.001
getNetworkSuid000
getNetworkViewSuid000
getNetworkViews000
getNetworkZoom000
getNodeColor000
getNodeCount000
getNodeHeight000
getNodeLabelPosition000
getNodeLabelPositionDefault000
getNodePosition0.0000.0000.001
getNodeProperty0.0010.0000.001
getNodeSelectionColorDefault000
getNodeShapes000
getNodeSize0.0000.0000.001
getNodeWidth0.0010.0000.001
getNotebookIsRunning0.0010.0000.000
getSandboxReinitialize0.0010.0000.000
getSelectedEdgeCount0.0000.0000.001
getSelectedEdges0.0000.0000.001
getSelectedNodeCount000
getSelectedNodes000
getStyleDependencies000
getStyleMapping000
getTableColumnNames0.0000.0000.001
getTableColumnTypes0.0000.0000.001
getTableColumns000
getTableValue000
getUninstalledApps0.0000.0010.000
getVisualPropertyDefault0.0000.0010.000
getVisualPropertyNames0.0000.0010.000
getVisualStyleJSON0.0000.0010.001
getVisualStyleNames0.0000.0010.001
groupAnnotation0.0000.0000.001
hideAllPanels0.0000.0010.001
hideEdges0.0000.0010.000
hideNodes0.0000.0010.000
hidePanel0.0000.0010.000
hideSelectedEdges0.0000.0010.000
hideSelectedNodes0.0000.0010.001
importFileFromUrl0.0000.0000.001
importFilters000
importNetworkFromFile000
importNetworkFromNDEx000
importVisualStyles000
installApp0.0000.0000.001
invertEdgeSelection0.0000.0010.001
invertNodeSelection0.0000.0010.001
layoutCopycat0.0000.0010.001
layoutNetwork0.0000.0010.001
listGroups0.0000.0010.001
lockNodeDimensions0.0000.0010.001
makeSimpleGraph0.1380.0020.152
makeSimpleIgraph0.1440.0110.176
mapTableColumn0.0000.0000.001
mapVisualProperty0.0000.0000.001
matchArrowColorToEdge0.0000.0000.001
mergeNetworks0.0000.0000.001
notebookExportShowImage000
notebookShowImage0.0000.0010.000
openAppStore0.0000.0010.000
openSession0.0000.0010.000
paletteColorBrewerAccent0.0070.0000.008
paletteColorBrewerBlues0.0010.0000.001
paletteColorBrewerBrBG000
paletteColorBrewerBuGn0.0000.0010.001
paletteColorBrewerBuPu0.0010.0010.000
paletteColorBrewerDark2000
paletteColorBrewerGnBu0.0000.0000.001
paletteColorBrewerGreens0.0010.0000.000
paletteColorBrewerGreys0.0000.0000.001
paletteColorBrewerOrRd0.0000.0000.001
paletteColorBrewerOranges0.0010.0010.001
paletteColorBrewerPRGn0.0010.0010.000
paletteColorBrewerPaired0.0000.0000.001
paletteColorBrewerPastel10.0000.0000.002
paletteColorBrewerPastel20.0010.0000.001
paletteColorBrewerPiYG0.0000.0010.001
paletteColorBrewerPuBu0.0000.0010.001
paletteColorBrewerPuBuGn0.0000.0010.002
paletteColorBrewerPuOr0.0010.0000.001
paletteColorBrewerPuRd000
paletteColorBrewerPurples0.0000.0000.001
paletteColorBrewerRdBu0.0010.0000.001
paletteColorBrewerRdPu000
paletteColorBrewerRdYlBu0.0000.0000.001
paletteColorBrewerReds0.0010.0010.001
paletteColorBrewerSet10.0000.0010.000
paletteColorBrewerSet20.0000.0010.001
paletteColorBrewerSet30.0000.0000.001
paletteColorBrewerYlGn0.0010.0000.001
paletteColorBrewerYlGnBu0.0010.0000.001
paletteColorBrewerYlOrBr0.0000.0000.001
paletteColorBrewerYlOrRd0.0000.0010.001
paletteColorRandom0.0010.0010.001
paletteColorVirdis0.0010.0010.001
removeNodeCustomGraphics0.0000.0010.000
renameNetwork0.0000.0000.001
renameTableColumn0.0000.0010.000
resetDefaultSandbox0.0000.0010.000
rotateLayout0.0000.0010.000
runningRemoteCheck0.0000.0010.001
sandboxGetFileInfo0.0010.0000.000
sandboxGetFrom000
sandboxInitializer0.0000.0000.001
sandboxRemove0.0000.0000.001
sandboxRemoveFile0.0000.0000.001
sandboxSendTo0.0010.0000.000
sandboxSet0.0010.0000.000
sandboxUrlTo000
saveSession0.0010.0000.000
scaleLayout0.0010.0000.001
selectAll0.0010.0000.001
selectAllEdges0.0010.0000.001
selectAllNodes0.0010.0000.001
selectEdges0.0010.0000.000
selectEdgesAdjacentToNodes0.0000.0010.000
selectEdgesAdjacentToSelectedNodes0.0000.0010.000
selectEdgesConnectingSelectedNodes0.0000.0010.000
selectFirstNeighbors0.0000.0010.000
selectNodes0.0000.0010.000
selectNodesConnectedBySelectedEdges0.0000.0010.000
setBackgroundColorDefault0.0000.0010.000
setCatchupFilterSecs0.0010.0010.001
setCatchupNetworkSecs0.0000.0010.001
setCollectionName0.0000.0010.000
setCurrentNetwork0.0000.0010.000
setCurrentSandbox0.0000.0010.000
setCurrentView000
setDefaultSandbox0.0000.0000.001
setDefaultSandboxPath0.0000.0000.001
setEdgeColorBypass0.0010.0000.000
setEdgeColorDefault0.0010.0000.000
setEdgeColorMapping0.0000.0000.002
setEdgeFontFaceBypass0.0000.0000.001
setEdgeFontFaceDefault000
setEdgeFontFaceMapping0.0000.0000.002
setEdgeFontSizeBypass000
setEdgeFontSizeDefault000
setEdgeFontSizeMapping000
setEdgeLabelBypass000
setEdgeLabelColorBypass000
setEdgeLabelColorDefault0.0010.0010.001
setEdgeLabelColorMapping0.0000.0010.001
setEdgeLabelDefault0.0000.0010.001
setEdgeLabelMapping0.0000.0010.003
setEdgeLabelOpacityBypass0.0010.0010.001
setEdgeLabelOpacityDefault000
setEdgeLabelOpacityMapping000
setEdgeLineStyleBypass0.0000.0000.001
setEdgeLineStyleDefault0.0000.0000.001
setEdgeLineStyleMapping0.0000.0000.001
setEdgeLineWidthBypass0.0010.0000.001
setEdgeLineWidthDefault000
setEdgeLineWidthMapping0.0000.0000.001
setEdgeOpacityBypass0.0000.0000.001
setEdgeOpacityDefault0.0000.0000.001
setEdgeOpacityMapping000
setEdgePropertyBypass000
setEdgeSelectionColorDefault000
setEdgeSourceArrowColorBypass0.0010.0000.000
setEdgeSourceArrowColorDefault0.0010.0000.000
setEdgeSourceArrowColorMapping0.0000.0010.004
setEdgeSourceArrowMapping0.0000.0010.000
setEdgeSourceArrowShapeBypass0.0000.0000.001
setEdgeSourceArrowShapeDefault0.0000.0000.001
setEdgeSourceArrowShapeMapping0.0000.0000.001
setEdgeTargetArrowColorBypass000
setEdgeTargetArrowColorDefault0.0000.0010.001
setEdgeTargetArrowColorMapping000
setEdgeTargetArrowMapping0.0000.0000.001
setEdgeTargetArrowShapeBypass0.0000.0000.001
setEdgeTargetArrowShapeDefault000
setEdgeTargetArrowShapeMapping0.0000.0010.000
setEdgeTooltipBypass0.0010.0000.001
setEdgeTooltipDefault000
setEdgeTooltipMapping0.0000.0000.001
setLayoutProperties0.0000.0000.001
setModelPropagationSecs0.0000.0000.001
setNetworkCenterBypass000
setNetworkPropertyBypass000
setNetworkZoomBypass000
setNodeBorderColorBypass000
setNodeBorderColorDefault000
setNodeBorderColorMapping000
setNodeBorderOpacityBypass000
setNodeBorderOpacityDefault000
setNodeBorderOpacityMapping0.0000.0000.001
setNodeBorderWidthBypass0.0000.0000.001
setNodeBorderWidthDefault0.0000.0000.001
setNodeBorderWidthMapping0.0000.0000.001
setNodeColorBypass0.0000.0000.001
setNodeColorDefault0.0000.0010.001
setNodeColorMapping0.0000.0010.000
setNodeComboOpacityMapping000
setNodeCustomBarChart0.0000.0000.001
setNodeCustomBoxChart0.0000.0000.001
setNodeCustomHeatMapChart0.0000.0000.001
setNodeCustomLineChart0.0000.0000.001
setNodeCustomLinearGradient0.0000.0000.001
setNodeCustomPieChart0.0000.0000.001
setNodeCustomPosition0.0000.0000.001
setNodeCustomRadialGradient0.0000.0000.001
setNodeCustomRingChart0.0000.0010.000
setNodeFillOpacityBypass0.0000.0010.001
setNodeFillOpacityDefault0.0000.0010.001
setNodeFillOpacityMapping0.0000.0000.001
setNodeFontFaceBypass0.0000.0000.001
setNodeFontFaceDefault0.0000.0000.001
setNodeFontFaceMapping0.0000.0000.001
setNodeFontSizeBypass0.0000.0000.001
setNodeFontSizeDefault000
setNodeFontSizeMapping0.0000.0000.001
setNodeHeightBypass0.0000.0000.001
setNodeHeightDefault0.0000.0000.001
setNodeHeightMapping0.0000.0000.001
setNodeLabelBypass0.0000.0000.001
setNodeLabelColorBypass0.0000.0000.001
setNodeLabelColorDefault0.0000.0000.001
setNodeLabelColorMapping0.0000.0000.001
setNodeLabelDefault0.0000.0000.001
setNodeLabelMapping0.0000.0000.001
setNodeLabelOpacityBypass0.0000.0000.001
setNodeLabelOpacityDefault0.0000.0000.001
setNodeLabelOpacityMapping000
setNodeLabelPositionBypass0.0010.0000.000
setNodeLabelPositionDefault0.0010.0000.000
setNodeOpacityBypass0.0010.0000.000
setNodePositionBypass0.0010.0000.000
setNodePropertyBypass000
setNodeSelectionColorDefault000
setNodeShapeBypass0.0010.0000.001
setNodeShapeDefault0.0010.0000.001
setNodeShapeMapping0.0010.0000.001
setNodeSizeBypass0.0010.0000.001
setNodeSizeDefault0.0010.0000.001
setNodeSizeMapping0.0010.0000.001
setNodeTooltipBypass000
setNodeTooltipDefault000
setNodeTooltipMapping000
setNodeWidthBypass000
setNodeWidthDefault000
setNodeWidthMapping000
setNotebookIsRunning000
setSandboxReinitialize0.0010.0000.001
setStyleDependencies0.0010.0000.001
setVisualPropertyDefault0.0010.0000.001
setVisualStyle0.0010.0000.001
syncNodeCustomGraphicsSize0.0010.0000.001
toggleGraphicsDetails0.0010.0000.001
ungroupAnnotation0.0010.0000.001
unhideAll0.0010.0000.001
unhideEdges0.0010.0000.001
unhideNodes0.0010.0000.001
uninstallApp0.0010.0000.001
updateAnnotationImage0.0010.0000.001
updateAnnotationShape0.0010.0000.000
updateAnnotationText000
updateApp000
updateGroupAnnotation000
updateNetworkInNDEx000
updateStyleDefaults000
updateStyleMapping000