Back to Multiple platform build/check report for BioC 3.22:   simplified   long
ABCDEFGHIJKLMNOPQ[R]STUVWXYZ

This page was generated on 2025-11-04 12:04 -0500 (Tue, 04 Nov 2025).

HostnameOSArch (*)R versionInstalled pkgs
nebbiolo2Linux (Ubuntu 24.04.3 LTS)x86_644.5.1 Patched (2025-08-23 r88802) -- "Great Square Root" 4902
lconwaymacOS 12.7.6 Montereyx86_644.5.1 Patched (2025-09-10 r88807) -- "Great Square Root" 4692
kjohnson3macOS 13.7.7 Venturaarm644.5.1 Patched (2025-09-10 r88807) -- "Great Square Root" 4638
Click on any hostname to see more info about the system (e.g. compilers)      (*) as reported by 'uname -p', except on Windows and Mac OS X

Package 1738/2361HostnameOS / ArchINSTALLBUILDCHECKBUILD BIN
RCy3 2.30.0  (landing page)
Alex Pico
Snapshot Date: 2025-11-03 13:45 -0500 (Mon, 03 Nov 2025)
git_url: https://git.bioconductor.org/packages/RCy3
git_branch: RELEASE_3_22
git_last_commit: 0677632
git_last_commit_date: 2025-10-29 10:28:27 -0500 (Wed, 29 Oct 2025)
nebbiolo2Linux (Ubuntu 24.04.3 LTS) / x86_64  OK    OK    OK  UNNEEDED, same version is already published
lconwaymacOS 12.7.6 Monterey / x86_64  OK    OK    OK    OK  UNNEEDED, same version is already published
kjohnson3macOS 13.7.7 Ventura / arm64  OK    OK    OK    OK  UNNEEDED, same version is already published


CHECK results for RCy3 on lconway

To the developers/maintainers of the RCy3 package:
- Allow up to 24 hours (and sometimes 48 hours) for your latest push to git@git.bioconductor.org:packages/RCy3.git to reflect on this report. See Troubleshooting Build Report for more information.
- Use the following Renviron settings to reproduce errors and warnings.
- If 'R CMD check' started to fail recently on the Linux builder(s) over a missing dependency, add the missing dependency to 'Suggests:' in your DESCRIPTION file. See Renviron.bioc for more information.

raw results


Summary

Package: RCy3
Version: 2.30.0
Command: /Library/Frameworks/R.framework/Resources/bin/R CMD check --install=check:RCy3.install-out.txt --library=/Library/Frameworks/R.framework/Resources/library --no-vignettes --timings RCy3_2.30.0.tar.gz
StartedAt: 2025-11-03 23:39:03 -0500 (Mon, 03 Nov 2025)
EndedAt: 2025-11-03 23:40:43 -0500 (Mon, 03 Nov 2025)
EllapsedTime: 99.6 seconds
RetCode: 0
Status:   OK  
CheckDir: RCy3.Rcheck
Warnings: 0

Command output

##############################################################################
##############################################################################
###
### Running command:
###
###   /Library/Frameworks/R.framework/Resources/bin/R CMD check --install=check:RCy3.install-out.txt --library=/Library/Frameworks/R.framework/Resources/library --no-vignettes --timings RCy3_2.30.0.tar.gz
###
##############################################################################
##############################################################################


* using log directory ‘/Users/biocbuild/bbs-3.22-bioc/meat/RCy3.Rcheck’
* using R version 4.5.1 Patched (2025-09-10 r88807)
* using platform: x86_64-apple-darwin20
* R was compiled by
    Apple clang version 14.0.0 (clang-1400.0.29.202)
    GNU Fortran (GCC) 14.2.0
* running under: macOS Monterey 12.7.6
* using session charset: UTF-8
* using option ‘--no-vignettes’
* checking for file ‘RCy3/DESCRIPTION’ ... OK
* checking extension type ... Package
* this is package ‘RCy3’ version ‘2.30.0’
* package encoding: UTF-8
* checking package namespace information ... OK
* checking package dependencies ... OK
* checking if this is a source package ... OK
* checking if there is a namespace ... OK
* checking for hidden files and directories ... NOTE
Found the following hidden files and directories:
  .travis.yml
These were most likely included in error. See section ‘Package
structure’ in the ‘Writing R Extensions’ manual.
* checking for portable file names ... OK
* checking for sufficient/correct file permissions ... OK
* checking whether package ‘RCy3’ can be installed ... OK
* checking installed package size ... OK
* checking package directory ... OK
* checking ‘build’ directory ... OK
* checking DESCRIPTION meta-information ... NOTE
License stub is invalid DCF.
* checking top-level files ... OK
* checking for left-over files ... OK
* checking index information ... OK
* checking package subdirectories ... OK
* checking code files for non-ASCII characters ... OK
* checking R files for syntax errors ... OK
* checking whether the package can be loaded ... OK
* checking whether the package can be loaded with stated dependencies ... OK
* checking whether the package can be unloaded cleanly ... OK
* checking whether the namespace can be loaded with stated dependencies ... OK
* checking whether the namespace can be unloaded cleanly ... OK
* checking dependencies in R code ... OK
* checking S3 generic/method consistency ... OK
* checking replacement functions ... OK
* checking foreign function calls ... OK
* checking R code for possible problems ... NOTE
.checkHexColor: no visible global function definition for ‘colors’
.edgeNameToEdgeSUID: no visible binding for global variable ‘SUID’
.nodeNameToNodeSUID: no visible binding for global variable ‘SUID’
createNetworkFromDataFrames: no visible binding for global variable
  ‘SUID’
Undefined global functions or variables:
  SUID colors
Consider adding
  importFrom("grDevices", "colors")
to your NAMESPACE file.
* checking Rd files ... NOTE
checkRd: (-1) importFileFromUrl.Rd:24: Lost braces; missing escapes or markup?
    24 | dict: {'filePath': <new file's absolute path in Cytoscape workstation>, 'fileByteCount': number of bytes read}
       |       ^
checkRd: (-1) sandboxGetFileInfo.Rd:17: Lost braces; missing escapes or markup?
    17 | dict: {'filePath': <full path on Cytoscape workstation>, 'modifiedTime': <last changed time, '' if file doesn't exist>, 'isFile': <True if file, False if directory>}
       |       ^
checkRd: (-1) sandboxRemove.Rd:15: Lost braces; missing escapes or markup?
    15 | dict: {'sandboxPath': <directory on Cytoscape workstation>, 'existed': <True if sandbox existed>}
       |       ^
checkRd: (-1) sandboxRemoveFile.Rd:17: Lost braces; missing escapes or markup?
    17 | dict: {'filePath': <file's absolute path in Cytoscape workstation>, 'existed': True if file existed before being deleted}
       |       ^
checkRd: (-1) sandboxUrlTo.Rd:27: Lost braces; missing escapes or markup?
    27 | dict: {'filePath': <new file's absolute path in Cytoscape workstation>, 'fileByteCount': number of bytes read}
       |       ^
* checking Rd metadata ... OK
* checking Rd cross-references ... OK
* checking for missing documentation entries ... OK
* checking for code/documentation mismatches ... OK
* checking Rd \usage sections ... OK
* checking Rd contents ... OK
* checking for unstated dependencies in examples ... OK
* checking files in ‘vignettes’ ... OK
* checking examples ... OK
* checking for unstated dependencies in ‘tests’ ... OK
* checking tests ...
  Running ‘runTests.R’
 OK
* checking for unstated dependencies in vignettes ... OK
* checking package vignettes ... OK
* checking running R code from vignettes ... SKIPPED
* checking re-building of vignette outputs ... SKIPPED
* checking PDF version of manual ... OK
* DONE

Status: 4 NOTEs
See
  ‘/Users/biocbuild/bbs-3.22-bioc/meat/RCy3.Rcheck/00check.log’
for details.


Installation output

RCy3.Rcheck/00install.out

##############################################################################
##############################################################################
###
### Running command:
###
###   /Library/Frameworks/R.framework/Resources/bin/R CMD INSTALL RCy3
###
##############################################################################
##############################################################################


* installing to library ‘/Library/Frameworks/R.framework/Versions/4.5-x86_64/Resources/library’
* installing *source* package ‘RCy3’ ...
** this is package ‘RCy3’ version ‘2.30.0’
** using staged installation
** R
** inst
** byte-compile and prepare package for lazy loading
** help
*** installing help indices
** building package indices
** installing vignettes
** testing if installed package can be loaded from temporary location
** testing if installed package can be loaded from final location
** testing if installed package keeps a record of temporary installation path
* DONE (RCy3)

Tests output

RCy3.Rcheck/tests/runTests.Rout


R version 4.5.1 Patched (2025-09-10 r88807) -- "Great Square Root"
Copyright (C) 2025 The R Foundation for Statistical Computing
Platform: x86_64-apple-darwin20

R is free software and comes with ABSOLUTELY NO WARRANTY.
You are welcome to redistribute it under certain conditions.
Type 'license()' or 'licence()' for distribution details.

R is a collaborative project with many contributors.
Type 'contributors()' for more information and
'citation()' on how to cite R or R packages in publications.

Type 'demo()' for some demos, 'help()' for on-line help, or
'help.start()' for an HTML browser interface to help.
Type 'q()' to quit R.

> # tests disabled as the Bioconductor build system no longer supports interactive sessions
> #require(RCy3) || stop("unable to load RCy3")
> #BiocGenerics:::testPackage('RCy3')
> 
> proc.time()
   user  system elapsed 
  0.203   0.077   0.275 

Example timings

RCy3.Rcheck/RCy3-Ex.timings

nameusersystemelapsed
AddToGroup0.0000.0010.000
RemoveFromGroup0.0000.0000.001
UpdateAnnotationBoundedText0.0000.0010.000
addAnnotationBoundedText000
addAnnotationImage000
addAnnotationShape000
addAnnotationText000
addCyEdges0.0000.0000.001
addCyNodes0.0010.0000.000
analyzeNetwork000
applyFilter000
bundleEdges000
checkNotebookIsRunning000
checkRunningRemote000
clearEdgeBends000
clearEdgePropertyBypass000
clearNetworkCenterBypass000
clearNetworkPropertyBypass000
clearNetworkZoomBypass000
clearNodeOpacityBypass000
clearNodePropertyBypass000
clearSelection000
cloneNetwork000
closeSession000
collapseGroup0.0000.0000.001
commandEcho000
commandOpenDialog000
commandPause000
commandQuit0.0000.0000.001
commandRunFile0.0010.0000.000
commandSleep000
commandsAPI000
commandsGET000
commandsHelp0.0000.0000.001
commandsPOST0.0010.0000.000
commandsRun000
copyVisualStyle0.0000.0010.000
createColumnFilter000
createCompositeFilter000
createCytoscapejsFromNetwork000
createDegreeFilter0.0000.0000.001
createGraphFromNetwork0.0000.0000.001
createGroup000
createGroupByColumn000
createIgraphFromNetwork000
createNetworkFromCytoscapejs0.0000.0010.000
createNetworkFromDataFrames000
createNetworkFromGraph0.0000.0010.000
createNetworkFromIgraph0.0010.0000.000
createSubnetwork000
createView000
createVisualStyle0.0000.0000.001
cybrowserClose000
cybrowserDialog000
cybrowserHide000
cybrowserList000
cybrowserSend000
cybrowserShow000
cybrowserVersion000
cyrestAPI000
cyrestDELETE000
cyrestGET0.0010.0000.001
cyrestPOST000
cyrestPUT000
cytoscapeApiVersions0.0000.0000.001
cytoscapeFreeMemory0.0000.0010.000
cytoscapeMemoryStatus000
cytoscapeNumberOfCores000
cytoscapePing0.0010.0010.001
cytoscapeVersionInfo0.0000.0000.001
deleteAllNetworks000
deleteAllVisualStyle000
deleteAnnotation000
deleteDuplicateEdges000
deleteGroup000
deleteNetwork000
deleteSelectedEdges000
deleteSelectedNodes000
deleteSelfLoops000
deleteStyleMapping000
deleteTableColumn000
deleteVisualStyle000
diffusionAdvanced000
diffusionBasic000
disableApp000
doInitializeSandbox000
doRequestRemote0.0000.0000.001
doSetSandbox000
dockPanel000
dot-exportShowImage000
dot-getDefaultSandbox000
dot-getRequester0.0010.0000.001
enableApp000
expandGroup0.0000.0000.001
exportFilters0.0000.0000.001
exportImage000
exportJPG000
exportNetwork000
exportNetworkToNDEx000
exportPDF000
exportPNG000
exportPS000
exportSVG000
exportVisualStyles000
findRemoteCytoscape000
fitContent000
floatPanel000
getAbsSandboxPath000
getAllEdges0.0000.0010.000
getAllNodes000
getAllStyleMappings000
getAnnotationList0.0010.0000.000
getAppInformation0.0000.0000.001
getAppStatus000
getAppUpdates000
getArrowShapes000
getAvailableApps000
getBackgroundColorDefault000
getBrowserClientChannel000
getBrowserClientJs0.0000.0000.001
getCollectionList0.0000.0000.001
getCollectionName0.0000.0000.001
getCollectionNetworks0.0000.0000.001
getCollectionSuid0.0000.0000.001
getCurrentSandbox0.0000.0000.001
getCurrentSandboxName0.0000.0000.001
getCurrentSandboxPath0.0000.0000.001
getCurrentStyle0.0000.0000.001
getDefaultSandbox0.0000.0010.001
getDefaultSandboxPath0.0000.0000.001
getDisabledApps0.0000.0010.001
getEdgeColor000
getEdgeCount0.0000.0010.000
getEdgeInfo0.0000.0000.001
getEdgeLineStyle000
getEdgeLineWidth000
getEdgeProperty000
getEdgeSelectionColorDefault000
getEdgeTargetArrowShape0.0000.0000.001
getFilterList0.0000.0000.001
getFirstNeighbors000
getGroupInfo000
getInstalledApps000
getJupyterBridgeURL0.0000.0000.001
getLayoutNameMapping0.0000.0000.001
getLayoutNames000
getLayoutPropertyNames0.0010.0000.000
getLayoutPropertyType000
getLayoutPropertyValue000
getLineStyles000
getNetworkCenter000
getNetworkCount000
getNetworkList0.0010.0000.000
getNetworkNDExId000
getNetworkName0.0000.0010.000
getNetworkProperty000
getNetworkSuid000
getNetworkViewSuid0.0010.0000.001
getNetworkViews000
getNetworkZoom000
getNodeColor0.0000.0010.000
getNodeCount000
getNodeHeight0.0010.0000.000
getNodeLabelPosition000
getNodeLabelPositionDefault0.0000.0000.001
getNodePosition000
getNodeProperty000
getNodeSelectionColorDefault000
getNodeShapes000
getNodeSize000
getNodeWidth000
getNotebookIsRunning000
getSandboxReinitialize000
getSelectedEdgeCount000
getSelectedEdges0.0000.0000.001
getSelectedNodeCount000
getSelectedNodes000
getStyleDependencies000
getStyleMapping000
getTableColumnNames0.0000.0010.000
getTableColumnTypes000
getTableColumns0.0000.0010.000
getTableValue000
getUninstalledApps0.0000.0010.000
getVisualPropertyDefault0.0000.0000.001
getVisualPropertyNames000
getVisualStyleJSON000
getVisualStyleNames0.0000.0000.001
groupAnnotation000
hideAllPanels000
hideEdges000
hideNodes0.0000.0000.001
hidePanel0.0010.0000.000
hideSelectedEdges000
hideSelectedNodes000
importFileFromUrl000
importFilters0.0000.0010.000
importNetworkFromFile000
importNetworkFromNDEx000
importVisualStyles000
installApp000
invertEdgeSelection000
invertNodeSelection000
layoutCopycat0.0000.0010.000
layoutNetwork0.0000.0000.001
listGroups0.0000.0000.001
lockNodeDimensions000
makeSimpleGraph0.0720.0010.073
makeSimpleIgraph0.0760.0070.084
mapTableColumn000
mapVisualProperty000
matchArrowColorToEdge0.0000.0000.001
mergeNetworks000
notebookExportShowImage000
notebookShowImage000
openAppStore000
openSession000
paletteColorBrewerAccent0.0040.0010.005
paletteColorBrewerBlues0.0010.0000.001
paletteColorBrewerBrBG000
paletteColorBrewerBuGn0.0000.0010.001
paletteColorBrewerBuPu000
paletteColorBrewerDark2000
paletteColorBrewerGnBu0.0000.0000.001
paletteColorBrewerGreens0.0000.0010.000
paletteColorBrewerGreys0.0010.0000.001
paletteColorBrewerOrRd0.0000.0010.001
paletteColorBrewerOranges0.0010.0000.001
paletteColorBrewerPRGn000
paletteColorBrewerPaired000
paletteColorBrewerPastel10.0010.0000.000
paletteColorBrewerPastel2000
paletteColorBrewerPiYG0.0000.0000.001
paletteColorBrewerPuBu0.0000.0000.001
paletteColorBrewerPuBuGn000
paletteColorBrewerPuOr000
paletteColorBrewerPuRd000
paletteColorBrewerPurples000
paletteColorBrewerRdBu000
paletteColorBrewerRdPu000
paletteColorBrewerRdYlBu0.0000.0000.001
paletteColorBrewerReds0.0000.0010.000
paletteColorBrewerSet1000
paletteColorBrewerSet2000
paletteColorBrewerSet30.0000.0000.001
paletteColorBrewerYlGn0.0000.0000.001
paletteColorBrewerYlGnBu000
paletteColorBrewerYlOrBr000
paletteColorBrewerYlOrRd000
paletteColorRandom0.0010.0000.000
paletteColorVirdis000
removeNodeCustomGraphics000
renameNetwork000
renameTableColumn0.0010.0000.000
resetDefaultSandbox000
rotateLayout0.0000.0010.000
runningRemoteCheck000
sandboxGetFileInfo0.0000.0010.000
sandboxGetFrom000
sandboxInitializer0.0010.0010.000
sandboxRemove000
sandboxRemoveFile0.0000.0010.000
sandboxSendTo000
sandboxSet0.0000.0010.000
sandboxUrlTo000
saveSession000
scaleLayout000
selectAll000
selectAllEdges000
selectAllNodes000
selectEdges000
selectEdgesAdjacentToNodes000
selectEdgesAdjacentToSelectedNodes000
selectEdgesConnectingSelectedNodes000
selectFirstNeighbors0.0000.0010.000
selectNodes0.0000.0000.001
selectNodesConnectedBySelectedEdges000
setBackgroundColorDefault0.0010.0000.000
setCatchupFilterSecs000
setCatchupNetworkSecs000
setCollectionName000
setCurrentNetwork000
setCurrentSandbox0.0010.0000.000
setCurrentView0.0000.0000.001
setDefaultSandbox000
setDefaultSandboxPath000
setEdgeColorBypass0.0000.0010.000
setEdgeColorDefault000
setEdgeColorMapping0.0000.0010.000
setEdgeFontFaceBypass000
setEdgeFontFaceDefault000
setEdgeFontFaceMapping000
setEdgeFontSizeBypass0.0000.0000.001
setEdgeFontSizeDefault000
setEdgeFontSizeMapping000
setEdgeLabelBypass000
setEdgeLabelColorBypass000
setEdgeLabelColorDefault000
setEdgeLabelColorMapping0.0010.0000.001
setEdgeLabelDefault000
setEdgeLabelMapping000
setEdgeLabelOpacityBypass000
setEdgeLabelOpacityDefault000
setEdgeLabelOpacityMapping000
setEdgeLineStyleBypass0.0000.0000.001
setEdgeLineStyleDefault0.0010.0000.000
setEdgeLineStyleMapping000
setEdgeLineWidthBypass000
setEdgeLineWidthDefault000
setEdgeLineWidthMapping000
setEdgeOpacityBypass0.0000.0010.000
setEdgeOpacityDefault000
setEdgeOpacityMapping000
setEdgePropertyBypass000
setEdgeSelectionColorDefault000
setEdgeSourceArrowColorBypass000
setEdgeSourceArrowColorDefault000
setEdgeSourceArrowColorMapping000
setEdgeSourceArrowMapping000
setEdgeSourceArrowShapeBypass000
setEdgeSourceArrowShapeDefault000
setEdgeSourceArrowShapeMapping000
setEdgeTargetArrowColorBypass000
setEdgeTargetArrowColorDefault000
setEdgeTargetArrowColorMapping000
setEdgeTargetArrowMapping000
setEdgeTargetArrowShapeBypass000
setEdgeTargetArrowShapeDefault0.0000.0000.001
setEdgeTargetArrowShapeMapping000
setEdgeTooltipBypass000
setEdgeTooltipDefault000
setEdgeTooltipMapping000
setLayoutProperties000
setModelPropagationSecs000
setNetworkCenterBypass000
setNetworkPropertyBypass000
setNetworkZoomBypass0.0000.0000.001
setNodeBorderColorBypass0.0010.0000.000
setNodeBorderColorDefault0.0000.0010.000
setNodeBorderColorMapping000
setNodeBorderOpacityBypass000
setNodeBorderOpacityDefault000
setNodeBorderOpacityMapping0.0010.0000.000
setNodeBorderWidthBypass0.0000.0000.001
setNodeBorderWidthDefault000
setNodeBorderWidthMapping000
setNodeColorBypass0.0000.0000.001
setNodeColorDefault000
setNodeColorMapping0.0000.0000.001
setNodeComboOpacityMapping000
setNodeCustomBarChart000
setNodeCustomBoxChart000
setNodeCustomHeatMapChart000
setNodeCustomLineChart0.0000.0000.001
setNodeCustomLinearGradient000
setNodeCustomPieChart000
setNodeCustomPosition000
setNodeCustomRadialGradient0.0010.0010.000
setNodeCustomRingChart0.0000.0000.001
setNodeFillOpacityBypass0.0000.0010.001
setNodeFillOpacityDefault000
setNodeFillOpacityMapping000
setNodeFontFaceBypass000
setNodeFontFaceDefault000
setNodeFontFaceMapping000
setNodeFontSizeBypass000
setNodeFontSizeDefault000
setNodeFontSizeMapping000
setNodeHeightBypass000
setNodeHeightDefault0.0000.0000.001
setNodeHeightMapping000
setNodeLabelBypass000
setNodeLabelColorBypass000
setNodeLabelColorDefault000
setNodeLabelColorMapping000
setNodeLabelDefault000
setNodeLabelMapping000
setNodeLabelOpacityBypass000
setNodeLabelOpacityDefault0.0000.0010.000
setNodeLabelOpacityMapping0.0010.0000.000
setNodeLabelPositionBypass000
setNodeLabelPositionDefault0.0000.0000.001
setNodeOpacityBypass000
setNodePositionBypass000
setNodePropertyBypass0.0010.0000.000
setNodeSelectionColorDefault000
setNodeShapeBypass0.0000.0010.000
setNodeShapeDefault0.0000.0000.001
setNodeShapeMapping0.0000.0010.000
setNodeSizeBypass000
setNodeSizeDefault000
setNodeSizeMapping000
setNodeTooltipBypass000
setNodeTooltipDefault000
setNodeTooltipMapping000
setNodeWidthBypass000
setNodeWidthDefault000
setNodeWidthMapping000
setNotebookIsRunning000
setSandboxReinitialize000
setStyleDependencies000
setVisualPropertyDefault000
setVisualStyle000
syncNodeCustomGraphicsSize000
toggleGraphicsDetails0.0010.0000.000
ungroupAnnotation0.0000.0010.000
unhideAll0.0000.0000.001
unhideEdges000
unhideNodes000
uninstallApp0.0000.0000.001
updateAnnotationImage0.0000.0000.001
updateAnnotationShape000
updateAnnotationText000
updateApp0.0000.0000.001
updateGroupAnnotation0.0000.0000.001
updateNetworkInNDEx0.0000.0000.001
updateStyleDefaults0.0000.0000.001
updateStyleMapping0.0000.0000.001