| Back to Multiple platform build/check report for BioC 3.22: simplified long |
|
This page was generated on 2025-11-07 12:01 -0500 (Fri, 07 Nov 2025).
| Hostname | OS | Arch (*) | R version | Installed pkgs |
|---|---|---|---|---|
| nebbiolo2 | Linux (Ubuntu 24.04.3 LTS) | x86_64 | 4.5.1 Patched (2025-08-23 r88802) -- "Great Square Root" | 4902 |
| kjohnson3 | macOS 13.7.7 Ventura | arm64 | 4.5.1 Patched (2025-09-10 r88807) -- "Great Square Root" | 4638 |
| Click on any hostname to see more info about the system (e.g. compilers) (*) as reported by 'uname -p', except on Windows and Mac OS X | ||||
| Package 1726/2361 | Hostname | OS / Arch | INSTALL | BUILD | CHECK | BUILD BIN | ||||||||
| RCAS 1.36.0 (landing page) Bora Uyar
| nebbiolo2 | Linux (Ubuntu 24.04.3 LTS) / x86_64 | OK | OK | OK | |||||||||
| kjohnson3 | macOS 13.7.7 Ventura / arm64 | OK | OK | OK | OK | |||||||||
|
To the developers/maintainers of the RCAS package: - Allow up to 24 hours (and sometimes 48 hours) for your latest push to git@git.bioconductor.org:packages/RCAS.git to reflect on this report. See Troubleshooting Build Report for more information. - Use the following Renviron settings to reproduce errors and warnings. - If 'R CMD check' started to fail recently on the Linux builder(s) over a missing dependency, add the missing dependency to 'Suggests:' in your DESCRIPTION file. See Renviron.bioc for more information. |
| Package: RCAS |
| Version: 1.36.0 |
| Command: /Library/Frameworks/R.framework/Resources/bin/R CMD check --install=check:RCAS.install-out.txt --library=/Library/Frameworks/R.framework/Resources/library --no-vignettes --timings RCAS_1.36.0.tar.gz |
| StartedAt: 2025-11-06 21:34:29 -0500 (Thu, 06 Nov 2025) |
| EndedAt: 2025-11-06 21:38:40 -0500 (Thu, 06 Nov 2025) |
| EllapsedTime: 251.4 seconds |
| RetCode: 0 |
| Status: OK |
| CheckDir: RCAS.Rcheck |
| Warnings: 0 |
##############################################################################
##############################################################################
###
### Running command:
###
### /Library/Frameworks/R.framework/Resources/bin/R CMD check --install=check:RCAS.install-out.txt --library=/Library/Frameworks/R.framework/Resources/library --no-vignettes --timings RCAS_1.36.0.tar.gz
###
##############################################################################
##############################################################################
* using log directory ‘/Users/biocbuild/bbs-3.22-bioc/meat/RCAS.Rcheck’
* using R version 4.5.1 Patched (2025-09-10 r88807)
* using platform: aarch64-apple-darwin20
* R was compiled by
Apple clang version 16.0.0 (clang-1600.0.26.6)
GNU Fortran (GCC) 14.2.0
* running under: macOS Ventura 13.7.7
* using session charset: UTF-8
* using option ‘--no-vignettes’
* checking for file ‘RCAS/DESCRIPTION’ ... OK
* checking extension type ... Package
* this is package ‘RCAS’ version ‘1.36.0’
* checking package namespace information ... OK
* checking package dependencies ... INFO
Imports includes 24 non-default packages.
Importing from so many packages makes the package vulnerable to any of
them becoming unavailable. Move as many as possible to Suggests and
use conditionally.
* checking if this is a source package ... OK
* checking if there is a namespace ... OK
* checking for hidden files and directories ... OK
* checking for portable file names ... OK
* checking for sufficient/correct file permissions ... OK
* checking whether package ‘RCAS’ can be installed ... OK
* checking installed package size ... OK
* checking package directory ... OK
* checking ‘build’ directory ... OK
* checking DESCRIPTION meta-information ... OK
* checking top-level files ... OK
* checking for left-over files ... OK
* checking index information ... OK
* checking package subdirectories ... OK
* checking code files for non-ASCII characters ... OK
* checking R files for syntax errors ... OK
* checking whether the package can be loaded ... OK
* checking whether the package can be loaded with stated dependencies ... OK
* checking whether the package can be unloaded cleanly ... OK
* checking whether the namespace can be loaded with stated dependencies ... OK
* checking whether the namespace can be unloaded cleanly ... OK
* checking dependencies in R code ... OK
* checking S3 generic/method consistency ... OK
* checking replacement functions ... OK
* checking foreign function calls ... OK
* checking R code for possible problems ... OK
* checking Rd files ... OK
* checking Rd metadata ... OK
* checking Rd cross-references ... OK
* checking for missing documentation entries ... OK
* checking for code/documentation mismatches ... OK
* checking Rd \usage sections ... OK
* checking Rd contents ... OK
* checking for unstated dependencies in examples ... OK
* checking contents of ‘data’ directory ... OK
* checking data for non-ASCII characters ... OK
* checking LazyData ... OK
* checking data for ASCII and uncompressed saves ... OK
* checking files in ‘vignettes’ ... OK
* checking examples ... OK
Examples with CPU (user + system) or elapsed time > 5s
user system elapsed
runMotifDiscovery 18.529 0.210 16.786
getMotifSummaryTable 6.472 0.209 23.296
calculateCoverageProfileList 4.907 0.376 5.291
summarizeQueryRegionsMulti 3.260 0.212 9.596
createDB 0.927 0.063 6.905
findEnrichedFunctions 0.254 0.012 5.284
* checking for unstated dependencies in ‘tests’ ... OK
* checking tests ...
Running ‘testthat.R’
OK
* checking for unstated dependencies in vignettes ... OK
* checking package vignettes ... OK
* checking running R code from vignettes ... SKIPPED
* checking re-building of vignette outputs ... SKIPPED
* checking PDF version of manual ... OK
* DONE
Status: OK
RCAS.Rcheck/00install.out
############################################################################## ############################################################################## ### ### Running command: ### ### /Library/Frameworks/R.framework/Resources/bin/R CMD INSTALL RCAS ### ############################################################################## ############################################################################## * installing to library ‘/Library/Frameworks/R.framework/Versions/4.5-arm64/Resources/library’ * installing *source* package ‘RCAS’ ... ** this is package ‘RCAS’ version ‘1.36.0’ ** using staged installation ** R ** data *** moving datasets to lazyload DB ** inst ** byte-compile and prepare package for lazy loading Warning: replacing previous import ‘Biostrings::pattern’ by ‘grid::pattern’ when loading ‘genomation’ ** help *** installing help indices ** building package indices ** installing vignettes ** testing if installed package can be loaded from temporary location Warning: replacing previous import ‘Biostrings::pattern’ by ‘grid::pattern’ when loading ‘genomation’ ** testing if installed package can be loaded from final location Warning: replacing previous import ‘Biostrings::pattern’ by ‘grid::pattern’ when loading ‘genomation’ ** testing if installed package keeps a record of temporary installation path * DONE (RCAS)
RCAS.Rcheck/tests/testthat.Rout
R version 4.5.1 Patched (2025-09-10 r88807) -- "Great Square Root"
Copyright (C) 2025 The R Foundation for Statistical Computing
Platform: aarch64-apple-darwin20
R is free software and comes with ABSOLUTELY NO WARRANTY.
You are welcome to redistribute it under certain conditions.
Type 'license()' or 'licence()' for distribution details.
R is a collaborative project with many contributors.
Type 'contributors()' for more information and
'citation()' on how to cite R or R packages in publications.
Type 'demo()' for some demos, 'help()' for on-line help, or
'help.start()' for an HTML browser interface to help.
Type 'q()' to quit R.
> library(testthat)
> library(RCAS)
Loading required package: plotly
Loading required package: ggplot2
Attaching package: 'plotly'
The following object is masked from 'package:ggplot2':
last_plot
The following object is masked from 'package:stats':
filter
The following object is masked from 'package:graphics':
layout
Loading required package: DT
Loading required package: data.table
Warning message:
replacing previous import 'Biostrings::pattern' by 'grid::pattern' when loading 'genomation'
>
> test_check("RCAS")
[ FAIL 0 | WARN 9939 | SKIP 0 | PASS 48 ]
[ FAIL 0 | WARN 9939 | SKIP 0 | PASS 48 ]
>
> proc.time()
user system elapsed
31.618 1.444 33.284
RCAS.Rcheck/RCAS-Ex.timings
| name | user | system | elapsed | |
| calculateCoverageProfile | 3.804 | 0.191 | 4.021 | |
| calculateCoverageProfileList | 4.907 | 0.376 | 5.291 | |
| checkSeqDb | 0.101 | 0.010 | 0.134 | |
| createControlRegions | 0.090 | 0.012 | 0.102 | |
| createDB | 0.927 | 0.063 | 6.905 | |
| discoverFeatureSpecificMotifs | 0.000 | 0.000 | 0.001 | |
| extractSequences | 0.500 | 0.085 | 0.749 | |
| findDifferentialMotifs | 3.942 | 0.085 | 3.639 | |
| findEnrichedFunctions | 0.254 | 0.012 | 5.284 | |
| generateKmers | 0.001 | 0.000 | 0.000 | |
| getFeatureBoundaryCoverage | 1.889 | 0.107 | 2.021 | |
| getFeatureBoundaryCoverageBin | 1.466 | 0.091 | 1.558 | |
| getFeatureBoundaryCoverageMulti | 4.292 | 0.418 | 4.749 | |
| getIntervalOverlapMatrix | 0.350 | 0.023 | 0.499 | |
| getMotifSummaryTable | 6.472 | 0.209 | 23.296 | |
| getPWM | 0 | 0 | 0 | |
| getTargetedGenesTable | 3.167 | 0.201 | 3.394 | |
| getTxdbFeaturesFromGRanges | 2.594 | 0.159 | 2.783 | |
| importBed | 0.069 | 0.006 | 0.078 | |
| importBedFiles | 0.299 | 0.056 | 0.372 | |
| importGtf | 0 | 0 | 0 | |
| plotFeatureBoundaryCoverage | 1.527 | 0.108 | 1.653 | |
| queryGff | 0.235 | 0.035 | 0.270 | |
| runMotifDiscovery | 18.529 | 0.210 | 16.786 | |
| runReport | 0 | 0 | 0 | |
| runReportMetaAnalysis | 0.344 | 0.092 | 0.503 | |
| summarizeQueryRegions | 2.609 | 0.179 | 2.809 | |
| summarizeQueryRegionsMulti | 3.260 | 0.212 | 9.596 | |