Back to Multiple platform build/check report for BioC 3.22:   simplified   long
ABCDEFGHIJKLMNO[P]QRSTUVWXYZ

This page was generated on 2025-11-20 12:07 -0500 (Thu, 20 Nov 2025).

HostnameOSArch (*)R versionInstalled pkgs
nebbiolo2Linux (Ubuntu 24.04.3 LTS)x86_644.5.2 (2025-10-31) -- "[Not] Part in a Rumble" 4615
merida1macOS 12.7.6 Montereyx86_644.5.2 Patched (2025-11-05 r88990) -- "[Not] Part in a Rumble" 4610
kjohnson1macOS 13.7.5 Venturaarm644.5.2 Patched (2025-11-04 r88984) -- "[Not] Part in a Rumble" 4598
taishanLinux (openEuler 24.03 LTS)aarch644.5.0 (2025-04-11) -- "How About a Twenty-Six" 4668
Click on any hostname to see more info about the system (e.g. compilers)      (*) as reported by 'uname -p', except on Windows and Mac OS X

Package 1596/2361HostnameOS / ArchINSTALLBUILDCHECKBUILD BIN
PhyloProfile 2.2.1  (landing page)
Vinh Tran
Snapshot Date: 2025-11-17 13:45 -0500 (Mon, 17 Nov 2025)
git_url: https://git.bioconductor.org/packages/PhyloProfile
git_branch: RELEASE_3_22
git_last_commit: 0e73eed
git_last_commit_date: 2025-11-03 17:20:22 -0500 (Mon, 03 Nov 2025)
nebbiolo2Linux (Ubuntu 24.04.3 LTS) / x86_64  OK    OK    OK  UNNEEDED, same version is already published
merida1macOS 12.7.6 Monterey / x86_64  OK    OK    OK    OK  YES
kjohnson1macOS 13.7.5 Ventura / arm64  OK    OK    OK    OK  UNNEEDED, same version is already published
taishanLinux (openEuler 24.03 LTS) / aarch64  OK    OK    OK  


CHECK results for PhyloProfile on taishan

To the developers/maintainers of the PhyloProfile package:
- Allow up to 24 hours (and sometimes 48 hours) for your latest push to git@git.bioconductor.org:packages/PhyloProfile.git to reflect on this report. See Troubleshooting Build Report for more information.
- Use the following Renviron settings to reproduce errors and warnings.
- If 'R CMD check' started to fail recently on the Linux builder(s) over a missing dependency, add the missing dependency to 'Suggests:' in your DESCRIPTION file. See Renviron.bioc for more information.
- See Martin Grigorov's blog post for how to debug Linux ARM64 related issues on a x86_64 host.

raw results


Summary

Package: PhyloProfile
Version: 2.2.1
Command: /home/biocbuild/R/R/bin/R CMD check --install=check:PhyloProfile.install-out.txt --library=/home/biocbuild/R/R/site-library --no-vignettes --timings PhyloProfile_2.2.1.tar.gz
StartedAt: 2025-11-18 13:19:04 -0000 (Tue, 18 Nov 2025)
EndedAt: 2025-11-18 13:24:21 -0000 (Tue, 18 Nov 2025)
EllapsedTime: 317.3 seconds
RetCode: 0
Status:   OK  
CheckDir: PhyloProfile.Rcheck
Warnings: 0

Command output

##############################################################################
##############################################################################
###
### Running command:
###
###   /home/biocbuild/R/R/bin/R CMD check --install=check:PhyloProfile.install-out.txt --library=/home/biocbuild/R/R/site-library --no-vignettes --timings PhyloProfile_2.2.1.tar.gz
###
##############################################################################
##############################################################################


* using log directory ‘/home/biocbuild/bbs-3.22-bioc/meat/PhyloProfile.Rcheck’
* using R version 4.5.0 (2025-04-11)
* using platform: aarch64-unknown-linux-gnu
* R was compiled by
    aarch64-unknown-linux-gnu-gcc (GCC) 14.2.0
    GNU Fortran (GCC) 14.2.0
* running under: openEuler 24.03 (LTS)
* using session charset: UTF-8
* using option ‘--no-vignettes’
* checking for file ‘PhyloProfile/DESCRIPTION’ ... OK
* this is package ‘PhyloProfile’ version ‘2.2.1’
* package encoding: UTF-8
* checking package namespace information ... OK
* checking package dependencies ... INFO
Imports includes 31 non-default packages.
Importing from so many packages makes the package vulnerable to any of
them becoming unavailable.  Move as many as possible to Suggests and
use conditionally.
* checking if this is a source package ... OK
* checking if there is a namespace ... OK
* checking for hidden files and directories ... OK
* checking for portable file names ... OK
* checking for sufficient/correct file permissions ... OK
* checking whether package ‘PhyloProfile’ can be installed ... OK
* checking installed package size ... OK
* checking package directory ... OK
* checking ‘build’ directory ... OK
* checking DESCRIPTION meta-information ... OK
* checking top-level files ... OK
* checking for left-over files ... OK
* checking index information ... OK
* checking package subdirectories ... OK
* checking code files for non-ASCII characters ... OK
* checking R files for syntax errors ... OK
* checking whether the package can be loaded ... OK
* checking whether the package can be loaded with stated dependencies ... OK
* checking whether the package can be unloaded cleanly ... OK
* checking whether the namespace can be loaded with stated dependencies ... OK
* checking whether the namespace can be unloaded cleanly ... OK
* checking loading without being on the library search path ... OK
* checking dependencies in R code ... OK
* checking S3 generic/method consistency ... OK
* checking replacement functions ... OK
* checking foreign function calls ... OK
* checking R code for possible problems ... OK
* checking Rd files ... OK
* checking Rd metadata ... OK
* checking Rd cross-references ... OK
* checking for missing documentation entries ... OK
* checking for code/documentation mismatches ... OK
* checking Rd \usage sections ... OK
* checking Rd contents ... OK
* checking for unstated dependencies in examples ... OK
* checking contents of ‘data’ directory ... OK
* checking data for non-ASCII characters ... OK
* checking data for ASCII and uncompressed saves ... OK
* checking files in ‘vignettes’ ... OK
* checking examples ... OK
* checking for unstated dependencies in ‘tests’ ... OK
* checking tests ...
  Running ‘testthat.R’
 OK
* checking for unstated dependencies in vignettes ... OK
* checking package vignettes ... OK
* checking running R code from vignettes ... SKIPPED
* checking re-building of vignette outputs ... SKIPPED
* checking PDF version of manual ... OK
* DONE

Status: OK


Installation output

PhyloProfile.Rcheck/00install.out

##############################################################################
##############################################################################
###
### Running command:
###
###   /home/biocbuild/R/R/bin/R CMD INSTALL PhyloProfile
###
##############################################################################
##############################################################################


* installing to library ‘/home/biocbuild/R/R-4.5.0/site-library’
* installing *source* package ‘PhyloProfile’ ...
** this is package ‘PhyloProfile’ version ‘2.2.1’
** using staged installation
** R
** data
** inst
** byte-compile and prepare package for lazy loading
** help
*** installing help indices
** building package indices
** installing vignettes
** testing if installed package can be loaded from temporary location
** testing if installed package can be loaded from final location
** testing if installed package keeps a record of temporary installation path
* DONE (PhyloProfile)

Tests output

PhyloProfile.Rcheck/tests/testthat.Rout


R version 4.5.0 (2025-04-11) -- "How About a Twenty-Six"
Copyright (C) 2025 The R Foundation for Statistical Computing
Platform: aarch64-unknown-linux-gnu

R is free software and comes with ABSOLUTELY NO WARRANTY.
You are welcome to redistribute it under certain conditions.
Type 'license()' or 'licence()' for distribution details.

R is a collaborative project with many contributors.
Type 'contributors()' for more information and
'citation()' on how to cite R or R packages in publications.

Type 'demo()' for some demos, 'help()' for on-line help, or
'help.start()' for an HTML browser interface to help.
Type 'q()' to quit R.

> library(testthat)
> library(PhyloProfile)
> 
> test_check("PhyloProfile")
[ FAIL 0 | WARN 0 | SKIP 0 | PASS 22 ]
> 
> proc.time()
   user  system elapsed 
  9.408   0.554  10.298 

Example timings

PhyloProfile.Rcheck/PhyloProfile-Ex.timings

nameusersystemelapsed
addDimRedTaxaColors0.9120.0560.976
addFeatureColors0.0350.0040.040
addRankDivisionPlot1.9140.0641.983
calcPresSpec0.0480.0000.049
checkColorPalette000
checkInputValidity0.0040.0000.006
checkNewick0.0030.0000.003
checkOmaID000
checkOverlapDomains0.0190.0000.019
clusterDataDend0.0240.0000.023
compareMedianTaxonGroups0.0300.0000.029
compareTaxonGroups0.040.000.04
createArchiPlot3.3370.0563.404
createDimRedPlotData0.7580.0160.776
createGeneAgePlot0.4700.0030.475
createLongMatrix0.0160.0000.016
createPercentageDistributionData0.0870.0000.088
createProfileFromOma000
createUnrootedTree0.0160.0000.016
createVarDistPlot0.3950.0000.396
createVariableDistributionData0.0070.0000.007
createVariableDistributionDataSubset0.0080.0000.008
dataCustomizedPlot0.0400.0000.041
dataFeatureTaxGroup0.0160.0000.016
dataMainPlot0.0510.0000.051
dataVarDistTaxGroup0.0050.0000.006
dimReduction0.8060.0120.820
estimateGeneAge0.1610.0000.161
fastaParser0.0430.0000.043
featureDistTaxPlot0.4550.0000.456
filterProfileData0.1630.0000.163
fromInputToProfile0.2350.0000.235
geneAgePlotDf0.0070.0040.010
generateSinglePlot0.6870.0000.688
getAllDomainsOma000
getAllFastaOma000
getCommonAncestor0.0440.0000.044
getCoreGene0.1160.0000.117
getDataClustering0.0210.0000.021
getDataForOneOma000
getDendrogram0.0580.0000.059
getDistanceMatrix0.020.000.02
getDomainFolder0.0010.0000.001
getFastaFromFasInput0.0170.0000.017
getFastaFromFile0.0130.0000.013
getFastaFromFolder0.0050.0040.010
getIDsRank0.0260.0000.026
getInputTaxaID0.0030.0000.002
getInputTaxaName0.0120.0000.013
getNameList0.0170.0000.018
getOmaDataForOneOrtholog000
getOmaDomainFromURL000
getOmaMembers000
getQualColForVector0.0000.0000.001
getSelectedFastaOma000
getSelectedTaxonNames0.0190.0000.019
getTaxHierarchy0.0150.0040.019
getTaxonomyInfo0.0180.0000.018
getTaxonomyMatrix0.0710.0280.100
getTaxonomyRanks0.0010.0000.000
gridArrangeSharedLegend000
groupLabelDimRedData0.0810.0040.085
heatmapPlotting0.6260.0120.640
heatmapPlottingFast4.3810.1874.441
highlightProfilePlot0.7090.0040.714
id2name0.0050.0000.005
joinPlotMergeLegends1.0760.0041.082
linearizeArchitecture0.0110.0000.011
mainTaxonomyRank0.0000.0000.001
modifyFeatureName0.0110.0040.015
pairDomainPlotting0.8550.0040.869
parseDomainInput0.0110.0040.014
parseInfoProfile0.1540.0120.166
plotDimRed1.3780.0081.390
plotDimRed3D1.1380.0121.153
prepareDimRedData0.0640.0000.064
processNcbiTaxonomy000
processOrthoID0.1440.0190.227
qualitativeColours0.0010.0000.000
rankIndexing0.0620.0000.065
reduceProfile0.0640.0000.064
resolveOverlapFeatures0.0210.0000.021
runPhyloProfile0.0990.0140.112
singleDomainPlotting0.4290.0000.430
sortDomains0.0090.0000.009
sortDomainsByList0.0110.0000.010
sortInputTaxa0.0350.0000.035
sortTaxaFromTree0.0150.0000.015
taxonomyTableCreator0.1120.0040.117
varDistTaxPlot1.5980.0161.619
wideToLong0.0110.0000.012
xmlParser0.0210.0000.023