| Back to Multiple platform build/check report for BioC 3.21: simplified long |
|
This page was generated on 2025-10-16 11:41 -0400 (Thu, 16 Oct 2025).
| Hostname | OS | Arch (*) | R version | Installed pkgs |
|---|---|---|---|---|
| nebbiolo1 | Linux (Ubuntu 24.04.3 LTS) | x86_64 | 4.5.1 (2025-06-13) -- "Great Square Root" | 4833 |
| merida1 | macOS 12.7.6 Monterey | x86_64 | 4.5.1 RC (2025-06-05 r88288) -- "Great Square Root" | 4614 |
| kjohnson1 | macOS 13.7.5 Ventura | arm64 | 4.5.1 Patched (2025-06-14 r88325) -- "Great Square Root" | 4555 |
| kunpeng2 | Linux (openEuler 24.03 LTS) | aarch64 | R Under development (unstable) (2025-02-19 r87757) -- "Unsuffered Consequences" | 4586 |
| Click on any hostname to see more info about the system (e.g. compilers) (*) as reported by 'uname -p', except on Windows and Mac OS X | ||||
| Package 1582/2341 | Hostname | OS / Arch | INSTALL | BUILD | CHECK | BUILD BIN | ||||||||
Renan Sauteraud
| nebbiolo1 | Linux (Ubuntu 24.04.3 LTS) / x86_64 | ERROR | ERROR | skipped | |||||||||
| merida1 | macOS 12.7.6 Monterey / x86_64 | ERROR | ERROR | skipped | skipped | |||||||||
| kjohnson1 | macOS 13.7.5 Ventura / arm64 | ERROR | ERROR | skipped | skipped | |||||||||
| kunpeng2 | Linux (openEuler 24.03 LTS) / aarch64 | ERROR | ERROR | skipped | ||||||||||
|
To the developers/maintainers of the PICS package: - Allow up to 24 hours (and sometimes 48 hours) for your latest push to git@git.bioconductor.org:packages/PICS.git to reflect on this report. See Troubleshooting Build Report for more information. - Use the following Renviron settings to reproduce errors and warnings. - If 'R CMD check' started to fail recently on the Linux builder(s) over a missing dependency, add the missing dependency to 'Suggests:' in your DESCRIPTION file. See Renviron.bioc for more information. - See Martin Grigorov's blog post for how to debug Linux ARM64 related issues on a x86_64 host. |
| Package: PICS |
| Version: 2.52.0 |
| Command: /home/biocbuild/R/R/bin/R CMD INSTALL PICS |
| StartedAt: 2025-10-13 20:41:52 -0000 (Mon, 13 Oct 2025) |
| EndedAt: 2025-10-13 20:41:56 -0000 (Mon, 13 Oct 2025) |
| EllapsedTime: 4.3 seconds |
| RetCode: 1 |
| Status: ERROR |
##############################################################################
##############################################################################
###
### Running command:
###
### /home/biocbuild/R/R/bin/R CMD INSTALL PICS
###
##############################################################################
##############################################################################
* installing to library ‘/home/biocbuild/R/R-devel_2025-02-19/site-library’
* installing *source* package ‘PICS’ ...
** this is package ‘PICS’ version ‘2.52.0’
** using staged installation
checking for pkg-config... /usr/bin/pkg-config
checking pkg-config is at least version 0.9.0... yes
checking for GSL... yes
configure: creating ./config.status
config.status: creating src/Makevars
** libs
using C compiler: ‘aarch64-unknown-linux-gnu-gcc (GCC) 14.2.0’
/opt/ohpc/pub/compiler/gcc/14.2.0/bin/aarch64-unknown-linux-gnu-gcc -std=gnu23 -I"/home/biocbuild/R/R/include" -DNDEBUG -I/usr/local/include -fPIC -g -O2 -Wall -Werror=format-security -c pics.c -o pics.o
pics.c: In function ‘ECM2’:
pics.c:1009:16: warning: variable ‘chiSum’ set but not used [-Wunused-but-set-variable]
1009 | double chiSum, etaF, etaR, dd, cc;
| ^~~~~~
pics.c: In function ‘getInfMat’:
pics.c:1633:83: warning: unused variable ‘PhiRw’ [-Wunused-variable]
1633 | double aNormF, aNormR, bNormF, bNormR, P0F=1, P0R=1, PhiF, PhiR, PhiFw, PhiRw, wPjF, wPjR;
| ^~~~~
pics.c:1633:76: warning: unused variable ‘PhiFw’ [-Wunused-variable]
1633 | double aNormF, aNormR, bNormF, bNormR, P0F=1, P0R=1, PhiF, PhiR, PhiFw, PhiRw, wPjF, wPjR;
| ^~~~~
pics.c: In function ‘mergePeak’:
pics.c:1889:11: warning: unused variable ‘j’ [-Wunused-variable]
1889 | int i=0,j=0,k=0,l=0,kMerge=0,flag=0;
| ^
pics.c:1889:7: warning: unused variable ‘i’ [-Wunused-variable]
1889 | int i=0,j=0,k=0,l=0,kMerge=0,flag=0;
| ^
pics.c: In function ‘BIC’:
pics.c:1307:13: warning: ‘penalty’ may be used uninitialized [-Wmaybe-uninitialized]
1307 | bic = logDensityMix(yF, w, muF, sigmaSqF, K, NF) + logDensityMix(yR, w, muR, sigmaSqR, K,NR) - penalty;
| ~~~~^~~~~~~~~~~~~~~~~~~~~~~~~~~~~~~~~~~~~~~~~~~~~~~~~~~~~~~~~~~~~~~~~~~~~~~~~~~~~~~~~~~~~~~~~~~~~~~~~~
pics.c:1275:42: note: ‘penalty’ was declared here
1275 | double bic, tmp, muF[K], muR[K], penalty, distance;
| ^~~~~~~
pics.c: In function ‘fitModelK’:
pics.c:494:23: warning: ‘firstFit’ may be used uninitialized [-Wmaybe-uninitialized]
494 | return(ans);
| ^
pics.c:421:25: note: ‘firstFit’ was declared here
421 | SEXP ans, temp, firstFit;
| ^~~~~~~~
/opt/ohpc/pub/compiler/gcc/14.2.0/bin/aarch64-unknown-linux-gnu-gcc -std=gnu23 -I"/home/biocbuild/R/R/include" -DNDEBUG -I/usr/local/include -fPIC -g -O2 -Wall -Werror=format-security -c segment.c -o segment.o
segment.c: In function ‘segReads’:
segment.c:147:22: error: implicit declaration of function ‘Calloc’; did you mean ‘calloc’? [-Wimplicit-function-declaration]
147 | scoreRegionF=(int*)Calloc((M-m)/(2*INTEGER_VALUE(width)), int);
| ^~~~~~
| calloc
segment.c:147:61: error: expected expression before ‘int’
147 | scoreRegionF=(int*)Calloc((M-m)/(2*INTEGER_VALUE(width)), int);
| ^~~
segment.c:148:61: error: expected expression before ‘int’
148 | scoreRegionR=(int*)Calloc((M-m)/(2*INTEGER_VALUE(width)), int);
| ^~~
segment.c: In function ‘getDensity’:
segment.c:1494:19: warning: variable ‘chr’ set but not used [-Wunused-but-set-variable]
1494 | SEXP ans, x, y, chr, names;
| ^~~
segment.c:1490:8: warning: unused variable ‘filter1’ [-Wunused-variable]
1490 | SEXP filter1;
| ^~~~~~~
segment.c:1489:11: warning: unused variable ‘muFilter’ [-Wunused-variable]
1489 | double *muFilter, *deltaFilter, *sFFilter, *sRFilter, *seFilter, *seFilterF, *seFilterR, *scoreFilter, *score;
| ^~~~~~~~
make: *** [/home/biocbuild/R/R/etc/Makeconf:201: segment.o] Error 1
ERROR: compilation failed for package ‘PICS’
* removing ‘/home/biocbuild/R/R-devel_2025-02-19/site-library/PICS’