| Back to Multiple platform build/check report for BioC 3.21: simplified long |
|
This page was generated on 2025-10-16 11:40 -0400 (Thu, 16 Oct 2025).
| Hostname | OS | Arch (*) | R version | Installed pkgs |
|---|---|---|---|---|
| nebbiolo1 | Linux (Ubuntu 24.04.3 LTS) | x86_64 | 4.5.1 (2025-06-13) -- "Great Square Root" | 4833 |
| merida1 | macOS 12.7.6 Monterey | x86_64 | 4.5.1 RC (2025-06-05 r88288) -- "Great Square Root" | 4614 |
| kjohnson1 | macOS 13.7.5 Ventura | arm64 | 4.5.1 Patched (2025-06-14 r88325) -- "Great Square Root" | 4555 |
| kunpeng2 | Linux (openEuler 24.03 LTS) | aarch64 | R Under development (unstable) (2025-02-19 r87757) -- "Unsuffered Consequences" | 4586 |
| Click on any hostname to see more info about the system (e.g. compilers) (*) as reported by 'uname -p', except on Windows and Mac OS X | ||||
| Package 1528/2341 | Hostname | OS / Arch | INSTALL | BUILD | CHECK | BUILD BIN | ||||||||
| PANR 1.54.0 (landing page) Xin Wang
| nebbiolo1 | Linux (Ubuntu 24.04.3 LTS) / x86_64 | OK | OK | OK | |||||||||
| merida1 | macOS 12.7.6 Monterey / x86_64 | OK | OK | OK | OK | |||||||||
| kjohnson1 | macOS 13.7.5 Ventura / arm64 | OK | OK | OK | OK | |||||||||
| kunpeng2 | Linux (openEuler 24.03 LTS) / aarch64 | OK | OK | OK | ||||||||||
|
To the developers/maintainers of the PANR package: - Allow up to 24 hours (and sometimes 48 hours) for your latest push to git@git.bioconductor.org:packages/PANR.git to reflect on this report. See Troubleshooting Build Report for more information. - Use the following Renviron settings to reproduce errors and warnings. - If 'R CMD check' started to fail recently on the Linux builder(s) over a missing dependency, add the missing dependency to 'Suggests:' in your DESCRIPTION file. See Renviron.bioc for more information. |
| Package: PANR |
| Version: 1.54.0 |
| Command: /Library/Frameworks/R.framework/Resources/bin/R CMD check --install=check:PANR.install-out.txt --library=/Library/Frameworks/R.framework/Resources/library --no-vignettes --timings PANR_1.54.0.tar.gz |
| StartedAt: 2025-10-15 06:56:21 -0400 (Wed, 15 Oct 2025) |
| EndedAt: 2025-10-15 06:57:18 -0400 (Wed, 15 Oct 2025) |
| EllapsedTime: 56.9 seconds |
| RetCode: 0 |
| Status: OK |
| CheckDir: PANR.Rcheck |
| Warnings: 0 |
##############################################################################
##############################################################################
###
### Running command:
###
### /Library/Frameworks/R.framework/Resources/bin/R CMD check --install=check:PANR.install-out.txt --library=/Library/Frameworks/R.framework/Resources/library --no-vignettes --timings PANR_1.54.0.tar.gz
###
##############################################################################
##############################################################################
* using log directory ‘/Users/biocbuild/bbs-3.21-bioc/meat/PANR.Rcheck’
* using R version 4.5.1 Patched (2025-06-14 r88325)
* using platform: aarch64-apple-darwin20
* R was compiled by
Apple clang version 16.0.0 (clang-1600.0.26.6)
GNU Fortran (GCC) 14.2.0
* running under: macOS Ventura 13.7.5
* using session charset: UTF-8
* using option ‘--no-vignettes’
* checking for file ‘PANR/DESCRIPTION’ ... OK
* checking extension type ... Package
* this is package ‘PANR’ version ‘1.54.0’
* checking package namespace information ... OK
* checking package dependencies ... OK
* checking if this is a source package ... OK
* checking if there is a namespace ... OK
* checking for hidden files and directories ... OK
* checking for portable file names ... OK
* checking for sufficient/correct file permissions ... OK
* checking whether package ‘PANR’ can be installed ... OK
* checking installed package size ... OK
* checking package directory ... OK
* checking ‘build’ directory ... OK
* checking DESCRIPTION meta-information ... OK
* checking top-level files ... OK
* checking for left-over files ... OK
* checking index information ... OK
* checking package subdirectories ... OK
* checking code files for non-ASCII characters ... OK
* checking R files for syntax errors ... OK
* checking whether the package can be loaded ... OK
* checking whether the package can be loaded with stated dependencies ... OK
* checking whether the package can be unloaded cleanly ... OK
* checking whether the namespace can be loaded with stated dependencies ... OK
* checking whether the namespace can be unloaded cleanly ... OK
* checking dependencies in R code ... OK
* checking S3 generic/method consistency ... OK
* checking replacement functions ... OK
* checking foreign function calls ... OK
* checking R code for possible problems ... NOTE
SNR2p,BetaMixture-numeric_Or_integer: no visible global function
definition for ‘runif’
SNR2p,BetaMixture-numeric_Or_integer: no visible global function
definition for ‘pbeta’
p2SNR,BetaMixture-numeric_Or_integer: no visible global function
definition for ‘qbeta’
Undefined global functions or variables:
pbeta qbeta runif
Consider adding
importFrom("stats", "pbeta", "qbeta", "runif")
to your NAMESPACE file.
* checking Rd files ... NOTE
checkRd: (-1) assoScore.Rd:33: Lost braces
33 | a logical value to switch on (if \code{TRUE}) or off {if \code{FALSE}} detailed
| ^
checkRd: (-1) buildPAN.Rd:27: Lost braces
27 | a logical value to switch on (if \code{TRUE}) or off {if \code{FALSE}} detailed
| ^
checkRd: (-1) exportPAN.Rd:34: Lost braces
34 | a logical value to switch on (if \code{TRUE}) or off {if \code{FALSE}} detailed
| ^
checkRd: (-1) fitBM.Rd:28: Lost braces
28 | a logical value to switch on (if \code{TRUE}) or off {if \code{FALSE}} detailed
| ^
checkRd: (-1) fitNULL.Rd:37: Lost braces
37 | a logical value to switch on (if \code{TRUE}) or off {if \code{FALSE}} detailed
| ^
checkRd: (-1) infer.Rd:27: Lost braces
27 | a logical value to switch on (if \code{TRUE}) or off {if \code{FALSE}} detailed
| ^
checkRd: (-1) pvclustModule.Rd:38: Lost braces
38 | a logical value to switch on (if \code{TRUE}) or off {if \code{FALSE}} detailed
| ^
checkRd: (-1) viewNestedModules.Rd:30: Lost braces
30 | a logical value to switch on (if \code{TRUE}) or off {if \code{FALSE}} detailed
| ^
checkRd: (-1) viewPAN.Rd:33: Lost braces
33 | a logical value to switch on (if \code{TRUE}) or off {if \code{FALSE}} detailed
| ^
* checking Rd metadata ... OK
* checking Rd cross-references ... OK
* checking for missing documentation entries ... OK
* checking for code/documentation mismatches ... OK
* checking Rd \usage sections ... OK
* checking Rd contents ... OK
* checking for unstated dependencies in examples ... OK
* checking contents of ‘data’ directory ... OK
* checking data for non-ASCII characters ... OK
* checking data for ASCII and uncompressed saves ... OK
* checking sizes of PDF files under ‘inst/doc’ ... OK
* checking files in ‘vignettes’ ... OK
* checking examples ... OK
Examples with CPU (user + system) or elapsed time > 5s
user system elapsed
fitNULL 9.564 0.173 9.807
* checking for unstated dependencies in vignettes ... OK
* checking package vignettes ... OK
* checking running R code from vignettes ... SKIPPED
* checking re-building of vignette outputs ... SKIPPED
* checking PDF version of manual ... OK
* DONE
Status: 2 NOTEs
See
‘/Users/biocbuild/bbs-3.21-bioc/meat/PANR.Rcheck/00check.log’
for details.
PANR.Rcheck/00install.out
############################################################################## ############################################################################## ### ### Running command: ### ### /Library/Frameworks/R.framework/Resources/bin/R CMD INSTALL PANR ### ############################################################################## ############################################################################## * installing to library ‘/Library/Frameworks/R.framework/Versions/4.5-arm64/Resources/library’ * installing *source* package ‘PANR’ ... ** this is package ‘PANR’ version ‘1.54.0’ ** using staged installation ** R ** data ** inst ** byte-compile and prepare package for lazy loading ** help *** installing help indices ** building package indices ** installing vignettes ** testing if installed package can be loaded from temporary location ** testing if installed package can be loaded from final location ** testing if installed package keeps a record of temporary installation path * DONE (PANR)
PANR.Rcheck/PANR-Ex.timings
| name | user | system | elapsed | |
| BetaMixture-class | 0.000 | 0.000 | 0.001 | |
| PAN-class | 0 | 0 | 0 | |
| SNR2p | 0 | 0 | 0 | |
| assoScore | 0.006 | 0.001 | 0.007 | |
| buildPAN | 0.323 | 0.036 | 0.361 | |
| cosineSim | 0.002 | 0.000 | 0.002 | |
| data-Bakal2007 | 0.022 | 0.005 | 0.027 | |
| exportPAN | 0 | 0 | 0 | |
| fitBM | 0.000 | 0.001 | 0.000 | |
| fitNULL | 9.564 | 0.173 | 9.807 | |
| infer | 0.369 | 0.013 | 0.385 | |
| p2SNR | 0 | 0 | 0 | |
| permNULL | 0.023 | 0.002 | 0.025 | |
| pvclustModule | 0 | 0 | 0 | |
| sigModules | 0 | 0 | 0 | |
| summarize | 0.034 | 0.003 | 0.038 | |
| view | 0.176 | 0.022 | 0.198 | |
| viewLegend | 0.000 | 0.001 | 0.000 | |
| viewNestedModules | 0 | 0 | 0 | |
| viewPAN | 0.000 | 0.001 | 0.000 | |