| Back to Multiple platform build/check report for BioC 3.22: simplified long |
|
This page was generated on 2025-11-07 12:00 -0500 (Fri, 07 Nov 2025).
| Hostname | OS | Arch (*) | R version | Installed pkgs |
|---|---|---|---|---|
| nebbiolo2 | Linux (Ubuntu 24.04.3 LTS) | x86_64 | 4.5.1 Patched (2025-08-23 r88802) -- "Great Square Root" | 4902 |
| kjohnson3 | macOS 13.7.7 Ventura | arm64 | 4.5.1 Patched (2025-09-10 r88807) -- "Great Square Root" | 4638 |
| Click on any hostname to see more info about the system (e.g. compilers) (*) as reported by 'uname -p', except on Windows and Mac OS X | ||||
| Package 1533/2361 | Hostname | OS / Arch | INSTALL | BUILD | CHECK | BUILD BIN | ||||||||
| OUTRIDER 1.28.0 (landing page) Christian Mertes
| nebbiolo2 | Linux (Ubuntu 24.04.3 LTS) / x86_64 | OK | OK | OK | |||||||||
| kjohnson3 | macOS 13.7.7 Ventura / arm64 | OK | OK | OK | OK | |||||||||
|
To the developers/maintainers of the OUTRIDER package: - Allow up to 24 hours (and sometimes 48 hours) for your latest push to git@git.bioconductor.org:packages/OUTRIDER.git to reflect on this report. See Troubleshooting Build Report for more information. - Use the following Renviron settings to reproduce errors and warnings. - If 'R CMD check' started to fail recently on the Linux builder(s) over a missing dependency, add the missing dependency to 'Suggests:' in your DESCRIPTION file. See Renviron.bioc for more information. |
| Package: OUTRIDER |
| Version: 1.28.0 |
| Command: /home/biocbuild/bbs-3.22-bioc/R/bin/R CMD check --install=check:OUTRIDER.install-out.txt --library=/home/biocbuild/bbs-3.22-bioc/R/site-library --timings OUTRIDER_1.28.0.tar.gz |
| StartedAt: 2025-11-07 02:20:48 -0500 (Fri, 07 Nov 2025) |
| EndedAt: 2025-11-07 02:36:14 -0500 (Fri, 07 Nov 2025) |
| EllapsedTime: 926.7 seconds |
| RetCode: 0 |
| Status: OK |
| CheckDir: OUTRIDER.Rcheck |
| Warnings: 0 |
##############################################################################
##############################################################################
###
### Running command:
###
### /home/biocbuild/bbs-3.22-bioc/R/bin/R CMD check --install=check:OUTRIDER.install-out.txt --library=/home/biocbuild/bbs-3.22-bioc/R/site-library --timings OUTRIDER_1.28.0.tar.gz
###
##############################################################################
##############################################################################
* using log directory ‘/home/biocbuild/bbs-3.22-bioc/meat/OUTRIDER.Rcheck’
* using R version 4.5.1 Patched (2025-08-23 r88802)
* using platform: x86_64-pc-linux-gnu
* R was compiled by
gcc (Ubuntu 13.3.0-6ubuntu2~24.04) 13.3.0
GNU Fortran (Ubuntu 13.3.0-6ubuntu2~24.04) 13.3.0
* running under: Ubuntu 24.04.3 LTS
* using session charset: UTF-8
* checking for file ‘OUTRIDER/DESCRIPTION’ ... OK
* checking extension type ... Package
* this is package ‘OUTRIDER’ version ‘1.28.0’
* package encoding: UTF-8
* checking package namespace information ... OK
* checking package dependencies ... INFO
Imports includes 23 non-default packages.
Importing from so many packages makes the package vulnerable to any of
them becoming unavailable. Move as many as possible to Suggests and
use conditionally.
* checking if this is a source package ... OK
* checking if there is a namespace ... OK
* checking for hidden files and directories ... OK
* checking for portable file names ... OK
* checking for sufficient/correct file permissions ... OK
* checking whether package ‘OUTRIDER’ can be installed ... OK
* used C++ compiler: ‘g++ (Ubuntu 13.3.0-6ubuntu2~24.04) 13.3.0’
* checking installed package size ... OK
* checking package directory ... OK
* checking ‘build’ directory ... OK
* checking DESCRIPTION meta-information ... OK
* checking top-level files ... OK
* checking for left-over files ... OK
* checking index information ... OK
* checking package subdirectories ... OK
* checking code files for non-ASCII characters ... OK
* checking R files for syntax errors ... OK
* checking whether the package can be loaded ... OK
* checking whether the package can be loaded with stated dependencies ... OK
* checking whether the package can be unloaded cleanly ... OK
* checking whether the namespace can be loaded with stated dependencies ... OK
* checking whether the namespace can be unloaded cleanly ... OK
* checking loading without being on the library search path ... OK
* checking dependencies in R code ... NOTE
Unexported object imported by a ':::' call: 'ggbio:::.buildFacetsFromArgs'
See the note in ?`:::` about the use of this operator.
There are ::: calls to the package's namespace in its code. A package
almost never needs to use ::: for its own objects:
'checkOutriderDataSet'
* checking S3 generic/method consistency ... OK
* checking replacement functions ... OK
* checking foreign function calls ... OK
* checking R code for possible problems ... NOTE
estimateBestQ: no visible binding for global variable ‘oht’
plotEncDimSearch.OUTRIDER: no visible binding for global variable ‘oht’
plotEncDimSearch.OUTRIDER: no visible binding for global variable
‘singular_values’
plotEncDimSearch,OutriderDataSet: no visible binding for global
variable ‘oht’
plotEncDimSearch,OutriderDataSet: no visible binding for global
variable ‘singular_values’
Undefined global functions or variables:
oht singular_values
* checking Rd files ... OK
* checking Rd metadata ... OK
* checking Rd cross-references ... NOTE
Non-topic package-anchored link(s) in Rd file 'getter_setter_functions.Rd':
‘[DESeq2]{estimateDispersions}’
Non-topic package-anchored link(s) in Rd file 'sizeFactors.Rd':
‘[DESeq2]{estimateSizeFactors}’
See section 'Cross-references' in the 'Writing R Extensions' manual.
* checking for missing documentation entries ... OK
* checking for code/documentation mismatches ... OK
* checking Rd \usage sections ... OK
* checking Rd contents ... OK
* checking for unstated dependencies in examples ... OK
* checking line endings in C/C++/Fortran sources/headers ... OK
* checking line endings in Makefiles ... OK
* checking compilation flags in Makevars ... OK
* checking for GNU extensions in Makefiles ... OK
* checking for portable use of $(BLAS_LIBS) and $(LAPACK_LIBS) ... OK
* checking use of PKG_*FLAGS in Makefiles ... OK
* checking compiled code ... NOTE
Note: information on .o files is not available
* checking files in ‘vignettes’ ... OK
* checking examples ... OK
Examples with CPU (user + system) or elapsed time > 5s
user system elapsed
plotFunctions 24.822 0.516 26.122
OUTRIDER 12.077 3.490 13.975
estimateBestQ 11.586 0.578 12.164
* checking for unstated dependencies in ‘tests’ ... OK
* checking tests ...
Running ‘testthat.R’
OK
* checking for unstated dependencies in vignettes ... OK
* checking package vignettes ... OK
* checking re-building of vignette outputs ... OK
* checking PDF version of manual ... OK
* DONE
Status: 4 NOTEs
See
‘/home/biocbuild/bbs-3.22-bioc/meat/OUTRIDER.Rcheck/00check.log’
for details.
OUTRIDER.Rcheck/00install.out
############################################################################## ############################################################################## ### ### Running command: ### ### /home/biocbuild/bbs-3.22-bioc/R/bin/R CMD INSTALL OUTRIDER ### ############################################################################## ############################################################################## * installing to library ‘/home/biocbuild/bbs-3.22-bioc/R/site-library’ * installing *source* package ‘OUTRIDER’ ... ** this is package ‘OUTRIDER’ version ‘1.28.0’ ** using staged installation ** libs using C++ compiler: ‘g++ (Ubuntu 13.3.0-6ubuntu2~24.04) 13.3.0’ g++ -std=gnu++17 -I"/home/biocbuild/bbs-3.22-bioc/R/include" -DNDEBUG -I'/home/biocbuild/bbs-3.22-bioc/R/site-library/Rcpp/include' -I'/home/biocbuild/bbs-3.22-bioc/R/site-library/RcppArmadillo/include' -I/usr/local/include -fopenmp -DARMA_DONT_USE_OPENMP -fpic -g -O2 -Wall -Werror=format-security -c RcppExports.cpp -o RcppExports.o g++ -std=gnu++17 -I"/home/biocbuild/bbs-3.22-bioc/R/include" -DNDEBUG -I'/home/biocbuild/bbs-3.22-bioc/R/site-library/Rcpp/include' -I'/home/biocbuild/bbs-3.22-bioc/R/site-library/RcppArmadillo/include' -I/usr/local/include -fopenmp -DARMA_DONT_USE_OPENMP -fpic -g -O2 -Wall -Werror=format-security -c loss_n_gradient_functions.cpp -o loss_n_gradient_functions.o g++ -std=gnu++17 -shared -L/home/biocbuild/bbs-3.22-bioc/R/lib -L/usr/local/lib -o OUTRIDER.so RcppExports.o loss_n_gradient_functions.o -fopenmp -llapack -L/home/biocbuild/bbs-3.22-bioc/R/lib -lRblas -lgfortran -lm -lquadmath -L/home/biocbuild/bbs-3.22-bioc/R/lib -lR installing to /home/biocbuild/bbs-3.22-bioc/R/site-library/00LOCK-OUTRIDER/00new/OUTRIDER/libs ** R ** inst ** byte-compile and prepare package for lazy loading ** help *** installing help indices ** building package indices ** installing vignettes ** testing if installed package can be loaded from temporary location ** checking absolute paths in shared objects and dynamic libraries ** testing if installed package can be loaded from final location ** testing if installed package keeps a record of temporary installation path * DONE (OUTRIDER)
OUTRIDER.Rcheck/tests/testthat.Rout
R version 4.5.1 Patched (2025-08-23 r88802) -- "Great Square Root"
Copyright (C) 2025 The R Foundation for Statistical Computing
Platform: x86_64-pc-linux-gnu
R is free software and comes with ABSOLUTELY NO WARRANTY.
You are welcome to redistribute it under certain conditions.
Type 'license()' or 'licence()' for distribution details.
R is a collaborative project with many contributors.
Type 'contributors()' for more information and
'citation()' on how to cite R or R packages in publications.
Type 'demo()' for some demos, 'help()' for on-line help, or
'help.start()' for an HTML browser interface to help.
Type 'q()' to quit R.
> library(testthat)
> library(OUTRIDER)
Loading required package: BiocParallel
Loading required package: GenomicFeatures
Loading required package: BiocGenerics
Loading required package: generics
Attaching package: 'generics'
The following objects are masked from 'package:base':
as.difftime, as.factor, as.ordered, intersect, is.element, setdiff,
setequal, union
Attaching package: 'BiocGenerics'
The following objects are masked from 'package:stats':
IQR, mad, sd, var, xtabs
The following objects are masked from 'package:base':
Filter, Find, Map, Position, Reduce, anyDuplicated, aperm, append,
as.data.frame, basename, cbind, colnames, dirname, do.call,
duplicated, eval, evalq, get, grep, grepl, is.unsorted, lapply,
mapply, match, mget, order, paste, pmax, pmax.int, pmin, pmin.int,
rank, rbind, rownames, sapply, saveRDS, table, tapply, unique,
unsplit, which.max, which.min
Loading required package: S4Vectors
Loading required package: stats4
Attaching package: 'S4Vectors'
The following object is masked from 'package:utils':
findMatches
The following objects are masked from 'package:base':
I, expand.grid, unname
Loading required package: IRanges
Loading required package: Seqinfo
Loading required package: GenomicRanges
Loading required package: AnnotationDbi
Loading required package: Biobase
Welcome to Bioconductor
Vignettes contain introductory material; view with
'browseVignettes()'. To cite Bioconductor, see
'citation("Biobase")', and for packages 'citation("pkgname")'.
Loading required package: SummarizedExperiment
Loading required package: MatrixGenerics
Loading required package: matrixStats
Attaching package: 'matrixStats'
The following objects are masked from 'package:Biobase':
anyMissing, rowMedians
Attaching package: 'MatrixGenerics'
The following objects are masked from 'package:matrixStats':
colAlls, colAnyNAs, colAnys, colAvgsPerRowSet, colCollapse,
colCounts, colCummaxs, colCummins, colCumprods, colCumsums,
colDiffs, colIQRDiffs, colIQRs, colLogSumExps, colMadDiffs,
colMads, colMaxs, colMeans2, colMedians, colMins, colOrderStats,
colProds, colQuantiles, colRanges, colRanks, colSdDiffs, colSds,
colSums2, colTabulates, colVarDiffs, colVars, colWeightedMads,
colWeightedMeans, colWeightedMedians, colWeightedSds,
colWeightedVars, rowAlls, rowAnyNAs, rowAnys, rowAvgsPerColSet,
rowCollapse, rowCounts, rowCummaxs, rowCummins, rowCumprods,
rowCumsums, rowDiffs, rowIQRDiffs, rowIQRs, rowLogSumExps,
rowMadDiffs, rowMads, rowMaxs, rowMeans2, rowMedians, rowMins,
rowOrderStats, rowProds, rowQuantiles, rowRanges, rowRanks,
rowSdDiffs, rowSds, rowSums2, rowTabulates, rowVarDiffs, rowVars,
rowWeightedMads, rowWeightedMeans, rowWeightedMedians,
rowWeightedSds, rowWeightedVars
The following object is masked from 'package:Biobase':
rowMedians
>
> register(SerialParam())
>
> test_check("OUTRIDER")
[1] "Fri Nov 7 02:30:47 2025: Initial PCA loss: 6.20004725567446"
[1] "Fri Nov 7 02:30:51 2025: Iteration: 1 loss: 4.27164511684773"
[1] "Fri Nov 7 02:30:53 2025: Iteration: 2 loss: 4.2186126925582"
[1] "Fri Nov 7 02:30:54 2025: Iteration: 3 loss: 4.20058104826913"
[1] "Fri Nov 7 02:30:55 2025: Iteration: 4 loss: 4.1878720284894"
[1] "Fri Nov 7 02:30:56 2025: Iteration: 5 loss: 4.17829273643194"
[1] "Fri Nov 7 02:30:56 2025: Iteration: 6 loss: 4.17584216653359"
Time difference of 7.699191 secs
[1] "Fri Nov 7 02:30:56 2025: 6 Final nb-AE loss: 4.17584216653359"
[1] "Fri Nov 7 02:30:58 2025: Initial PCA loss: 6.20004725567446"
[1] "Fri Nov 7 02:30:59 2025: Iteration: 1 loss: 4.27164511684773"
[1] "Fri Nov 7 02:31:00 2025: Iteration: 2 loss: 4.2186126925582"
[1] "Fri Nov 7 02:31:01 2025: Iteration: 3 loss: 4.20058104826913"
[1] "Fri Nov 7 02:31:02 2025: Iteration: 4 loss: 4.1878720284894"
[1] "Fri Nov 7 02:31:03 2025: Iteration: 5 loss: 4.17829273643194"
[1] "Fri Nov 7 02:31:04 2025: Iteration: 6 loss: 4.17584216653359"
Time difference of 5.352344 secs
[1] "Fri Nov 7 02:31:04 2025: 6 Final nb-AE loss: 4.17584216653359"
class: OutriderDataSet
class: RangedSummarizedExperiment
dim: 100 50
metadata(1): version
assays(1): counts
rownames(100): ENSG00000223972.4 ENSG00000227232.4 ...
ENSG00000107404.13 ENSG00000162576.12
rowData names(0):
colnames(50): GTEX.UPK5.0426.SM.3GAEK GTEX.WFG7.2026.SM.3GIL7 ...
GTEX.11UD2.2526.SM.5CVNU GTEX.13O61.1426.SM.5KM3D
colData names(1): sampleID
[1] "Fri Nov 7 02:31:17 2025: Initial PCA loss: 4.46243236649408"
[1] "Fri Nov 7 02:31:18 2025: Iteration: 1 loss: 4.11088836372939"
[1] "Fri Nov 7 02:31:19 2025: Iteration: 2 loss: 4.09708859496154"
Time difference of 1.44637 secs
[1] "Fri Nov 7 02:31:19 2025: 2 Final nb-AE loss: 4.09708859496154"
[1] "Evaluation loss: 0.453616966534316 for q=3"
[1] "Fri Nov 7 02:31:19 2025: Initial PCA loss: 4.43342528604529"
[1] "Fri Nov 7 02:31:22 2025: Iteration: 1 loss: 4.03607416944852"
[1] "Fri Nov 7 02:31:24 2025: Iteration: 2 loss: 4.0189946530901"
Time difference of 4.029247 secs
[1] "Fri Nov 7 02:31:24 2025: 2 Final nb-AE loss: 4.0189946530901"
[1] "Evaluation loss: 0.337138109456075 for q=4"
[1] "Fri Nov 7 02:31:27 2025: Initial PCA loss: 4.41036672639216"
[1] "Fri Nov 7 02:31:30 2025: Iteration: 1 loss: 3.95264525752867"
[1] "Fri Nov 7 02:31:31 2025: Iteration: 2 loss: 3.93257626850239"
Time difference of 3.044949 secs
[1] "Fri Nov 7 02:31:31 2025: 2 Final nb-AE loss: 3.93257626850239"
[1] "Evaluation loss: 0.325128611502956 for q=5"
Optimal encoding dimension: 4
Optimal encoding dimension: 50
Optimal encoding dimension: 20
Optimal encoding dimension: 2
Optimal encoding dimension: 4
Error in x$.self$finalize() : attempt to apply non-function
[1] "Fri Nov 7 02:32:00 2025: Initial PCA loss: 7.16457134714849"
[1] "Fri Nov 7 02:32:01 2025: Iteration: 1 loss: 6.82914112812595"
[1] "Fri Nov 7 02:32:02 2025: Iteration: 2 loss: 6.82749097859465"
Time difference of 1.450592 secs
[1] "Fri Nov 7 02:32:02 2025: 2 Final nb-AE loss: 6.82749097859465"
[ FAIL 0 | WARN 12 | SKIP 0 | PASS 131 ]
[ FAIL 0 | WARN 12 | SKIP 0 | PASS 131 ]
Warning message:
call dbDisconnect() when finished working with a connection
>
> proc.time()
user system elapsed
112.676 3.901 123.442
OUTRIDER.Rcheck/OUTRIDER-Ex.timings
| name | user | system | elapsed | |
| OUTRIDER | 12.077 | 3.490 | 13.975 | |
| OutriderDataSet-class | 0.756 | 0.159 | 0.916 | |
| aberrant | 1.783 | 1.152 | 1.930 | |
| computeGeneLength | 1.407 | 0.328 | 1.736 | |
| computeLatentSpace | 0.772 | 0.085 | 0.857 | |
| computePvalues | 2.205 | 2.767 | 2.718 | |
| computeZscores | 0.883 | 0.177 | 1.060 | |
| controlForConfounders | 1.131 | 0.129 | 1.260 | |
| counts | 0.540 | 0.023 | 0.563 | |
| estimateBestQ | 11.586 | 0.578 | 12.164 | |
| filterExpression | 1.386 | 0.043 | 1.430 | |
| fit | 0.848 | 0.043 | 0.892 | |
| fpkm | 0.739 | 0.015 | 0.754 | |
| getter_setter_functions | 2.879 | 0.019 | 2.897 | |
| makeExampleOutriderDataSet | 1.048 | 0.017 | 1.065 | |
| normalizationFactors | 0.762 | 0.003 | 0.765 | |
| plotFunctions | 24.822 | 0.516 | 26.122 | |
| results | 3.530 | 0.003 | 3.534 | |
| sampleExclusionMask | 0.427 | 0.000 | 0.426 | |
| sizeFactors | 0.73 | 0.00 | 0.73 | |