| Back to Multiple platform build/check report for BioC 3.21: simplified long |
|
This page was generated on 2025-10-16 11:38 -0400 (Thu, 16 Oct 2025).
| Hostname | OS | Arch (*) | R version | Installed pkgs |
|---|---|---|---|---|
| nebbiolo1 | Linux (Ubuntu 24.04.3 LTS) | x86_64 | 4.5.1 (2025-06-13) -- "Great Square Root" | 4833 |
| merida1 | macOS 12.7.6 Monterey | x86_64 | 4.5.1 RC (2025-06-05 r88288) -- "Great Square Root" | 4614 |
| kjohnson1 | macOS 13.7.5 Ventura | arm64 | 4.5.1 Patched (2025-06-14 r88325) -- "Great Square Root" | 4555 |
| kunpeng2 | Linux (openEuler 24.03 LTS) | aarch64 | R Under development (unstable) (2025-02-19 r87757) -- "Unsuffered Consequences" | 4586 |
| Click on any hostname to see more info about the system (e.g. compilers) (*) as reported by 'uname -p', except on Windows and Mac OS X | ||||
| Package 1512/2341 | Hostname | OS / Arch | INSTALL | BUILD | CHECK | BUILD BIN | ||||||||
| OUTRIDER 1.26.3 (landing page) Christian Mertes
| nebbiolo1 | Linux (Ubuntu 24.04.3 LTS) / x86_64 | OK | OK | OK | |||||||||
| merida1 | macOS 12.7.6 Monterey / x86_64 | OK | OK | OK | OK | |||||||||
| kjohnson1 | macOS 13.7.5 Ventura / arm64 | OK | OK | OK | OK | |||||||||
| kunpeng2 | Linux (openEuler 24.03 LTS) / aarch64 | OK | OK | ERROR | ||||||||||
|
To the developers/maintainers of the OUTRIDER package: - Allow up to 24 hours (and sometimes 48 hours) for your latest push to git@git.bioconductor.org:packages/OUTRIDER.git to reflect on this report. See Troubleshooting Build Report for more information. - Use the following Renviron settings to reproduce errors and warnings. - If 'R CMD check' started to fail recently on the Linux builder(s) over a missing dependency, add the missing dependency to 'Suggests:' in your DESCRIPTION file. See Renviron.bioc for more information. |
| Package: OUTRIDER |
| Version: 1.26.3 |
| Command: /home/biocbuild/bbs-3.21-bioc/R/bin/R CMD check --install=check:OUTRIDER.install-out.txt --library=/home/biocbuild/bbs-3.21-bioc/R/site-library --timings OUTRIDER_1.26.3.tar.gz |
| StartedAt: 2025-10-16 01:55:28 -0400 (Thu, 16 Oct 2025) |
| EndedAt: 2025-10-16 02:10:56 -0400 (Thu, 16 Oct 2025) |
| EllapsedTime: 927.8 seconds |
| RetCode: 0 |
| Status: OK |
| CheckDir: OUTRIDER.Rcheck |
| Warnings: 0 |
##############################################################################
##############################################################################
###
### Running command:
###
### /home/biocbuild/bbs-3.21-bioc/R/bin/R CMD check --install=check:OUTRIDER.install-out.txt --library=/home/biocbuild/bbs-3.21-bioc/R/site-library --timings OUTRIDER_1.26.3.tar.gz
###
##############################################################################
##############################################################################
* using log directory ‘/home/biocbuild/bbs-3.21-bioc/meat/OUTRIDER.Rcheck’
* using R version 4.5.1 (2025-06-13)
* using platform: x86_64-pc-linux-gnu
* R was compiled by
gcc (Ubuntu 13.3.0-6ubuntu2~24.04) 13.3.0
GNU Fortran (Ubuntu 13.3.0-6ubuntu2~24.04) 13.3.0
* running under: Ubuntu 24.04.3 LTS
* using session charset: UTF-8
* checking for file ‘OUTRIDER/DESCRIPTION’ ... OK
* checking extension type ... Package
* this is package ‘OUTRIDER’ version ‘1.26.3’
* package encoding: UTF-8
* checking package namespace information ... OK
* checking package dependencies ... INFO
Imports includes 22 non-default packages.
Importing from so many packages makes the package vulnerable to any of
them becoming unavailable. Move as many as possible to Suggests and
use conditionally.
* checking if this is a source package ... OK
* checking if there is a namespace ... OK
* checking for hidden files and directories ... OK
* checking for portable file names ... OK
* checking for sufficient/correct file permissions ... OK
* checking whether package ‘OUTRIDER’ can be installed ... OK
* used C++ compiler: ‘g++ (Ubuntu 13.3.0-6ubuntu2~24.04) 13.3.0’
* checking installed package size ... OK
* checking package directory ... OK
* checking ‘build’ directory ... OK
* checking DESCRIPTION meta-information ... OK
* checking top-level files ... OK
* checking for left-over files ... OK
* checking index information ... OK
* checking package subdirectories ... OK
* checking code files for non-ASCII characters ... OK
* checking R files for syntax errors ... OK
* checking whether the package can be loaded ... OK
* checking whether the package can be loaded with stated dependencies ... OK
* checking whether the package can be unloaded cleanly ... OK
* checking whether the namespace can be loaded with stated dependencies ... OK
* checking whether the namespace can be unloaded cleanly ... OK
* checking loading without being on the library search path ... OK
* checking dependencies in R code ... NOTE
Unexported object imported by a ':::' call: 'ggbio:::.buildFacetsFromArgs'
See the note in ?`:::` about the use of this operator.
There are ::: calls to the package's namespace in its code. A package
almost never needs to use ::: for its own objects:
'checkOutriderDataSet'
* checking S3 generic/method consistency ... OK
* checking replacement functions ... OK
* checking foreign function calls ... OK
* checking R code for possible problems ... NOTE
estimateBestQ: no visible binding for global variable ‘oht’
plotEncDimSearch.OUTRIDER: no visible binding for global variable ‘oht’
plotEncDimSearch.OUTRIDER: no visible binding for global variable
‘singular_values’
plotEncDimSearch,OutriderDataSet: no visible binding for global
variable ‘oht’
plotEncDimSearch,OutriderDataSet: no visible binding for global
variable ‘singular_values’
Undefined global functions or variables:
oht singular_values
* checking Rd files ... OK
* checking Rd metadata ... OK
* checking Rd cross-references ... NOTE
Non-topic package-anchored link(s) in Rd file 'getter_setter_functions.Rd':
‘[DESeq2]{estimateDispersions}’
Non-topic package-anchored link(s) in Rd file 'sizeFactors.Rd':
‘[DESeq2]{estimateSizeFactors}’
See section 'Cross-references' in the 'Writing R Extensions' manual.
* checking for missing documentation entries ... OK
* checking for code/documentation mismatches ... OK
* checking Rd \usage sections ... OK
* checking Rd contents ... OK
* checking for unstated dependencies in examples ... OK
* checking line endings in C/C++/Fortran sources/headers ... OK
* checking line endings in Makefiles ... OK
* checking compilation flags in Makevars ... OK
* checking for GNU extensions in Makefiles ... OK
* checking for portable use of $(BLAS_LIBS) and $(LAPACK_LIBS) ... OK
* checking use of PKG_*FLAGS in Makefiles ... OK
* checking compiled code ... NOTE
Note: information on .o files is not available
* checking files in ‘vignettes’ ... OK
* checking examples ... OK
Examples with CPU (user + system) or elapsed time > 5s
user system elapsed
plotFunctions 23.788 1.092 25.274
estimateBestQ 17.806 1.277 19.392
OUTRIDER 11.241 3.040 12.714
* checking for unstated dependencies in ‘tests’ ... OK
* checking tests ...
Running ‘testthat.R’
OK
* checking for unstated dependencies in vignettes ... OK
* checking package vignettes ... OK
* checking re-building of vignette outputs ... OK
* checking PDF version of manual ... OK
* DONE
Status: 4 NOTEs
See
‘/home/biocbuild/bbs-3.21-bioc/meat/OUTRIDER.Rcheck/00check.log’
for details.
OUTRIDER.Rcheck/00install.out
############################################################################## ############################################################################## ### ### Running command: ### ### /home/biocbuild/bbs-3.21-bioc/R/bin/R CMD INSTALL OUTRIDER ### ############################################################################## ############################################################################## * installing to library ‘/home/biocbuild/bbs-3.21-bioc/R/site-library’ * installing *source* package ‘OUTRIDER’ ... ** this is package ‘OUTRIDER’ version ‘1.26.3’ ** using staged installation ** libs using C++ compiler: ‘g++ (Ubuntu 13.3.0-6ubuntu2~24.04) 13.3.0’ g++ -std=gnu++17 -I"/home/biocbuild/bbs-3.21-bioc/R/include" -DNDEBUG -I'/home/biocbuild/bbs-3.21-bioc/R/site-library/Rcpp/include' -I'/home/biocbuild/bbs-3.21-bioc/R/site-library/RcppArmadillo/include' -I/usr/local/include -fopenmp -DARMA_DONT_USE_OPENMP -fpic -g -O2 -Wall -Werror=format-security -c RcppExports.cpp -o RcppExports.o g++ -std=gnu++17 -I"/home/biocbuild/bbs-3.21-bioc/R/include" -DNDEBUG -I'/home/biocbuild/bbs-3.21-bioc/R/site-library/Rcpp/include' -I'/home/biocbuild/bbs-3.21-bioc/R/site-library/RcppArmadillo/include' -I/usr/local/include -fopenmp -DARMA_DONT_USE_OPENMP -fpic -g -O2 -Wall -Werror=format-security -c loss_n_gradient_functions.cpp -o loss_n_gradient_functions.o g++ -std=gnu++17 -shared -L/home/biocbuild/bbs-3.21-bioc/R/lib -L/usr/local/lib -o OUTRIDER.so RcppExports.o loss_n_gradient_functions.o -fopenmp -llapack -L/home/biocbuild/bbs-3.21-bioc/R/lib -lRblas -lgfortran -lm -lquadmath -L/home/biocbuild/bbs-3.21-bioc/R/lib -lR installing to /home/biocbuild/bbs-3.21-bioc/R/site-library/00LOCK-OUTRIDER/00new/OUTRIDER/libs ** R ** inst ** byte-compile and prepare package for lazy loading ** help *** installing help indices ** building package indices ** installing vignettes ** testing if installed package can be loaded from temporary location ** checking absolute paths in shared objects and dynamic libraries ** testing if installed package can be loaded from final location ** testing if installed package keeps a record of temporary installation path * DONE (OUTRIDER)
OUTRIDER.Rcheck/tests/testthat.Rout
R version 4.5.1 (2025-06-13) -- "Great Square Root"
Copyright (C) 2025 The R Foundation for Statistical Computing
Platform: x86_64-pc-linux-gnu
R is free software and comes with ABSOLUTELY NO WARRANTY.
You are welcome to redistribute it under certain conditions.
Type 'license()' or 'licence()' for distribution details.
R is a collaborative project with many contributors.
Type 'contributors()' for more information and
'citation()' on how to cite R or R packages in publications.
Type 'demo()' for some demos, 'help()' for on-line help, or
'help.start()' for an HTML browser interface to help.
Type 'q()' to quit R.
> library(testthat)
> library(OUTRIDER)
Loading required package: BiocParallel
Loading required package: GenomicFeatures
Loading required package: BiocGenerics
Loading required package: generics
Attaching package: 'generics'
The following objects are masked from 'package:base':
as.difftime, as.factor, as.ordered, intersect, is.element, setdiff,
setequal, union
Attaching package: 'BiocGenerics'
The following objects are masked from 'package:stats':
IQR, mad, sd, var, xtabs
The following objects are masked from 'package:base':
Filter, Find, Map, Position, Reduce, anyDuplicated, aperm, append,
as.data.frame, basename, cbind, colnames, dirname, do.call,
duplicated, eval, evalq, get, grep, grepl, is.unsorted, lapply,
mapply, match, mget, order, paste, pmax, pmax.int, pmin, pmin.int,
rank, rbind, rownames, sapply, saveRDS, table, tapply, unique,
unsplit, which.max, which.min
Loading required package: S4Vectors
Loading required package: stats4
Attaching package: 'S4Vectors'
The following object is masked from 'package:utils':
findMatches
The following objects are masked from 'package:base':
I, expand.grid, unname
Loading required package: IRanges
Loading required package: GenomeInfoDb
Loading required package: GenomicRanges
Loading required package: AnnotationDbi
Loading required package: Biobase
Welcome to Bioconductor
Vignettes contain introductory material; view with
'browseVignettes()'. To cite Bioconductor, see
'citation("Biobase")', and for packages 'citation("pkgname")'.
Loading required package: SummarizedExperiment
Loading required package: MatrixGenerics
Loading required package: matrixStats
Attaching package: 'matrixStats'
The following objects are masked from 'package:Biobase':
anyMissing, rowMedians
Attaching package: 'MatrixGenerics'
The following objects are masked from 'package:matrixStats':
colAlls, colAnyNAs, colAnys, colAvgsPerRowSet, colCollapse,
colCounts, colCummaxs, colCummins, colCumprods, colCumsums,
colDiffs, colIQRDiffs, colIQRs, colLogSumExps, colMadDiffs,
colMads, colMaxs, colMeans2, colMedians, colMins, colOrderStats,
colProds, colQuantiles, colRanges, colRanks, colSdDiffs, colSds,
colSums2, colTabulates, colVarDiffs, colVars, colWeightedMads,
colWeightedMeans, colWeightedMedians, colWeightedSds,
colWeightedVars, rowAlls, rowAnyNAs, rowAnys, rowAvgsPerColSet,
rowCollapse, rowCounts, rowCummaxs, rowCummins, rowCumprods,
rowCumsums, rowDiffs, rowIQRDiffs, rowIQRs, rowLogSumExps,
rowMadDiffs, rowMads, rowMaxs, rowMeans2, rowMedians, rowMins,
rowOrderStats, rowProds, rowQuantiles, rowRanges, rowRanks,
rowSdDiffs, rowSds, rowSums2, rowTabulates, rowVarDiffs, rowVars,
rowWeightedMads, rowWeightedMeans, rowWeightedMedians,
rowWeightedSds, rowWeightedVars
The following object is masked from 'package:Biobase':
rowMedians
Loading required package: data.table
Attaching package: 'data.table'
The following object is masked from 'package:SummarizedExperiment':
shift
The following object is masked from 'package:GenomicRanges':
shift
The following object is masked from 'package:IRanges':
shift
The following objects are masked from 'package:S4Vectors':
first, second
>
> register(SerialParam())
>
> test_check("OUTRIDER")
[1] "Thu Oct 16 02:05:43 2025: Initial PCA loss: 6.61431986810369"
[1] "Thu Oct 16 02:05:44 2025: Iteration: 1 loss: 4.83539166675568"
[1] "Thu Oct 16 02:05:45 2025: Iteration: 2 loss: 4.71555680284997"
[1] "Thu Oct 16 02:05:45 2025: Iteration: 3 loss: 4.67928460091628"
[1] "Thu Oct 16 02:05:46 2025: Iteration: 4 loss: 4.66434255449009"
[1] "Thu Oct 16 02:05:47 2025: Iteration: 5 loss: 4.65242500381232"
[1] "Thu Oct 16 02:05:49 2025: Iteration: 6 loss: 4.64614630662501"
Time difference of 5.975641 secs
[1] "Thu Oct 16 02:05:49 2025: 6 Final nb-AE loss: 4.64614630662501"
[1] "Thu Oct 16 02:05:52 2025: Initial PCA loss: 6.61431986810369"
[1] "Thu Oct 16 02:05:56 2025: Iteration: 1 loss: 4.83539166675568"
[1] "Thu Oct 16 02:05:58 2025: Iteration: 2 loss: 4.71555680284997"
[1] "Thu Oct 16 02:05:59 2025: Iteration: 3 loss: 4.67928460091628"
[1] "Thu Oct 16 02:05:59 2025: Iteration: 4 loss: 4.66434255449009"
[1] "Thu Oct 16 02:06:00 2025: Iteration: 5 loss: 4.65242500381232"
[1] "Thu Oct 16 02:06:01 2025: Iteration: 6 loss: 4.64614630662501"
Time difference of 7.069035 secs
[1] "Thu Oct 16 02:06:01 2025: 6 Final nb-AE loss: 4.64614630662501"
class: OutriderDataSet
class: RangedSummarizedExperiment
dim: 100 50
metadata(1): version
assays(1): counts
rownames(100): ENSG00000223972.4 ENSG00000227232.4 ...
ENSG00000107404.13 ENSG00000162576.12
rowData names(0):
colnames(50): GTEX.UPK5.0426.SM.3GAEK GTEX.WFG7.2026.SM.3GIL7 ...
GTEX.11UD2.2526.SM.5CVNU GTEX.13O61.1426.SM.5KM3D
colData names(1): sampleID
[1] "Thu Oct 16 02:06:06 2025: Initial PCA loss: 4.52561261278505"
[1] "Thu Oct 16 02:06:07 2025: Iteration: 1 loss: 4.14431472518806"
[1] "Thu Oct 16 02:06:08 2025: Iteration: 2 loss: 4.12683857326888"
Time difference of 1.21102 secs
[1] "Thu Oct 16 02:06:08 2025: 2 Final nb-AE loss: 4.12683857326888"
[1] "Evaluation loss: 0.518780482801042 for q=3"
[1] "Thu Oct 16 02:06:09 2025: Initial PCA loss: 4.45851217847582"
[1] "Thu Oct 16 02:06:10 2025: Iteration: 1 loss: 4.07293823729272"
[1] "Thu Oct 16 02:06:10 2025: Iteration: 2 loss: 4.05413525948624"
Time difference of 1.228836 secs
[1] "Thu Oct 16 02:06:10 2025: 2 Final nb-AE loss: 4.05413525948624"
[1] "Evaluation loss: 0.421635857488967 for q=4"
[1] "Thu Oct 16 02:06:11 2025: Initial PCA loss: 4.43513407807404"
[1] "Thu Oct 16 02:06:12 2025: Iteration: 1 loss: 3.96804978186269"
[1] "Thu Oct 16 02:06:13 2025: Iteration: 2 loss: 3.91822952544081"
Time difference of 1.299152 secs
[1] "Thu Oct 16 02:06:13 2025: 2 Final nb-AE loss: 3.91822952544081"
[1] "Evaluation loss: 0.413391246903756 for q=5"
Optimal encoding dimension: 4
Optimal encoding dimension: 50
Optimal encoding dimension: 20
Optimal encoding dimension: 2
Optimal encoding dimension: 4
[1] "Thu Oct 16 02:06:33 2025: Initial PCA loss: 7.16457134714849"
[1] "Thu Oct 16 02:06:35 2025: Iteration: 1 loss: 6.82914112812595"
[1] "Thu Oct 16 02:06:35 2025: Iteration: 2 loss: 6.82749097859465"
Time difference of 1.410341 secs
[1] "Thu Oct 16 02:06:35 2025: 2 Final nb-AE loss: 6.82749097859465"
[ FAIL 0 | WARN 12 | SKIP 0 | PASS 131 ]
[ FAIL 0 | WARN 12 | SKIP 0 | PASS 131 ]
>
> proc.time()
user system elapsed
99.172 2.804 108.131
OUTRIDER.Rcheck/OUTRIDER-Ex.timings
| name | user | system | elapsed | |
| OUTRIDER | 11.241 | 3.040 | 12.714 | |
| OutriderDataSet-class | 0.733 | 0.051 | 0.785 | |
| aberrant | 1.697 | 0.891 | 1.743 | |
| computeGeneLength | 1.386 | 0.215 | 1.602 | |
| computeLatentSpace | 0.701 | 0.039 | 0.739 | |
| computePvalues | 2.029 | 2.559 | 2.692 | |
| computeZscores | 0.873 | 0.109 | 0.982 | |
| controlForConfounders | 1.122 | 0.127 | 1.248 | |
| counts | 0.572 | 0.048 | 0.620 | |
| estimateBestQ | 17.806 | 1.277 | 19.392 | |
| filterExpression | 2.196 | 0.078 | 2.274 | |
| fit | 2.262 | 0.104 | 2.404 | |
| fpkm | 0.888 | 0.052 | 0.941 | |
| getter_setter_functions | 3.060 | 0.065 | 3.233 | |
| makeExampleOutriderDataSet | 1.084 | 0.038 | 1.123 | |
| normalizationFactors | 0.703 | 0.032 | 0.734 | |
| plotFunctions | 23.788 | 1.092 | 25.274 | |
| results | 3.486 | 0.176 | 3.698 | |
| sampleExclusionMask | 0.423 | 0.003 | 0.426 | |
| sizeFactors | 0.671 | 0.004 | 0.675 | |