| Back to Multiple platform build/check report for BioC 3.21: simplified long |
|
This page was generated on 2025-10-16 11:41 -0400 (Thu, 16 Oct 2025).
| Hostname | OS | Arch (*) | R version | Installed pkgs |
|---|---|---|---|---|
| nebbiolo1 | Linux (Ubuntu 24.04.3 LTS) | x86_64 | 4.5.1 (2025-06-13) -- "Great Square Root" | 4833 |
| merida1 | macOS 12.7.6 Monterey | x86_64 | 4.5.1 RC (2025-06-05 r88288) -- "Great Square Root" | 4614 |
| kjohnson1 | macOS 13.7.5 Ventura | arm64 | 4.5.1 Patched (2025-06-14 r88325) -- "Great Square Root" | 4555 |
| kunpeng2 | Linux (openEuler 24.03 LTS) | aarch64 | R Under development (unstable) (2025-02-19 r87757) -- "Unsuffered Consequences" | 4586 |
| Click on any hostname to see more info about the system (e.g. compilers) (*) as reported by 'uname -p', except on Windows and Mac OS X | ||||
| Package 1471/2341 | Hostname | OS / Arch | INSTALL | BUILD | CHECK | BUILD BIN | ||||||||
| OLIN 1.86.0 (landing page) Matthias Futschik
| nebbiolo1 | Linux (Ubuntu 24.04.3 LTS) / x86_64 | OK | OK | OK | |||||||||
| merida1 | macOS 12.7.6 Monterey / x86_64 | OK | OK | OK | OK | |||||||||
| kjohnson1 | macOS 13.7.5 Ventura / arm64 | OK | OK | OK | OK | |||||||||
| kunpeng2 | Linux (openEuler 24.03 LTS) / aarch64 | OK | OK | OK | ||||||||||
|
To the developers/maintainers of the OLIN package: - Allow up to 24 hours (and sometimes 48 hours) for your latest push to git@git.bioconductor.org:packages/OLIN.git to reflect on this report. See Troubleshooting Build Report for more information. - Use the following Renviron settings to reproduce errors and warnings. - If 'R CMD check' started to fail recently on the Linux builder(s) over a missing dependency, add the missing dependency to 'Suggests:' in your DESCRIPTION file. See Renviron.bioc for more information. - See Martin Grigorov's blog post for how to debug Linux ARM64 related issues on a x86_64 host. |
| Package: OLIN |
| Version: 1.86.0 |
| Command: /home/biocbuild/R/R/bin/R CMD check --install=check:OLIN.install-out.txt --library=/home/biocbuild/R/R/site-library --no-vignettes --timings OLIN_1.86.0.tar.gz |
| StartedAt: 2025-10-14 12:05:18 -0000 (Tue, 14 Oct 2025) |
| EndedAt: 2025-10-14 12:06:34 -0000 (Tue, 14 Oct 2025) |
| EllapsedTime: 76.1 seconds |
| RetCode: 0 |
| Status: OK |
| CheckDir: OLIN.Rcheck |
| Warnings: 0 |
##############################################################################
##############################################################################
###
### Running command:
###
### /home/biocbuild/R/R/bin/R CMD check --install=check:OLIN.install-out.txt --library=/home/biocbuild/R/R/site-library --no-vignettes --timings OLIN_1.86.0.tar.gz
###
##############################################################################
##############################################################################
* using log directory ‘/home/biocbuild/bbs-3.21-bioc/meat/OLIN.Rcheck’
* using R Under development (unstable) (2025-02-19 r87757)
* using platform: aarch64-unknown-linux-gnu
* R was compiled by
aarch64-unknown-linux-gnu-gcc (GCC) 14.2.0
GNU Fortran (GCC) 14.2.0
* running under: openEuler 24.03 (LTS-SP1)
* using session charset: UTF-8
* using option ‘--no-vignettes’
* checking for file ‘OLIN/DESCRIPTION’ ... OK
* this is package ‘OLIN’ version ‘1.86.0’
* checking package namespace information ... OK
* checking package dependencies ... OK
* checking if this is a source package ... OK
* checking if there is a namespace ... OK
* checking for hidden files and directories ... OK
* checking for portable file names ... OK
* checking for sufficient/correct file permissions ... OK
* checking whether package ‘OLIN’ can be installed ... OK
* checking installed package size ... OK
* checking package directory ... OK
* checking ‘build’ directory ... OK
* checking DESCRIPTION meta-information ... NOTE
Malformed Description field: should contain one or more complete sentences.
Packages listed in more than one of Depends, Imports, Suggests, Enhances:
‘marray’ ‘methods’
A package should be listed in only one of these fields.
* checking top-level files ... OK
* checking for left-over files ... OK
* checking index information ... OK
* checking package subdirectories ... OK
* checking code files for non-ASCII characters ... OK
* checking R files for syntax errors ... OK
* checking whether the package can be loaded ... OK
* checking whether the package can be loaded with stated dependencies ... OK
* checking whether the package can be unloaded cleanly ... OK
* checking whether the namespace can be loaded with stated dependencies ... OK
* checking whether the namespace can be unloaded cleanly ... OK
* checking loading without being on the library search path ... OK
* checking dependencies in R code ... NOTE
'library' or 'require' call to ‘convert’ in package code.
Please use :: or requireNamespace() instead.
See section 'Suggested packages' in the 'Writing R Extensions' manual.
Package in Depends field not imported from: ‘locfit’
These packages need to be imported from (in the NAMESPACE file)
for when this namespace is loaded but not attached.
* checking S3 generic/method consistency ... OK
* checking replacement functions ... OK
* checking foreign function calls ... OK
* checking R code for possible problems ... NOTE
ino: no visible global function definition for ‘locfit’
ino: no visible global function definition for ‘predict’
lin: no visible global function definition for ‘locfit’
lin: no visible global function definition for ‘predict’
oin: no visible global function definition for ‘gcvplot’
oin: no visible global function definition for ‘locfit’
oin: no visible global function definition for ‘predict’
olin: no visible global function definition for ‘gcv’
olin: no visible global function definition for ‘locfit’
olin: no visible global function definition for ‘predict’
Undefined global functions or variables:
gcv gcvplot locfit predict
Consider adding
importFrom("stats", "predict")
to your NAMESPACE file.
* checking Rd files ... OK
* checking Rd metadata ... OK
* checking Rd cross-references ... NOTE
Non-topic package-anchored link(s) in Rd file 'backgroundCorrect2.Rd':
‘[limma:backgroundcorrect]{backgroundCorrect}’
See section 'Cross-references' in the 'Writing R Extensions' manual.
* checking for missing documentation entries ... OK
* checking for code/documentation mismatches ... OK
* checking Rd \usage sections ... OK
* checking Rd contents ... OK
* checking for unstated dependencies in examples ... OK
* checking contents of ‘data’ directory ... OK
* checking data for non-ASCII characters ... OK
* checking data for ASCII and uncompressed saves ... OK
* checking files in ‘vignettes’ ... OK
* checking examples ... OK
Examples with CPU (user + system) or elapsed time > 5s
user system elapsed
olin 19.963 0.015 24.002
* checking for unstated dependencies in vignettes ... OK
* checking package vignettes ... OK
* checking running R code from vignettes ... SKIPPED
* checking re-building of vignette outputs ... SKIPPED
* checking PDF version of manual ... OK
* DONE
Status: 4 NOTEs
See
‘/home/biocbuild/bbs-3.21-bioc/meat/OLIN.Rcheck/00check.log’
for details.
OLIN.Rcheck/00install.out
############################################################################## ############################################################################## ### ### Running command: ### ### /home/biocbuild/R/R/bin/R CMD INSTALL OLIN ### ############################################################################## ############################################################################## * installing to library ‘/home/biocbuild/R/R-devel_2025-02-19/site-library’ * installing *source* package ‘OLIN’ ... ** this is package ‘OLIN’ version ‘1.86.0’ ** using staged installation ** R ** data ** inst ** byte-compile and prepare package for lazy loading ** help *** installing help indices ** building package indices ** installing vignettes ** testing if installed package can be loaded from temporary location ** testing if installed package can be loaded from final location ** testing if installed package keeps a record of temporary installation path * DONE (OLIN)
OLIN.Rcheck/OLIN-Ex.timings
| name | user | system | elapsed | |
| anovaint | 0.115 | 0.008 | 0.123 | |
| anovapin | 0.079 | 0.000 | 0.078 | |
| anovaplate | 0.069 | 0.008 | 0.078 | |
| anovaspatial | 0.187 | 0.016 | 0.339 | |
| backgroundCorrect2 | 0.579 | 0.016 | 0.737 | |
| bas | 0.25 | 0.00 | 0.39 | |
| colorbar.mxy | 0.045 | 0.000 | 0.045 | |
| fdr.int | 0 | 0 | 0 | |
| fdr.int2 | 0 | 0 | 0 | |
| fdr.spatial | 0 | 0 | 0 | |
| fdr.spatial2 | 0 | 0 | 0 | |
| fgbg.visu | 0.095 | 0.000 | 0.096 | |
| ino | 0.325 | 0.000 | 0.326 | |
| lin | 0.759 | 0.000 | 0.784 | |
| m2v | 0.06 | 0.00 | 0.06 | |
| ma.matrix | 0.273 | 0.000 | 0.274 | |
| ma.vector | 0.403 | 0.000 | 0.516 | |
| mxy.abs.plot | 0.269 | 0.008 | 0.417 | |
| mxy.plot | 0.066 | 0.000 | 0.067 | |
| mxy2.plot | 0.052 | 0.000 | 0.052 | |
| oin | 1.056 | 0.004 | 1.218 | |
| olin | 19.963 | 0.015 | 24.002 | |
| p.int | 0.001 | 0.000 | 0.000 | |
| p.int2 | 0 | 0 | 0 | |
| p.spatial | 0.000 | 0.000 | 0.001 | |
| p.spatial2 | 0 | 0 | 0 | |
| sig.mask | 0.000 | 0.000 | 0.001 | |
| sigint.plot | 0 | 0 | 0 | |
| sigint.plot2 | 0.000 | 0.000 | 0.001 | |
| sigxy.plot | 0 | 0 | 0 | |
| sigxy.plot2 | 0 | 0 | 0 | |
| v2m | 0.051 | 0.000 | 0.051 | |