| Back to Multiple platform build/check report for BioC 3.22: simplified long |
|
This page was generated on 2025-11-04 12:04 -0500 (Tue, 04 Nov 2025).
| Hostname | OS | Arch (*) | R version | Installed pkgs |
|---|---|---|---|---|
| nebbiolo2 | Linux (Ubuntu 24.04.3 LTS) | x86_64 | 4.5.1 Patched (2025-08-23 r88802) -- "Great Square Root" | 4902 |
| lconway | macOS 12.7.6 Monterey | x86_64 | 4.5.1 Patched (2025-09-10 r88807) -- "Great Square Root" | 4692 |
| kjohnson3 | macOS 13.7.7 Ventura | arm64 | 4.5.1 Patched (2025-09-10 r88807) -- "Great Square Root" | 4638 |
| Click on any hostname to see more info about the system (e.g. compilers) (*) as reported by 'uname -p', except on Windows and Mac OS X | ||||
| Package 1379/2361 | Hostname | OS / Arch | INSTALL | BUILD | CHECK | BUILD BIN | ||||||||
| MsBackendSql 1.10.1 (landing page) Johannes Rainer
| nebbiolo2 | Linux (Ubuntu 24.04.3 LTS) / x86_64 | OK | OK | OK | |||||||||
| lconway | macOS 12.7.6 Monterey / x86_64 | OK | OK | OK | OK | |||||||||
| kjohnson3 | macOS 13.7.7 Ventura / arm64 | OK | OK | OK | OK | |||||||||
|
To the developers/maintainers of the MsBackendSql package: - Allow up to 24 hours (and sometimes 48 hours) for your latest push to git@git.bioconductor.org:packages/MsBackendSql.git to reflect on this report. See Troubleshooting Build Report for more information. - Use the following Renviron settings to reproduce errors and warnings. - If 'R CMD check' started to fail recently on the Linux builder(s) over a missing dependency, add the missing dependency to 'Suggests:' in your DESCRIPTION file. See Renviron.bioc for more information. |
| Package: MsBackendSql |
| Version: 1.10.1 |
| Command: /Library/Frameworks/R.framework/Resources/bin/R CMD check --install=check:MsBackendSql.install-out.txt --library=/Library/Frameworks/R.framework/Resources/library --no-vignettes --timings MsBackendSql_1.10.1.tar.gz |
| StartedAt: 2025-11-03 22:43:02 -0500 (Mon, 03 Nov 2025) |
| EndedAt: 2025-11-03 22:49:22 -0500 (Mon, 03 Nov 2025) |
| EllapsedTime: 380.3 seconds |
| RetCode: 0 |
| Status: OK |
| CheckDir: MsBackendSql.Rcheck |
| Warnings: 0 |
##############################################################################
##############################################################################
###
### Running command:
###
### /Library/Frameworks/R.framework/Resources/bin/R CMD check --install=check:MsBackendSql.install-out.txt --library=/Library/Frameworks/R.framework/Resources/library --no-vignettes --timings MsBackendSql_1.10.1.tar.gz
###
##############################################################################
##############################################################################
* using log directory ‘/Users/biocbuild/bbs-3.22-bioc/meat/MsBackendSql.Rcheck’
* using R version 4.5.1 Patched (2025-09-10 r88807)
* using platform: x86_64-apple-darwin20
* R was compiled by
Apple clang version 14.0.0 (clang-1400.0.29.202)
GNU Fortran (GCC) 14.2.0
* running under: macOS Monterey 12.7.6
* using session charset: UTF-8
* using option ‘--no-vignettes’
* checking for file ‘MsBackendSql/DESCRIPTION’ ... OK
* this is package ‘MsBackendSql’ version ‘1.10.1’
* package encoding: UTF-8
* checking package namespace information ... OK
* checking package dependencies ... OK
* checking if this is a source package ... OK
* checking if there is a namespace ... OK
* checking for hidden files and directories ... OK
* checking for portable file names ... OK
* checking for sufficient/correct file permissions ... OK
* checking whether package ‘MsBackendSql’ can be installed ... OK
* checking installed package size ... OK
* checking package directory ... OK
* checking ‘build’ directory ... OK
* checking DESCRIPTION meta-information ... OK
* checking top-level files ... OK
* checking for left-over files ... OK
* checking index information ... OK
* checking package subdirectories ... OK
* checking code files for non-ASCII characters ... OK
* checking R files for syntax errors ... OK
* checking whether the package can be loaded ... OK
* checking whether the package can be loaded with stated dependencies ... OK
* checking whether the package can be unloaded cleanly ... OK
* checking whether the namespace can be loaded with stated dependencies ... OK
* checking whether the namespace can be unloaded cleanly ... OK
* checking dependencies in R code ... OK
* checking S3 generic/method consistency ... OK
* checking replacement functions ... OK
* checking foreign function calls ... OK
* checking R code for possible problems ... OK
* checking Rd files ... OK
* checking Rd metadata ... OK
* checking Rd cross-references ... OK
* checking for missing documentation entries ... OK
* checking for code/documentation mismatches ... OK
* checking Rd \usage sections ... OK
* checking Rd contents ... OK
* checking for unstated dependencies in examples ... OK
* checking files in ‘vignettes’ ... OK
* checking examples ... OK
* checking for unstated dependencies in ‘tests’ ... OK
* checking tests ...
Running ‘testthat.R’
OK
* checking for unstated dependencies in vignettes ... OK
* checking package vignettes ... OK
* checking running R code from vignettes ... SKIPPED
* checking re-building of vignette outputs ... SKIPPED
* checking PDF version of manual ... OK
* DONE
Status: OK
MsBackendSql.Rcheck/00install.out
############################################################################## ############################################################################## ### ### Running command: ### ### /Library/Frameworks/R.framework/Resources/bin/R CMD INSTALL MsBackendSql ### ############################################################################## ############################################################################## * installing to library ‘/Library/Frameworks/R.framework/Versions/4.5-x86_64/Resources/library’ * installing *source* package ‘MsBackendSql’ ... ** this is package ‘MsBackendSql’ version ‘1.10.1’ ** using staged installation ** R ** byte-compile and prepare package for lazy loading ** help *** installing help indices *** copying figures ** building package indices ** installing vignettes ** testing if installed package can be loaded from temporary location ** testing if installed package can be loaded from final location ** testing if installed package keeps a record of temporary installation path * DONE (MsBackendSql)
MsBackendSql.Rcheck/tests/testthat.Rout
R version 4.5.1 Patched (2025-09-10 r88807) -- "Great Square Root"
Copyright (C) 2025 The R Foundation for Statistical Computing
Platform: x86_64-apple-darwin20
R is free software and comes with ABSOLUTELY NO WARRANTY.
You are welcome to redistribute it under certain conditions.
Type 'license()' or 'licence()' for distribution details.
R is a collaborative project with many contributors.
Type 'contributors()' for more information and
'citation()' on how to cite R or R packages in publications.
Type 'demo()' for some demos, 'help()' for on-line help, or
'help.start()' for an HTML browser interface to help.
Type 'q()' to quit R.
> library(testthat)
> library(MsBackendSql)
Loading required package: Spectra
Loading required package: S4Vectors
Loading required package: stats4
Loading required package: BiocGenerics
Loading required package: generics
Attaching package: 'generics'
The following objects are masked from 'package:base':
as.difftime, as.factor, as.ordered, intersect, is.element, setdiff,
setequal, union
Attaching package: 'BiocGenerics'
The following objects are masked from 'package:stats':
IQR, mad, sd, var, xtabs
The following objects are masked from 'package:base':
Filter, Find, Map, Position, Reduce, anyDuplicated, aperm, append,
as.data.frame, basename, cbind, colnames, dirname, do.call,
duplicated, eval, evalq, get, grep, grepl, is.unsorted, lapply,
mapply, match, mget, order, paste, pmax, pmax.int, pmin, pmin.int,
rank, rbind, rownames, sapply, saveRDS, table, tapply, unique,
unsplit, which.max, which.min
Attaching package: 'S4Vectors'
The following object is masked from 'package:utils':
findMatches
The following objects are masked from 'package:base':
I, expand.grid, unname
Loading required package: BiocParallel
> library(Spectra)
> library(RSQLite)
> library(msdata)
>
> setClass("DummySQL",
+ contains = "SQLiteConnection")
>
> setMethod("dbExecute", c("DummySQL", "character"),
+ function(conn, statement, ...) {
+ TRUE
+ })
>
> mm8_file <- system.file("microtofq", "MM8.mzML", package = "msdata")
> mm8_sps <- Spectra(mm8_file)
> mm8_db_long <- dbConnect(SQLite(), tempfile())
> createMsBackendSqlDatabase(mm8_db_long, mm8_file, blob = FALSE,
+ peaksStorageMode = "long")
Importing data ...
[==========================================================] 1/1 (100%) in 1s
Creating indices .... Done
[1] TRUE
> mm8_be_long <- backendInitialize(MsBackendSql(), mm8_db_long)
>
> mm8_db_blob <- dbConnect(SQLite(), tempfile())
> createMsBackendSqlDatabase(mm8_db_blob, mm8_file, blob = TRUE,
+ peaksStorageMode = "blob")
Importing data ...
[==========================================================] 1/1 (100%) in 1s
Creating indices .... Done
[1] TRUE
> mm8_be_blob <- backendInitialize(MsBackendSql(), mm8_db_blob)
>
> mm8_db_blob2 <- dbConnect(SQLite(), tempfile())
> createMsBackendSqlDatabase(mm8_db_blob2, mm8_file, blob = TRUE,
+ peaksStorageMode = "blob2")
Importing data ...
[==========================================================] 1/1 (100%) in 1s
Creating indices .... Done
[1] TRUE
> mm8_be_blob2 <- backendInitialize(MsBackendSql(), mm8_db_blob2)
>
> ################################################################################
> ##
> ## OPTIONAL TESTS WITH duckdb
> ## library(duckdb)
> ## mm8_db_long <- dbConnect(duckdb(), tempfile())
> ## createMsBackendSqlDatabase(mm8_db_long, mm8_file, blob = FALSE,
> ## peaksStorageMode = "long")
> ## mm8_be_long <- backendInitialize(MsBackendSql(), mm8_db_long)
>
> ## mm8_db_blob <- dbConnect(duckdb(), tempfile())
> ## createMsBackendSqlDatabase(mm8_db_blob, mm8_file, blob = TRUE,
> ## peaksStorageMode = "blob")
> ## mm8_be_blob <- backendInitialize(MsBackendSql(), mm8_db_blob)
>
> ## mm8_db_blob2 <- dbConnect(duckdb(), tempfile())
> ## createMsBackendSqlDatabase(mm8_db_blob2, mm8_file, blob = TRUE,
> ## peaksStorageMode = "blob2")
> ## mm8_be_blob2 <- backendInitialize(MsBackendSql(), mm8_db_blob2)
> ##
> ################################################################################
>
> mm14_file <- system.file("microtofq", "MM14.mzML", package = "msdata")
> mm_db <- dbConnect(SQLite(), tempfile())
> createMsBackendSqlDatabase(mm_db, c(mm8_file, mm14_file), blob = FALSE)
Importing data ...
[==========================================================] 1/1 (100%) in 1s
Creating indices .... Done
[1] TRUE
> mm_be <- backendInitialize(MsBackendSql(), mm_db)
>
> tmt_file <- proteomics(full.names = TRUE)[4L]
> tmt_mzr <- backendInitialize(MsBackendMzR(), tmt_file)
> tmt_db <- dbConnect(SQLite(), tempfile())
> createMsBackendSqlDatabase(tmt_db, tmt_file, blob = FALSE)
Importing data ...
[==========================================================] 1/1 (100%) in 1m
Creating indices .... Done
[1] TRUE
> tmt_be <- backendInitialize(MsBackendSql(), tmt_db)
>
> test_check("MsBackendSql")
[ FAIL 0 | WARN 3 | SKIP 0 | PASS 640 ]
[ FAIL 0 | WARN 3 | SKIP 0 | PASS 640 ]
Warning message:
call dbDisconnect() when finished working with a connection
>
> test_suite <- system.file("test_backends", "test_MsBackend",
+ package = "Spectra")
>
> be <- mm8_be_blob
> test_dir(test_suite, stop_on_failure = TRUE)
✔ | F W S OK | Context
⠏ | 0 | peaks_variables
⠹ | 3 | peaks_variables
✔ | 4 | peaks_variables
⠏ | 0 | spectra_subsetting
⠋ | 11 | spectra_subsetting
⠋ | 31 | spectra_subsetting
⠙ | 52 | spectra_subsetting
⠹ | 73 | spectra_subsetting
⠹ | 93 | spectra_subsetting
⠙ | 112 | spectra_subsetting
⠏ | 130 | spectra_subsetting
⠋ | 151 | spectra_subsetting
⠙ | 172 | spectra_subsetting
⠹ | 193 | spectra_subsetting
⠸ | 214 | spectra_subsetting
⠸ | 234 | spectra_subsetting
⠹ | 253 | spectra_subsetting
⠋ | 271 | spectra_subsetting
⠦ | 287 | spectra_subsetting
⠴ | 306 | spectra_subsetting
⠸ | 324 | spectra_subsetting
⠹ | 343 | spectra_subsetting
⠙ | 362 | spectra_subsetting
⠇ | 379 | spectra_subsetting
⠦ | 397 | spectra_subsetting
⠴ | 416 | spectra_subsetting
⠋ | 431 | spectra_subsetting
⠋ | 451 | spectra_subsetting
⠙ | 472 | spectra_subsetting
⠙ | 492 | spectra_subsetting
⠋ | 511 | spectra_subsetting
⠹ | 533 | spectra_subsetting
⠹ | 553 | spectra_subsetting
⠙ | 572 | spectra_subsetting
⠏ | 590 | spectra_subsetting
⠇ | 599 | spectra_subsetting
⠋ | 601 | spectra_subsetting
⠹ | 603 | spectra_subsetting
⠼ | 605 | spectra_subsetting
⠦ | 607 | spectra_subsetting
⠇ | 609 | spectra_subsetting
⠋ | 611 | spectra_subsetting
⠹ | 613 | spectra_subsetting
⠸ | 614 | spectra_subsetting
⠴ | 616 | spectra_subsetting
⠧ | 618 | spectra_subsetting
⠇ | 619 | spectra_subsetting
⠋ | 621 | spectra_subsetting
⠹ | 623 | spectra_subsetting
⠼ | 625 | spectra_subsetting
⠦ | 627 | spectra_subsetting
⠇ | 629 | spectra_subsetting
⠏ | 630 | spectra_subsetting
⠙ | 632 | spectra_subsetting
⠸ | 634 | spectra_subsetting
⠼ | 635 | spectra_subsetting
⠦ | 637 | spectra_subsetting
⠇ | 639 | spectra_subsetting
⠋ | 641 | spectra_subsetting
⠹ | 643 | spectra_subsetting
⠼ | 645 | spectra_subsetting
⠦ | 647 | spectra_subsetting
⠇ | 649 | spectra_subsetting
⠋ | 651 | spectra_subsetting
⠙ | 652 | spectra_subsetting
⠸ | 654 | spectra_subsetting
⠴ | 656 | spectra_subsetting
⠧ | 658 | spectra_subsetting
⠏ | 660 | spectra_subsetting
⠙ | 662 | spectra_subsetting
⠸ | 664 | spectra_subsetting
⠴ | 666 | spectra_subsetting
⠧ | 668 | spectra_subsetting
⠏ | 670 | spectra_subsetting
⠙ | 672 | spectra_subsetting
⠸ | 674 | spectra_subsetting
⠴ | 676 | spectra_subsetting
⠧ | 678 | spectra_subsetting
⠏ | 680 | spectra_subsetting
⠙ | 682 | spectra_subsetting
⠸ | 684 | spectra_subsetting
⠴ | 686 | spectra_subsetting
⠧ | 688 | spectra_subsetting
⠏ | 690 | spectra_subsetting
⠙ | 692 | spectra_subsetting
⠸ | 694 | spectra_subsetting
⠴ | 696 | spectra_subsetting
⠧ | 698 | spectra_subsetting
⠏ | 700 | spectra_subsetting
⠙ | 702 | spectra_subsetting
⠸ | 704 | spectra_subsetting
⠴ | 706 | spectra_subsetting
⠧ | 708 | spectra_subsetting
⠏ | 710 | spectra_subsetting
⠙ | 712 | spectra_subsetting
⠸ | 714 | spectra_subsetting
⠴ | 716 | spectra_subsetting
⠧ | 718 | spectra_subsetting
⠏ | 720 | spectra_subsetting
⠙ | 722 | spectra_subsetting
⠸ | 724 | spectra_subsetting
⠴ | 726 | spectra_subsetting
⠧ | 728 | spectra_subsetting
⠏ | 730 | spectra_subsetting
⠙ | 732 | spectra_subsetting
⠸ | 734 | spectra_subsetting
⠴ | 736 | spectra_subsetting
⠧ | 738 | spectra_subsetting
⠏ | 740 | spectra_subsetting
⠙ | 742 | spectra_subsetting
⠸ | 744 | spectra_subsetting
⠴ | 746 | spectra_subsetting
⠧ | 748 | spectra_subsetting
⠏ | 750 | spectra_subsetting
⠙ | 752 | spectra_subsetting
⠸ | 754 | spectra_subsetting
⠴ | 756 | spectra_subsetting
⠧ | 758 | spectra_subsetting
⠏ | 760 | spectra_subsetting
⠙ | 762 | spectra_subsetting
⠸ | 764 | spectra_subsetting
⠴ | 766 | spectra_subsetting
⠧ | 768 | spectra_subsetting
⠏ | 770 | spectra_subsetting
⠙ | 772 | spectra_subsetting
⠸ | 774 | spectra_subsetting
⠴ | 776 | spectra_subsetting
⠧ | 778 | spectra_subsetting
⠏ | 780 | spectra_subsetting
⠙ | 782 | spectra_subsetting
⠸ | 784 | spectra_subsetting
⠴ | 786 | spectra_subsetting
⠧ | 788 | spectra_subsetting
⠏ | 790 | spectra_subsetting
⠙ | 792 | spectra_subsetting
⠸ | 794 | spectra_subsetting
⠴ | 796 | spectra_subsetting
⠏ | 800 | spectra_subsetting
⠧ | 808 | spectra_subsetting
⠸ | 814 | spectra_subsetting
⠧ | 818 | spectra_subsetting
⠼ | 825 | spectra_subsetting
⠏ | 830 | spectra_subsetting
⠸ | 834 | spectra_subsetting
✔ | 838 | spectra_subsetting [20.8s]
⠏ | 0 | spectra_variables
⠙ | 12 | spectra_variables
⠸ | 14 | spectra_variables
⠦ | 27 | spectra_variables
⠇ | 39 | spectra_variables
⠙ | 52 | spectra_variables
⠙ | 62 | spectra_variables
✔ | 64 | spectra_variables
══ Results ═════════════════════════════════════════════════════════════════════
Duration: 21.7 s
[ FAIL 0 | WARN 0 | SKIP 0 | PASS 906 ]
🌈 Your tests are over the rainbow 🌈
>
> be <- tmt_be[sample(seq_along(tmt_be), 300)]
> test_dir(test_suite, stop_on_failure = TRUE)
✔ | F W S OK | Context
⠏ | 0 | peaks_variables
⠙ | 2 | peaks_variables
⠸ | 4 | peaks_variables
✔ | 4 | peaks_variables [5.2s]
⠏ | 0 | spectra_subsetting
⠼ | 5 | spectra_subsetting
⠇ | 29 | spectra_subsetting
⠙ | 52 | spectra_subsetting
⠸ | 74 | spectra_subsetting
⠦ | 97 | spectra_subsetting
⠧ | 118 | spectra_subsetting
⠙ | 142 | spectra_subsetting
⠼ | 165 | spectra_subsetting
⠧ | 188 | spectra_subsetting
⠋ | 211 | spectra_subsetting
⠹ | 233 | spectra_subsetting
⠴ | 256 | spectra_subsetting
⠦ | 277 | spectra_subsetting
⠙ | 302 | spectra_subsetting
⠧ | 328 | spectra_subsetting
⠙ | 352 | spectra_subsetting
⠧ | 378 | spectra_subsetting
⠧ | 398 | spectra_subsetting
⠏ | 420 | spectra_subsetting
⠹ | 443 | spectra_subsetting
⠦ | 467 | spectra_subsetting
⠇ | 489 | spectra_subsetting
⠇ | 509 | spectra_subsetting
⠇ | 529 | spectra_subsetting
⠇ | 549 | spectra_subsetting
⠙ | 572 | spectra_subsetting
⠴ | 596 | spectra_subsetting
⠇ | 619 | spectra_subsetting
⠋ | 641 | spectra_subsetting
⠙ | 662 | spectra_subsetting
⠹ | 683 | spectra_subsetting
⠼ | 705 | spectra_subsetting
⠸ | 724 | spectra_subsetting
⠧ | 748 | spectra_subsetting
⠙ | 772 | spectra_subsetting
⠴ | 796 | spectra_subsetting
⠧ | 818 | spectra_subsetting
⠙ | 842 | spectra_subsetting
⠼ | 865 | spectra_subsetting
⠸ | 884 | spectra_subsetting
⠼ | 905 | spectra_subsetting
⠦ | 907 | spectra_subsetting
⠧ | 908 | spectra_subsetting
⠇ | 909 | spectra_subsetting
⠋ | 911 | spectra_subsetting
⠙ | 912 | spectra_subsetting
⠸ | 914 | spectra_subsetting
⠴ | 916 | spectra_subsetting
⠧ | 918 | spectra_subsetting
⠏ | 920 | spectra_subsetting
⠙ | 922 | spectra_subsetting
⠸ | 924 | spectra_subsetting
⠼ | 925 | spectra_subsetting
⠦ | 927 | spectra_subsetting
⠇ | 929 | spectra_subsetting
⠏ | 930 | spectra_subsetting
⠙ | 932 | spectra_subsetting
⠸ | 934 | spectra_subsetting
⠴ | 936 | spectra_subsetting
⠧ | 938 | spectra_subsetting
⠏ | 940 | spectra_subsetting
⠋ | 941 | spectra_subsetting
⠹ | 943 | spectra_subsetting
⠼ | 945 | spectra_subsetting
⠦ | 947 | spectra_subsetting
⠇ | 949 | spectra_subsetting
⠋ | 951 | spectra_subsetting
⠹ | 953 | spectra_subsetting
⠼ | 955 | spectra_subsetting
⠦ | 957 | spectra_subsetting
⠧ | 958 | spectra_subsetting
⠏ | 960 | spectra_subsetting
⠙ | 962 | spectra_subsetting
⠸ | 964 | spectra_subsetting
⠼ | 965 | spectra_subsetting
⠴ | 966 | spectra_subsetting
⠧ | 968 | spectra_subsetting
⠏ | 970 | spectra_subsetting
⠙ | 972 | spectra_subsetting
⠹ | 973 | spectra_subsetting
⠸ | 974 | spectra_subsetting
⠴ | 976 | spectra_subsetting
⠧ | 978 | spectra_subsetting
⠏ | 980 | spectra_subsetting
⠋ | 981 | spectra_subsetting
⠹ | 983 | spectra_subsetting
⠸ | 984 | spectra_subsetting
⠼ | 985 | spectra_subsetting
⠴ | 986 | spectra_subsetting
⠧ | 988 | spectra_subsetting
⠏ | 990 | spectra_subsetting
⠙ | 992 | spectra_subsetting
⠹ | 993 | spectra_subsetting
⠼ | 995 | spectra_subsetting
⠴ | 996 | spectra_subsetting
⠧ | 998 | spectra_subsetting
⠇ | 999 | spectra_subsetting
⠏ | 1000 | spectra_subsetting
⠋ | 1001 | spectra_subsetting
⠙ | 1002 | spectra_subsetting
⠹ | 1003 | spectra_subsetting
⠸ | 1004 | spectra_subsetting
⠼ | 1005 | spectra_subsetting
⠴ | 1006 | spectra_subsetting
⠧ | 1008 | spectra_subsetting
⠇ | 1009 | spectra_subsetting
⠏ | 1010 | spectra_subsetting
⠋ | 1011 | spectra_subsetting
⠙ | 1012 | spectra_subsetting
⠹ | 1013 | spectra_subsetting
⠸ | 1014 | spectra_subsetting
⠼ | 1015 | spectra_subsetting
⠴ | 1016 | spectra_subsetting
⠦ | 1017 | spectra_subsetting
⠇ | 1019 | spectra_subsetting
⠏ | 1020 | spectra_subsetting
⠋ | 1021 | spectra_subsetting
⠙ | 1022 | spectra_subsetting
⠹ | 1023 | spectra_subsetting
⠸ | 1024 | spectra_subsetting
⠼ | 1025 | spectra_subsetting
⠦ | 1027 | spectra_subsetting
⠧ | 1028 | spectra_subsetting
⠇ | 1029 | spectra_subsetting
⠋ | 1031 | spectra_subsetting
⠙ | 1032 | spectra_subsetting
⠹ | 1033 | spectra_subsetting
⠸ | 1034 | spectra_subsetting
⠼ | 1035 | spectra_subsetting
⠴ | 1036 | spectra_subsetting
⠧ | 1038 | spectra_subsetting
⠇ | 1039 | spectra_subsetting
⠏ | 1040 | spectra_subsetting
⠋ | 1041 | spectra_subsetting
⠙ | 1042 | spectra_subsetting
⠹ | 1043 | spectra_subsetting
⠸ | 1044 | spectra_subsetting
⠼ | 1045 | spectra_subsetting
⠴ | 1046 | spectra_subsetting
⠧ | 1048 | spectra_subsetting
⠇ | 1049 | spectra_subsetting
⠏ | 1050 | spectra_subsetting
⠋ | 1051 | spectra_subsetting
⠙ | 1052 | spectra_subsetting
⠹ | 1053 | spectra_subsetting
⠸ | 1054 | spectra_subsetting
⠼ | 1055 | spectra_subsetting
⠴ | 1056 | spectra_subsetting
⠦ | 1057 | spectra_subsetting
⠧ | 1058 | spectra_subsetting
⠇ | 1059 | spectra_subsetting
⠏ | 1060 | spectra_subsetting
⠋ | 1061 | spectra_subsetting
⠹ | 1063 | spectra_subsetting
⠸ | 1064 | spectra_subsetting
⠼ | 1065 | spectra_subsetting
⠴ | 1066 | spectra_subsetting
⠦ | 1067 | spectra_subsetting
⠧ | 1068 | spectra_subsetting
⠇ | 1069 | spectra_subsetting
⠏ | 1070 | spectra_subsetting
⠋ | 1071 | spectra_subsetting
⠙ | 1072 | spectra_subsetting
⠹ | 1073 | spectra_subsetting
⠼ | 1075 | spectra_subsetting
⠴ | 1076 | spectra_subsetting
⠦ | 1077 | spectra_subsetting
⠧ | 1078 | spectra_subsetting
⠏ | 1080 | spectra_subsetting
⠙ | 1082 | spectra_subsetting
⠹ | 1083 | spectra_subsetting
⠸ | 1084 | spectra_subsetting
⠴ | 1086 | spectra_subsetting
⠦ | 1087 | spectra_subsetting
⠧ | 1088 | spectra_subsetting
⠇ | 1089 | spectra_subsetting
⠋ | 1091 | spectra_subsetting
⠙ | 1092 | spectra_subsetting
⠹ | 1093 | spectra_subsetting
⠸ | 1094 | spectra_subsetting
⠴ | 1096 | spectra_subsetting
⠧ | 1098 | spectra_subsetting
⠇ | 1099 | spectra_subsetting
⠋ | 1101 | spectra_subsetting
⠙ | 1102 | spectra_subsetting
⠸ | 1104 | spectra_subsetting
⠴ | 1106 | spectra_subsetting
⠦ | 1107 | spectra_subsetting
⠧ | 1108 | spectra_subsetting
⠇ | 1109 | spectra_subsetting
⠋ | 1111 | spectra_subsetting
⠹ | 1113 | spectra_subsetting
⠼ | 1115 | spectra_subsetting
⠦ | 1117 | spectra_subsetting
⠇ | 1119 | spectra_subsetting
⠏ | 1120 | spectra_subsetting
⠙ | 1122 | spectra_subsetting
⠹ | 1123 | spectra_subsetting
⠼ | 1125 | spectra_subsetting
⠴ | 1126 | spectra_subsetting
⠧ | 1128 | spectra_subsetting
⠏ | 1130 | spectra_subsetting
⠋ | 1131 | spectra_subsetting
⠙ | 1132 | spectra_subsetting
⠹ | 1133 | spectra_subsetting
⠸ | 1134 | spectra_subsetting
⠼ | 1135 | spectra_subsetting
⠴ | 1136 | spectra_subsetting
⠧ | 1138 | spectra_subsetting
⠏ | 1140 | spectra_subsetting
⠋ | 1141 | spectra_subsetting
⠙ | 1142 | spectra_subsetting
⠹ | 1143 | spectra_subsetting
⠸ | 1144 | spectra_subsetting
⠴ | 1146 | spectra_subsetting
⠦ | 1147 | spectra_subsetting
⠇ | 1149 | spectra_subsetting
⠏ | 1150 | spectra_subsetting
⠙ | 1152 | spectra_subsetting
⠹ | 1153 | spectra_subsetting
⠼ | 1155 | spectra_subsetting
⠴ | 1156 | spectra_subsetting
⠦ | 1157 | spectra_subsetting
⠧ | 1158 | spectra_subsetting
⠏ | 1160 | spectra_subsetting
⠋ | 1161 | spectra_subsetting
⠹ | 1163 | spectra_subsetting
⠸ | 1164 | spectra_subsetting
⠼ | 1165 | spectra_subsetting
⠦ | 1167 | spectra_subsetting
⠇ | 1169 | spectra_subsetting
⠋ | 1171 | spectra_subsetting
⠹ | 1173 | spectra_subsetting
⠸ | 1174 | spectra_subsetting
⠴ | 1176 | spectra_subsetting
⠦ | 1177 | spectra_subsetting
⠧ | 1178 | spectra_subsetting
⠏ | 1180 | spectra_subsetting
⠙ | 1182 | spectra_subsetting
⠹ | 1183 | spectra_subsetting
⠼ | 1185 | spectra_subsetting
⠦ | 1187 | spectra_subsetting
⠇ | 1189 | spectra_subsetting
⠏ | 1190 | spectra_subsetting
⠋ | 1191 | spectra_subsetting
⠙ | 1192 | spectra_subsetting
⠹ | 1193 | spectra_subsetting
⠸ | 1194 | spectra_subsetting
⠼ | 1195 | spectra_subsetting
⠴ | 1196 | spectra_subsetting
⠧ | 1198 | spectra_subsetting
⠇ | 1199 | spectra_subsetting
⠏ | 1200 | spectra_subsetting
⠋ | 1201 | spectra_subsetting
⠙ | 1202 | spectra_subsetting
⠸ | 1204 | spectra_subsetting
⠦ | 1207 | spectra_subsetting
⠏ | 1210 | spectra_subsetting
⠦ | 1217 | spectra_subsetting
⠹ | 1223 | spectra_subsetting
⠋ | 1231 | spectra_subsetting
⠧ | 1238 | spectra_subsetting
⠙ | 1242 | spectra_subsetting
⠴ | 1246 | spectra_subsetting
✔ | 1246 | spectra_subsetting [57.3s]
⠏ | 0 | spectra_variables
⠏ | 10 | spectra_variables
⠙ | 12 | spectra_variables
⠸ | 14 | spectra_variables
⠴ | 16 | spectra_variables
⠦ | 27 | spectra_variables
⠇ | 29 | spectra_variables
⠋ | 31 | spectra_variables
⠹ | 43 | spectra_variables
⠸ | 54 | spectra_variables
✔ | 64 | spectra_variables [17.9s]
══ Results ═════════════════════════════════════════════════════════════════════
Duration: 80.3 s
[ FAIL 0 | WARN 0 | SKIP 0 | PASS 1314 ]
>
> dbDisconnect(mm8_db_long)
> dbDisconnect(mm8_db_blob)
> dbDisconnect(mm8_db_blob2)
> dbDisconnect(mm_db)
> dbDisconnect(tmt_db)
>
> proc.time()
user system elapsed
257.446 30.994 289.051
MsBackendSql.Rcheck/MsBackendSql-Ex.timings
| name | user | system | elapsed | |
| MsBackendSql | 2.983 | 0.414 | 3.395 | |