| Back to Multiple platform build/check report for BioC 3.22: simplified long |
|
This page was generated on 2025-11-07 12:01 -0500 (Fri, 07 Nov 2025).
| Hostname | OS | Arch (*) | R version | Installed pkgs |
|---|---|---|---|---|
| nebbiolo2 | Linux (Ubuntu 24.04.3 LTS) | x86_64 | 4.5.1 Patched (2025-08-23 r88802) -- "Great Square Root" | 4902 |
| kjohnson3 | macOS 13.7.7 Ventura | arm64 | 4.5.1 Patched (2025-09-10 r88807) -- "Great Square Root" | 4638 |
| Click on any hostname to see more info about the system (e.g. compilers) (*) as reported by 'uname -p', except on Windows and Mac OS X | ||||
| Package 1375/2361 | Hostname | OS / Arch | INSTALL | BUILD | CHECK | BUILD BIN | ||||||||
| MsBackendMetaboLights 1.4.2 (landing page) Johannes Rainer
| nebbiolo2 | Linux (Ubuntu 24.04.3 LTS) / x86_64 | OK | OK | OK | |||||||||
| kjohnson3 | macOS 13.7.7 Ventura / arm64 | OK | OK | OK | OK | |||||||||
|
To the developers/maintainers of the MsBackendMetaboLights package: - Allow up to 24 hours (and sometimes 48 hours) for your latest push to git@git.bioconductor.org:packages/MsBackendMetaboLights.git to reflect on this report. See Troubleshooting Build Report for more information. - Use the following Renviron settings to reproduce errors and warnings. - If 'R CMD check' started to fail recently on the Linux builder(s) over a missing dependency, add the missing dependency to 'Suggests:' in your DESCRIPTION file. See Renviron.bioc for more information. |
| Package: MsBackendMetaboLights |
| Version: 1.4.2 |
| Command: /Library/Frameworks/R.framework/Resources/bin/R CMD check --install=check:MsBackendMetaboLights.install-out.txt --library=/Library/Frameworks/R.framework/Resources/library --no-vignettes --timings MsBackendMetaboLights_1.4.2.tar.gz |
| StartedAt: 2025-11-06 20:54:46 -0500 (Thu, 06 Nov 2025) |
| EndedAt: 2025-11-06 21:04:30 -0500 (Thu, 06 Nov 2025) |
| EllapsedTime: 584.4 seconds |
| RetCode: 0 |
| Status: OK |
| CheckDir: MsBackendMetaboLights.Rcheck |
| Warnings: 0 |
##############################################################################
##############################################################################
###
### Running command:
###
### /Library/Frameworks/R.framework/Resources/bin/R CMD check --install=check:MsBackendMetaboLights.install-out.txt --library=/Library/Frameworks/R.framework/Resources/library --no-vignettes --timings MsBackendMetaboLights_1.4.2.tar.gz
###
##############################################################################
##############################################################################
* using log directory ‘/Users/biocbuild/bbs-3.22-bioc/meat/MsBackendMetaboLights.Rcheck’
* using R version 4.5.1 Patched (2025-09-10 r88807)
* using platform: aarch64-apple-darwin20
* R was compiled by
Apple clang version 16.0.0 (clang-1600.0.26.6)
GNU Fortran (GCC) 14.2.0
* running under: macOS Ventura 13.7.7
* using session charset: UTF-8
* using option ‘--no-vignettes’
* checking for file ‘MsBackendMetaboLights/DESCRIPTION’ ... OK
* this is package ‘MsBackendMetaboLights’ version ‘1.4.2’
* package encoding: UTF-8
* checking package namespace information ... OK
* checking package dependencies ... OK
* checking if this is a source package ... OK
* checking if there is a namespace ... OK
* checking for hidden files and directories ... OK
* checking for portable file names ... OK
* checking for sufficient/correct file permissions ... OK
* checking whether package ‘MsBackendMetaboLights’ can be installed ... OK
* checking installed package size ... OK
* checking package directory ... OK
* checking ‘build’ directory ... OK
* checking DESCRIPTION meta-information ... OK
* checking top-level files ... OK
* checking for left-over files ... OK
* checking index information ... OK
* checking package subdirectories ... OK
* checking code files for non-ASCII characters ... OK
* checking R files for syntax errors ... OK
* checking whether the package can be loaded ... OK
* checking whether the package can be loaded with stated dependencies ... OK
* checking whether the package can be unloaded cleanly ... OK
* checking whether the namespace can be loaded with stated dependencies ... OK
* checking whether the namespace can be unloaded cleanly ... OK
* checking dependencies in R code ... OK
* checking S3 generic/method consistency ... OK
* checking replacement functions ... OK
* checking foreign function calls ... OK
* checking R code for possible problems ... OK
* checking Rd files ... OK
* checking Rd metadata ... OK
* checking Rd cross-references ... OK
* checking for missing documentation entries ... OK
* checking for code/documentation mismatches ... OK
* checking Rd \usage sections ... OK
* checking Rd contents ... OK
* checking for unstated dependencies in examples ... OK
* checking files in ‘vignettes’ ... OK
* checking examples ... OK
Examples with CPU (user + system) or elapsed time > 5s
user system elapsed
MsBackendMetaboLights 3.008 0.604 17.970
MetaboLights-utils 0.125 0.013 7.884
* checking for unstated dependencies in ‘tests’ ... OK
* checking tests ...
Running ‘testthat.R’
OK
* checking for unstated dependencies in vignettes ... OK
* checking package vignettes ... OK
* checking running R code from vignettes ... SKIPPED
* checking re-building of vignette outputs ... SKIPPED
* checking PDF version of manual ... OK
* DONE
Status: OK
MsBackendMetaboLights.Rcheck/00install.out
############################################################################## ############################################################################## ### ### Running command: ### ### /Library/Frameworks/R.framework/Resources/bin/R CMD INSTALL MsBackendMetaboLights ### ############################################################################## ############################################################################## * installing to library ‘/Library/Frameworks/R.framework/Versions/4.5-arm64/Resources/library’ * installing *source* package ‘MsBackendMetaboLights’ ... ** this is package ‘MsBackendMetaboLights’ version ‘1.4.2’ ** using staged installation ** R ** byte-compile and prepare package for lazy loading ** help *** installing help indices *** copying figures ** building package indices ** installing vignettes ** testing if installed package can be loaded from temporary location ** testing if installed package can be loaded from final location ** testing if installed package keeps a record of temporary installation path * DONE (MsBackendMetaboLights)
MsBackendMetaboLights.Rcheck/tests/testthat.Rout
R version 4.5.1 Patched (2025-09-10 r88807) -- "Great Square Root"
Copyright (C) 2025 The R Foundation for Statistical Computing
Platform: aarch64-apple-darwin20
R is free software and comes with ABSOLUTELY NO WARRANTY.
You are welcome to redistribute it under certain conditions.
Type 'license()' or 'licence()' for distribution details.
R is a collaborative project with many contributors.
Type 'contributors()' for more information and
'citation()' on how to cite R or R packages in publications.
Type 'demo()' for some demos, 'help()' for on-line help, or
'help.start()' for an HTML browser interface to help.
Type 'q()' to quit R.
> #' MetaboLights ID: MTBLS8735
> #' ftp://ftp.ebi.ac.uk/pub/databases/metabolights/studies/public/MTBLS8735
>
> library(testthat)
> library(MsBackendMetaboLights)
Loading required package: Spectra
Loading required package: S4Vectors
Loading required package: stats4
Loading required package: BiocGenerics
Loading required package: generics
Attaching package: 'generics'
The following objects are masked from 'package:base':
as.difftime, as.factor, as.ordered, intersect, is.element, setdiff,
setequal, union
Attaching package: 'BiocGenerics'
The following objects are masked from 'package:stats':
IQR, mad, sd, var, xtabs
The following objects are masked from 'package:base':
Filter, Find, Map, Position, Reduce, anyDuplicated, aperm, append,
as.data.frame, basename, cbind, colnames, dirname, do.call,
duplicated, eval, evalq, get, grep, grepl, is.unsorted, lapply,
mapply, match, mget, order, paste, pmax, pmax.int, pmin, pmin.int,
rank, rbind, rownames, sapply, saveRDS, table, tapply, unique,
unsplit, which.max, which.min
Attaching package: 'S4Vectors'
The following object is masked from 'package:utils':
findMatches
The following objects are masked from 'package:base':
I, expand.grid, unname
Loading required package: BiocParallel
>
> test_check("MsBackendMetaboLights")
[ FAIL 0 | WARN 0 | SKIP 0 | PASS 78 ]
>
> ## Run tests with the unit test suite defined in the Spectra package to ensure
> ## compliance with the definitions of the MsBackend interface/class.
> be <- backendInitialize(MsBackendMetaboLights(), mtblsId = "MTBLS39",
+ filePattern = "63A.cdf")
Used data files from the assay's column "Raw Spectral Data File" since none were available in column "Derived Spectral Data File".
>
> library(Spectra)
> test_suite <- system.file("test_backends", "test_MsBackend",
+ package = "Spectra")
> res <- test_dir(test_suite, stop_on_failure = TRUE)
✔ | F W S OK | Context
⠏ | 0 | peaks_variables
⠙ | 2 | peaks_variables
⠸ | 4 | peaks_variables
✔ | 4 | peaks_variables
⠏ | 0 | spectra_subsetting
⠋ | 1 | spectra_subsetting
⠋ | 41 | spectra_subsetting
⠇ | 79 | spectra_subsetting
⠧ | 118 | spectra_subsetting
⠦ | 157 | spectra_subsetting
⠴ | 196 | spectra_subsetting
⠼ | 235 | spectra_subsetting
⠸ | 274 | spectra_subsetting
⠧ | 298 | spectra_subsetting
⠼ | 335 | spectra_subsetting
⠏ | 370 | spectra_subsetting
⠇ | 409 | spectra_subsetting
⠧ | 448 | spectra_subsetting
⠸ | 484 | spectra_subsetting
⠹ | 523 | spectra_subsetting
⠇ | 559 | spectra_subsetting
⠼ | 595 | spectra_subsetting
⠸ | 634 | spectra_subsetting
⠏ | 670 | spectra_subsetting
⠇ | 709 | spectra_subsetting
⠼ | 745 | spectra_subsetting
⠋ | 781 | spectra_subsetting
⠏ | 820 | spectra_subsetting
⠴ | 856 | spectra_subsetting
⠙ | 892 | spectra_subsetting
⠙ | 932 | spectra_subsetting
⠦ | 967 | spectra_subsetting
⠹ | 1003 | spectra_subsetting
⠴ | 1036 | spectra_subsetting
⠇ | 1069 | spectra_subsetting
⠙ | 1102 | spectra_subsetting
⠼ | 1135 | spectra_subsetting
⠸ | 1174 | spectra_subsetting
⠏ | 1210 | spectra_subsetting
⠇ | 1249 | spectra_subsetting
⠧ | 1288 | spectra_subsetting
⠋ | 1321 | spectra_subsetting
⠏ | 1360 | spectra_subsetting
⠹ | 1393 | spectra_subsetting
⠇ | 1429 | spectra_subsetting
⠧ | 1468 | spectra_subsetting
⠦ | 1507 | spectra_subsetting
⠴ | 1546 | spectra_subsetting
⠦ | 1547 | spectra_subsetting
⠧ | 1588 | spectra_subsetting
⠼ | 1625 | spectra_subsetting
⠹ | 1663 | spectra_subsetting
⠙ | 1702 | spectra_subsetting
⠋ | 1741 | spectra_subsetting
⠏ | 1780 | spectra_subsetting
⠇ | 1819 | spectra_subsetting
⠴ | 1856 | spectra_subsetting
⠙ | 1892 | spectra_subsetting
⠏ | 1930 | spectra_subsetting
⠇ | 1969 | spectra_subsetting
⠧ | 2008 | spectra_subsetting
⠼ | 2045 | spectra_subsetting
⠹ | 2083 | spectra_subsetting
⠸ | 2124 | spectra_subsetting
⠙ | 2162 | spectra_subsetting
⠋ | 2201 | spectra_subsetting
⠇ | 2239 | spectra_subsetting
⠧ | 2278 | spectra_subsetting
⠦ | 2317 | spectra_subsetting
⠴ | 2356 | spectra_subsetting
⠹ | 2393 | spectra_subsetting
⠋ | 2431 | spectra_subsetting
⠏ | 2470 | spectra_subsetting
⠇ | 2509 | spectra_subsetting
⠧ | 2548 | spectra_subsetting
⠦ | 2587 | spectra_subsetting
⠴ | 2626 | spectra_subsetting
⠙ | 2662 | spectra_subsetting
⠋ | 2701 | spectra_subsetting
⠏ | 2740 | spectra_subsetting
⠴ | 2776 | spectra_subsetting
⠼ | 2815 | spectra_subsetting
⠸ | 2854 | spectra_subsetting
⠏ | 2890 | spectra_subsetting
⠇ | 2929 | spectra_subsetting
⠴ | 2966 | spectra_subsetting
⠸ | 3004 | spectra_subsetting
⠹ | 3043 | spectra_subsetting
⠋ | 3081 | spectra_subsetting
⠴ | 3116 | spectra_subsetting
⠸ | 3154 | spectra_subsetting
⠧ | 3188 | spectra_subsetting
⠸ | 3224 | spectra_subsetting
⠇ | 3259 | spectra_subsetting
⠙ | 3292 | spectra_subsetting
⠧ | 3328 | spectra_subsetting
⠋ | 3361 | spectra_subsetting
⠦ | 3397 | spectra_subsetting
⠹ | 3433 | spectra_subsetting
⠇ | 3469 | spectra_subsetting
⠙ | 3502 | spectra_subsetting
⠼ | 3535 | spectra_subsetting
⠋ | 3571 | spectra_subsetting
⠋ | 3601 | spectra_subsetting
⠦ | 3637 | spectra_subsetting
⠹ | 3673 | spectra_subsetting
⠋ | 3701 | spectra_subsetting
⠸ | 3734 | spectra_subsetting
⠇ | 3769 | spectra_subsetting
⠼ | 3805 | spectra_subsetting
⠋ | 3841 | spectra_subsetting
⠦ | 3877 | spectra_subsetting
⠹ | 3913 | spectra_subsetting
⠇ | 3949 | spectra_subsetting
⠼ | 3985 | spectra_subsetting
⠋ | 4021 | spectra_subsetting
⠏ | 4060 | spectra_subsetting
⠏ | 4090 | spectra_subsetting
⠦ | 4127 | spectra_subsetting
⠙ | 4162 | spectra_subsetting
⠧ | 4198 | spectra_subsetting
⠼ | 4235 | spectra_subsetting
⠏ | 4270 | spectra_subsetting
⠦ | 4307 | spectra_subsetting
⠙ | 4342 | spectra_subsetting
⠧ | 4378 | spectra_subsetting
⠦ | 4417 | spectra_subsetting
⠸ | 4454 | spectra_subsetting
⠋ | 4491 | spectra_subsetting
⠧ | 4528 | spectra_subsetting
⠸ | 4564 | spectra_subsetting
⠹ | 4603 | spectra_subsetting
⠏ | 4640 | spectra_subsetting
⠼ | 4675 | spectra_subsetting
⠋ | 4711 | spectra_subsetting
⠙ | 4742 | spectra_subsetting
⠦ | 4777 | spectra_subsetting
⠙ | 4812 | spectra_subsetting
⠇ | 4849 | spectra_subsetting
⠧ | 4888 | spectra_subsetting
⠸ | 4924 | spectra_subsetting
⠏ | 4960 | spectra_subsetting
⠴ | 4996 | spectra_subsetting
⠧ | 4998 | spectra_subsetting
⠏ | 5000 | spectra_subsetting
⠙ | 5002 | spectra_subsetting
⠸ | 5004 | spectra_subsetting
⠴ | 5006 | spectra_subsetting
⠧ | 5008 | spectra_subsetting
⠏ | 5010 | spectra_subsetting
⠙ | 5012 | spectra_subsetting
⠸ | 5014 | spectra_subsetting
⠴ | 5016 | spectra_subsetting
⠧ | 5018 | spectra_subsetting
⠏ | 5020 | spectra_subsetting
⠙ | 5022 | spectra_subsetting
⠸ | 5024 | spectra_subsetting
⠼ | 5025 | spectra_subsetting
⠦ | 5027 | spectra_subsetting
⠇ | 5029 | spectra_subsetting
⠋ | 5031 | spectra_subsetting
⠹ | 5033 | spectra_subsetting
⠼ | 5035 | spectra_subsetting
⠦ | 5037 | spectra_subsetting
⠇ | 5039 | spectra_subsetting
⠋ | 5041 | spectra_subsetting
⠹ | 5043 | spectra_subsetting
⠼ | 5045 | spectra_subsetting
⠦ | 5047 | spectra_subsetting
⠇ | 5049 | spectra_subsetting
⠋ | 5051 | spectra_subsetting
⠹ | 5053 | spectra_subsetting
⠼ | 5055 | spectra_subsetting
⠦ | 5057 | spectra_subsetting
⠇ | 5059 | spectra_subsetting
⠋ | 5061 | spectra_subsetting
⠹ | 5063 | spectra_subsetting
⠼ | 5065 | spectra_subsetting
⠦ | 5067 | spectra_subsetting
⠇ | 5069 | spectra_subsetting
⠋ | 5071 | spectra_subsetting
⠹ | 5073 | spectra_subsetting
⠼ | 5075 | spectra_subsetting
⠦ | 5077 | spectra_subsetting
⠇ | 5079 | spectra_subsetting
⠋ | 5081 | spectra_subsetting
⠹ | 5083 | spectra_subsetting
⠼ | 5085 | spectra_subsetting
⠦ | 5087 | spectra_subsetting
⠇ | 5089 | spectra_subsetting
⠋ | 5091 | spectra_subsetting
⠹ | 5093 | spectra_subsetting
⠼ | 5095 | spectra_subsetting
⠦ | 5097 | spectra_subsetting
⠇ | 5099 | spectra_subsetting
⠋ | 5101 | spectra_subsetting
⠹ | 5103 | spectra_subsetting
⠼ | 5105 | spectra_subsetting
⠦ | 5107 | spectra_subsetting
⠇ | 5109 | spectra_subsetting
⠋ | 5111 | spectra_subsetting
⠹ | 5113 | spectra_subsetting
⠼ | 5115 | spectra_subsetting
⠦ | 5117 | spectra_subsetting
⠇ | 5119 | spectra_subsetting
⠋ | 5121 | spectra_subsetting
⠹ | 5123 | spectra_subsetting
⠼ | 5125 | spectra_subsetting
⠦ | 5127 | spectra_subsetting
⠇ | 5129 | spectra_subsetting
⠋ | 5131 | spectra_subsetting
⠹ | 5133 | spectra_subsetting
⠼ | 5135 | spectra_subsetting
⠦ | 5137 | spectra_subsetting
⠇ | 5139 | spectra_subsetting
⠋ | 5141 | spectra_subsetting
⠹ | 5143 | spectra_subsetting
⠼ | 5145 | spectra_subsetting
⠦ | 5147 | spectra_subsetting
⠇ | 5149 | spectra_subsetting
⠋ | 5151 | spectra_subsetting
⠹ | 5153 | spectra_subsetting
⠼ | 5155 | spectra_subsetting
⠦ | 5157 | spectra_subsetting
⠇ | 5159 | spectra_subsetting
⠋ | 5161 | spectra_subsetting
⠹ | 5163 | spectra_subsetting
⠼ | 5165 | spectra_subsetting
⠦ | 5167 | spectra_subsetting
⠇ | 5169 | spectra_subsetting
⠋ | 5171 | spectra_subsetting
⠹ | 5173 | spectra_subsetting
⠼ | 5175 | spectra_subsetting
⠦ | 5177 | spectra_subsetting
⠇ | 5179 | spectra_subsetting
⠋ | 5181 | spectra_subsetting
⠹ | 5183 | spectra_subsetting
⠼ | 5185 | spectra_subsetting
⠦ | 5187 | spectra_subsetting
⠇ | 5189 | spectra_subsetting
⠋ | 5191 | spectra_subsetting
⠹ | 5193 | spectra_subsetting
⠼ | 5195 | spectra_subsetting
⠦ | 5197 | spectra_subsetting
⠇ | 5199 | spectra_subsetting
⠋ | 5201 | spectra_subsetting
⠹ | 5203 | spectra_subsetting
⠼ | 5205 | spectra_subsetting
⠦ | 5207 | spectra_subsetting
⠇ | 5209 | spectra_subsetting
⠋ | 5211 | spectra_subsetting
⠹ | 5213 | spectra_subsetting
⠼ | 5215 | spectra_subsetting
⠦ | 5217 | spectra_subsetting
⠇ | 5219 | spectra_subsetting
⠋ | 5221 | spectra_subsetting
⠹ | 5223 | spectra_subsetting
⠼ | 5225 | spectra_subsetting
⠦ | 5227 | spectra_subsetting
⠇ | 5229 | spectra_subsetting
⠋ | 5231 | spectra_subsetting
⠹ | 5233 | spectra_subsetting
⠼ | 5235 | spectra_subsetting
⠦ | 5237 | spectra_subsetting
⠇ | 5239 | spectra_subsetting
⠋ | 5241 | spectra_subsetting
⠹ | 5243 | spectra_subsetting
⠼ | 5245 | spectra_subsetting
⠦ | 5247 | spectra_subsetting
⠇ | 5249 | spectra_subsetting
⠋ | 5251 | spectra_subsetting
⠹ | 5253 | spectra_subsetting
⠼ | 5255 | spectra_subsetting
⠦ | 5257 | spectra_subsetting
⠇ | 5259 | spectra_subsetting
⠋ | 5261 | spectra_subsetting
⠹ | 5263 | spectra_subsetting
⠼ | 5265 | spectra_subsetting
⠦ | 5267 | spectra_subsetting
⠇ | 5269 | spectra_subsetting
⠋ | 5271 | spectra_subsetting
⠹ | 5273 | spectra_subsetting
⠼ | 5275 | spectra_subsetting
⠦ | 5277 | spectra_subsetting
⠇ | 5279 | spectra_subsetting
⠋ | 5281 | spectra_subsetting
⠹ | 5283 | spectra_subsetting
⠼ | 5285 | spectra_subsetting
⠦ | 5287 | spectra_subsetting
⠇ | 5289 | spectra_subsetting
⠋ | 5291 | spectra_subsetting
⠹ | 5293 | spectra_subsetting
⠼ | 5295 | spectra_subsetting
⠦ | 5297 | spectra_subsetting
⠇ | 5299 | spectra_subsetting
⠋ | 5301 | spectra_subsetting
⠹ | 5303 | spectra_subsetting
⠼ | 5305 | spectra_subsetting
⠦ | 5307 | spectra_subsetting
⠇ | 5309 | spectra_subsetting
⠋ | 5311 | spectra_subsetting
⠹ | 5313 | spectra_subsetting
⠼ | 5315 | spectra_subsetting
⠦ | 5317 | spectra_subsetting
⠇ | 5319 | spectra_subsetting
⠋ | 5321 | spectra_subsetting
⠹ | 5323 | spectra_subsetting
⠼ | 5325 | spectra_subsetting
⠦ | 5327 | spectra_subsetting
⠇ | 5329 | spectra_subsetting
⠋ | 5331 | spectra_subsetting
⠹ | 5333 | spectra_subsetting
⠼ | 5335 | spectra_subsetting
⠦ | 5337 | spectra_subsetting
⠇ | 5339 | spectra_subsetting
⠋ | 5341 | spectra_subsetting
⠹ | 5343 | spectra_subsetting
⠼ | 5345 | spectra_subsetting
⠦ | 5347 | spectra_subsetting
⠇ | 5349 | spectra_subsetting
⠋ | 5351 | spectra_subsetting
⠹ | 5353 | spectra_subsetting
⠼ | 5355 | spectra_subsetting
⠦ | 5357 | spectra_subsetting
⠇ | 5359 | spectra_subsetting
⠋ | 5361 | spectra_subsetting
⠹ | 5363 | spectra_subsetting
⠼ | 5365 | spectra_subsetting
⠦ | 5367 | spectra_subsetting
⠇ | 5369 | spectra_subsetting
⠋ | 5371 | spectra_subsetting
⠙ | 5372 | spectra_subsetting
⠸ | 5374 | spectra_subsetting
⠴ | 5376 | spectra_subsetting
⠧ | 5378 | spectra_subsetting
⠏ | 5380 | spectra_subsetting
⠙ | 5382 | spectra_subsetting
⠸ | 5384 | spectra_subsetting
⠴ | 5386 | spectra_subsetting
⠧ | 5388 | spectra_subsetting
⠏ | 5390 | spectra_subsetting
⠙ | 5392 | spectra_subsetting
⠸ | 5394 | spectra_subsetting
⠴ | 5396 | spectra_subsetting
⠧ | 5398 | spectra_subsetting
⠏ | 5400 | spectra_subsetting
⠙ | 5402 | spectra_subsetting
⠸ | 5404 | spectra_subsetting
⠴ | 5406 | spectra_subsetting
⠧ | 5408 | spectra_subsetting
⠏ | 5410 | spectra_subsetting
⠙ | 5412 | spectra_subsetting
⠸ | 5414 | spectra_subsetting
⠴ | 5416 | spectra_subsetting
⠧ | 5418 | spectra_subsetting
⠏ | 5420 | spectra_subsetting
⠙ | 5422 | spectra_subsetting
⠸ | 5424 | spectra_subsetting
⠴ | 5426 | spectra_subsetting
⠧ | 5428 | spectra_subsetting
⠏ | 5430 | spectra_subsetting
⠙ | 5432 | spectra_subsetting
⠸ | 5434 | spectra_subsetting
⠴ | 5436 | spectra_subsetting
⠧ | 5438 | spectra_subsetting
⠏ | 5440 | spectra_subsetting
⠙ | 5442 | spectra_subsetting
⠸ | 5444 | spectra_subsetting
⠴ | 5446 | spectra_subsetting
⠧ | 5448 | spectra_subsetting
⠏ | 5450 | spectra_subsetting
⠙ | 5452 | spectra_subsetting
⠸ | 5454 | spectra_subsetting
⠴ | 5456 | spectra_subsetting
⠧ | 5458 | spectra_subsetting
⠏ | 5460 | spectra_subsetting
⠙ | 5462 | spectra_subsetting
⠸ | 5464 | spectra_subsetting
⠴ | 5466 | spectra_subsetting
⠧ | 5468 | spectra_subsetting
⠇ | 5469 | spectra_subsetting
⠋ | 5471 | spectra_subsetting
⠹ | 5473 | spectra_subsetting
⠼ | 5475 | spectra_subsetting
⠦ | 5477 | spectra_subsetting
⠇ | 5479 | spectra_subsetting
⠋ | 5481 | spectra_subsetting
⠹ | 5483 | spectra_subsetting
⠼ | 5485 | spectra_subsetting
⠦ | 5487 | spectra_subsetting
⠇ | 5489 | spectra_subsetting
⠋ | 5491 | spectra_subsetting
⠹ | 5493 | spectra_subsetting
⠼ | 5495 | spectra_subsetting
⠦ | 5497 | spectra_subsetting
⠇ | 5499 | spectra_subsetting
⠋ | 5501 | spectra_subsetting
⠹ | 5503 | spectra_subsetting
⠼ | 5505 | spectra_subsetting
⠦ | 5507 | spectra_subsetting
⠇ | 5509 | spectra_subsetting
⠋ | 5511 | spectra_subsetting
⠹ | 5513 | spectra_subsetting
⠼ | 5515 | spectra_subsetting
⠦ | 5517 | spectra_subsetting
⠇ | 5519 | spectra_subsetting
⠋ | 5521 | spectra_subsetting
⠹ | 5523 | spectra_subsetting
⠼ | 5525 | spectra_subsetting
⠦ | 5527 | spectra_subsetting
⠇ | 5529 | spectra_subsetting
⠋ | 5531 | spectra_subsetting
⠹ | 5533 | spectra_subsetting
⠼ | 5535 | spectra_subsetting
⠦ | 5537 | spectra_subsetting
⠇ | 5539 | spectra_subsetting
⠋ | 5541 | spectra_subsetting
⠹ | 5543 | spectra_subsetting
⠼ | 5545 | spectra_subsetting
⠦ | 5547 | spectra_subsetting
⠇ | 5549 | spectra_subsetting
⠏ | 5550 | spectra_subsetting
⠙ | 5552 | spectra_subsetting
⠸ | 5554 | spectra_subsetting
⠴ | 5556 | spectra_subsetting
⠧ | 5558 | spectra_subsetting
⠇ | 5559 | spectra_subsetting
⠋ | 5561 | spectra_subsetting
⠹ | 5563 | spectra_subsetting
⠼ | 5565 | spectra_subsetting
⠦ | 5567 | spectra_subsetting
⠇ | 5569 | spectra_subsetting
⠋ | 5571 | spectra_subsetting
⠹ | 5573 | spectra_subsetting
⠼ | 5575 | spectra_subsetting
⠦ | 5577 | spectra_subsetting
⠇ | 5579 | spectra_subsetting
⠋ | 5581 | spectra_subsetting
⠹ | 5583 | spectra_subsetting
⠼ | 5585 | spectra_subsetting
⠦ | 5587 | spectra_subsetting
⠇ | 5589 | spectra_subsetting
⠋ | 5591 | spectra_subsetting
⠹ | 5593 | spectra_subsetting
⠼ | 5595 | spectra_subsetting
⠦ | 5597 | spectra_subsetting
⠇ | 5599 | spectra_subsetting
⠋ | 5601 | spectra_subsetting
⠙ | 5602 | spectra_subsetting
⠸ | 5604 | spectra_subsetting
⠴ | 5606 | spectra_subsetting
⠧ | 5608 | spectra_subsetting
⠏ | 5610 | spectra_subsetting
⠙ | 5612 | spectra_subsetting
⠸ | 5614 | spectra_subsetting
⠴ | 5616 | spectra_subsetting
⠧ | 5618 | spectra_subsetting
⠏ | 5620 | spectra_subsetting
⠋ | 5621 | spectra_subsetting
⠹ | 5623 | spectra_subsetting
⠼ | 5625 | spectra_subsetting
⠦ | 5627 | spectra_subsetting
⠇ | 5629 | spectra_subsetting
⠋ | 5631 | spectra_subsetting
⠹ | 5633 | spectra_subsetting
⠼ | 5635 | spectra_subsetting
⠦ | 5637 | spectra_subsetting
⠇ | 5639 | spectra_subsetting
⠋ | 5641 | spectra_subsetting
⠹ | 5643 | spectra_subsetting
⠼ | 5645 | spectra_subsetting
⠦ | 5647 | spectra_subsetting
⠇ | 5649 | spectra_subsetting
⠋ | 5651 | spectra_subsetting
⠹ | 5653 | spectra_subsetting
⠼ | 5655 | spectra_subsetting
⠦ | 5657 | spectra_subsetting
⠇ | 5659 | spectra_subsetting
⠋ | 5661 | spectra_subsetting
⠹ | 5663 | spectra_subsetting
⠼ | 5665 | spectra_subsetting
⠦ | 5667 | spectra_subsetting
⠇ | 5669 | spectra_subsetting
⠋ | 5671 | spectra_subsetting
⠹ | 5673 | spectra_subsetting
⠸ | 5674 | spectra_subsetting
⠴ | 5676 | spectra_subsetting
⠧ | 5678 | spectra_subsetting
⠏ | 5680 | spectra_subsetting
⠙ | 5682 | spectra_subsetting
⠸ | 5684 | spectra_subsetting
⠴ | 5686 | spectra_subsetting
⠧ | 5688 | spectra_subsetting
⠏ | 5690 | spectra_subsetting
⠙ | 5692 | spectra_subsetting
⠸ | 5694 | spectra_subsetting
⠴ | 5696 | spectra_subsetting
⠧ | 5698 | spectra_subsetting
⠏ | 5700 | spectra_subsetting
⠙ | 5702 | spectra_subsetting
⠸ | 5704 | spectra_subsetting
⠴ | 5706 | spectra_subsetting
⠧ | 5708 | spectra_subsetting
⠏ | 5710 | spectra_subsetting
⠋ | 5711 | spectra_subsetting
⠹ | 5713 | spectra_subsetting
⠼ | 5715 | spectra_subsetting
⠦ | 5717 | spectra_subsetting
⠇ | 5719 | spectra_subsetting
⠋ | 5721 | spectra_subsetting
⠹ | 5723 | spectra_subsetting
⠼ | 5725 | spectra_subsetting
⠦ | 5727 | spectra_subsetting
⠇ | 5729 | spectra_subsetting
⠋ | 5731 | spectra_subsetting
⠹ | 5733 | spectra_subsetting
⠼ | 5735 | spectra_subsetting
⠦ | 5737 | spectra_subsetting
⠇ | 5739 | spectra_subsetting
⠋ | 5741 | spectra_subsetting
⠹ | 5743 | spectra_subsetting
⠼ | 5745 | spectra_subsetting
⠦ | 5747 | spectra_subsetting
⠇ | 5749 | spectra_subsetting
⠋ | 5751 | spectra_subsetting
⠹ | 5753 | spectra_subsetting
⠼ | 5755 | spectra_subsetting
⠦ | 5757 | spectra_subsetting
⠇ | 5759 | spectra_subsetting
⠋ | 5761 | spectra_subsetting
⠹ | 5763 | spectra_subsetting
⠼ | 5765 | spectra_subsetting
⠦ | 5767 | spectra_subsetting
⠇ | 5769 | spectra_subsetting
⠋ | 5771 | spectra_subsetting
⠹ | 5773 | spectra_subsetting
⠸ | 5774 | spectra_subsetting
⠴ | 5776 | spectra_subsetting
⠧ | 5778 | spectra_subsetting
⠏ | 5780 | spectra_subsetting
⠙ | 5782 | spectra_subsetting
⠸ | 5784 | spectra_subsetting
⠴ | 5786 | spectra_subsetting
⠧ | 5788 | spectra_subsetting
⠏ | 5790 | spectra_subsetting
⠙ | 5792 | spectra_subsetting
⠸ | 5794 | spectra_subsetting
⠴ | 5796 | spectra_subsetting
⠧ | 5798 | spectra_subsetting
⠏ | 5800 | spectra_subsetting
⠙ | 5802 | spectra_subsetting
⠸ | 5804 | spectra_subsetting
⠴ | 5806 | spectra_subsetting
⠧ | 5808 | spectra_subsetting
⠏ | 5810 | spectra_subsetting
⠙ | 5812 | spectra_subsetting
⠸ | 5814 | spectra_subsetting
⠴ | 5816 | spectra_subsetting
⠧ | 5818 | spectra_subsetting
⠏ | 5820 | spectra_subsetting
⠙ | 5822 | spectra_subsetting
⠸ | 5824 | spectra_subsetting
⠴ | 5826 | spectra_subsetting
⠧ | 5828 | spectra_subsetting
⠏ | 5830 | spectra_subsetting
⠙ | 5832 | spectra_subsetting
⠸ | 5834 | spectra_subsetting
⠴ | 5836 | spectra_subsetting
⠧ | 5838 | spectra_subsetting
⠏ | 5840 | spectra_subsetting
⠙ | 5842 | spectra_subsetting
⠸ | 5844 | spectra_subsetting
⠴ | 5846 | spectra_subsetting
⠧ | 5848 | spectra_subsetting
⠏ | 5850 | spectra_subsetting
⠙ | 5852 | spectra_subsetting
⠸ | 5854 | spectra_subsetting
⠴ | 5856 | spectra_subsetting
⠧ | 5858 | spectra_subsetting
⠏ | 5860 | spectra_subsetting
⠙ | 5862 | spectra_subsetting
⠸ | 5864 | spectra_subsetting
⠴ | 5866 | spectra_subsetting
⠧ | 5868 | spectra_subsetting
⠏ | 5870 | spectra_subsetting
⠙ | 5872 | spectra_subsetting
⠸ | 5874 | spectra_subsetting
⠴ | 5876 | spectra_subsetting
⠦ | 5877 | spectra_subsetting
⠇ | 5879 | spectra_subsetting
⠋ | 5881 | spectra_subsetting
⠹ | 5883 | spectra_subsetting
⠼ | 5885 | spectra_subsetting
⠦ | 5887 | spectra_subsetting
⠇ | 5889 | spectra_subsetting
⠋ | 5891 | spectra_subsetting
⠹ | 5893 | spectra_subsetting
⠼ | 5895 | spectra_subsetting
⠦ | 5897 | spectra_subsetting
⠇ | 5899 | spectra_subsetting
⠋ | 5901 | spectra_subsetting
⠙ | 5902 | spectra_subsetting
⠸ | 5904 | spectra_subsetting
⠴ | 5906 | spectra_subsetting
⠧ | 5908 | spectra_subsetting
⠏ | 5910 | spectra_subsetting
⠙ | 5912 | spectra_subsetting
⠸ | 5914 | spectra_subsetting
⠴ | 5916 | spectra_subsetting
⠧ | 5918 | spectra_subsetting
⠏ | 5920 | spectra_subsetting
⠋ | 5921 | spectra_subsetting
⠹ | 5923 | spectra_subsetting
⠼ | 5925 | spectra_subsetting
⠦ | 5927 | spectra_subsetting
⠇ | 5929 | spectra_subsetting
⠋ | 5931 | spectra_subsetting
⠹ | 5933 | spectra_subsetting
⠼ | 5935 | spectra_subsetting
⠦ | 5937 | spectra_subsetting
⠇ | 5939 | spectra_subsetting
⠋ | 5941 | spectra_subsetting
⠹ | 5943 | spectra_subsetting
⠼ | 5945 | spectra_subsetting
⠦ | 5947 | spectra_subsetting
⠇ | 5949 | spectra_subsetting
⠋ | 5951 | spectra_subsetting
⠹ | 5953 | spectra_subsetting
⠼ | 5955 | spectra_subsetting
⠦ | 5957 | spectra_subsetting
⠇ | 5959 | spectra_subsetting
⠋ | 5961 | spectra_subsetting
⠹ | 5963 | spectra_subsetting
⠼ | 5965 | spectra_subsetting
⠦ | 5967 | spectra_subsetting
⠇ | 5969 | spectra_subsetting
⠋ | 5971 | spectra_subsetting
⠹ | 5973 | spectra_subsetting
⠼ | 5975 | spectra_subsetting
⠦ | 5977 | spectra_subsetting
⠇ | 5979 | spectra_subsetting
⠋ | 5981 | spectra_subsetting
⠹ | 5983 | spectra_subsetting
⠼ | 5985 | spectra_subsetting
⠦ | 5987 | spectra_subsetting
⠇ | 5989 | spectra_subsetting
⠋ | 5991 | spectra_subsetting
⠹ | 5993 | spectra_subsetting
⠼ | 5995 | spectra_subsetting
⠦ | 5997 | spectra_subsetting
⠇ | 5999 | spectra_subsetting
⠋ | 6001 | spectra_subsetting
⠹ | 6003 | spectra_subsetting
⠼ | 6005 | spectra_subsetting
⠦ | 6007 | spectra_subsetting
⠇ | 6009 | spectra_subsetting
⠋ | 6011 | spectra_subsetting
⠹ | 6013 | spectra_subsetting
⠼ | 6015 | spectra_subsetting
⠦ | 6017 | spectra_subsetting
⠇ | 6019 | spectra_subsetting
⠋ | 6021 | spectra_subsetting
⠹ | 6023 | spectra_subsetting
⠼ | 6025 | spectra_subsetting
⠦ | 6027 | spectra_subsetting
⠇ | 6029 | spectra_subsetting
⠋ | 6031 | spectra_subsetting
⠹ | 6033 | spectra_subsetting
⠸ | 6034 | spectra_subsetting
⠴ | 6036 | spectra_subsetting
⠧ | 6038 | spectra_subsetting
⠏ | 6040 | spectra_subsetting
⠙ | 6042 | spectra_subsetting
⠸ | 6044 | spectra_subsetting
⠴ | 6046 | spectra_subsetting
⠧ | 6048 | spectra_subsetting
⠏ | 6050 | spectra_subsetting
⠙ | 6052 | spectra_subsetting
⠸ | 6054 | spectra_subsetting
⠴ | 6056 | spectra_subsetting
⠧ | 6058 | spectra_subsetting
⠏ | 6060 | spectra_subsetting
⠙ | 6062 | spectra_subsetting
⠸ | 6064 | spectra_subsetting
⠴ | 6066 | spectra_subsetting
⠧ | 6068 | spectra_subsetting
⠏ | 6070 | spectra_subsetting
⠙ | 6072 | spectra_subsetting
⠸ | 6074 | spectra_subsetting
⠴ | 6076 | spectra_subsetting
⠧ | 6078 | spectra_subsetting
⠏ | 6080 | spectra_subsetting
⠙ | 6082 | spectra_subsetting
⠸ | 6084 | spectra_subsetting
⠴ | 6086 | spectra_subsetting
⠧ | 6088 | spectra_subsetting
⠏ | 6090 | spectra_subsetting
⠙ | 6092 | spectra_subsetting
⠸ | 6094 | spectra_subsetting
⠴ | 6096 | spectra_subsetting
⠧ | 6098 | spectra_subsetting
⠏ | 6100 | spectra_subsetting
⠙ | 6102 | spectra_subsetting
⠸ | 6104 | spectra_subsetting
⠴ | 6106 | spectra_subsetting
⠧ | 6108 | spectra_subsetting
⠏ | 6110 | spectra_subsetting
⠙ | 6112 | spectra_subsetting
⠸ | 6114 | spectra_subsetting
⠴ | 6116 | spectra_subsetting
⠧ | 6118 | spectra_subsetting
⠏ | 6120 | spectra_subsetting
⠙ | 6122 | spectra_subsetting
⠸ | 6124 | spectra_subsetting
⠴ | 6126 | spectra_subsetting
⠧ | 6128 | spectra_subsetting
⠏ | 6130 | spectra_subsetting
⠙ | 6132 | spectra_subsetting
⠸ | 6134 | spectra_subsetting
⠴ | 6136 | spectra_subsetting
⠧ | 6138 | spectra_subsetting
⠏ | 6140 | spectra_subsetting
⠙ | 6142 | spectra_subsetting
⠸ | 6144 | spectra_subsetting
⠴ | 6146 | spectra_subsetting
⠧ | 6148 | spectra_subsetting
⠏ | 6150 | spectra_subsetting
⠙ | 6152 | spectra_subsetting
⠸ | 6154 | spectra_subsetting
⠴ | 6156 | spectra_subsetting
⠧ | 6158 | spectra_subsetting
⠏ | 6160 | spectra_subsetting
⠙ | 6162 | spectra_subsetting
⠸ | 6164 | spectra_subsetting
⠴ | 6166 | spectra_subsetting
⠧ | 6168 | spectra_subsetting
⠏ | 6170 | spectra_subsetting
⠙ | 6172 | spectra_subsetting
⠸ | 6174 | spectra_subsetting
⠴ | 6176 | spectra_subsetting
⠧ | 6178 | spectra_subsetting
⠏ | 6180 | spectra_subsetting
⠙ | 6182 | spectra_subsetting
⠸ | 6184 | spectra_subsetting
⠴ | 6186 | spectra_subsetting
⠧ | 6188 | spectra_subsetting
⠏ | 6190 | spectra_subsetting
⠙ | 6192 | spectra_subsetting
⠸ | 6194 | spectra_subsetting
⠴ | 6196 | spectra_subsetting
⠧ | 6198 | spectra_subsetting
⠏ | 6200 | spectra_subsetting
⠙ | 6202 | spectra_subsetting
⠸ | 6204 | spectra_subsetting
⠴ | 6206 | spectra_subsetting
⠧ | 6208 | spectra_subsetting
⠏ | 6210 | spectra_subsetting
⠙ | 6212 | spectra_subsetting
⠸ | 6214 | spectra_subsetting
⠴ | 6216 | spectra_subsetting
⠧ | 6218 | spectra_subsetting
⠏ | 6220 | spectra_subsetting
⠙ | 6222 | spectra_subsetting
⠸ | 6224 | spectra_subsetting
⠴ | 6226 | spectra_subsetting
⠧ | 6228 | spectra_subsetting
⠏ | 6230 | spectra_subsetting
⠙ | 6232 | spectra_subsetting
⠸ | 6234 | spectra_subsetting
⠴ | 6236 | spectra_subsetting
⠧ | 6238 | spectra_subsetting
⠏ | 6240 | spectra_subsetting
⠙ | 6242 | spectra_subsetting
⠸ | 6244 | spectra_subsetting
⠴ | 6246 | spectra_subsetting
⠧ | 6248 | spectra_subsetting
⠏ | 6250 | spectra_subsetting
⠙ | 6252 | spectra_subsetting
⠸ | 6254 | spectra_subsetting
⠴ | 6256 | spectra_subsetting
⠧ | 6258 | spectra_subsetting
⠏ | 6260 | spectra_subsetting
⠙ | 6262 | spectra_subsetting
⠸ | 6264 | spectra_subsetting
⠴ | 6266 | spectra_subsetting
⠧ | 6268 | spectra_subsetting
⠏ | 6270 | spectra_subsetting
⠙ | 6272 | spectra_subsetting
⠸ | 6274 | spectra_subsetting
⠴ | 6276 | spectra_subsetting
⠧ | 6278 | spectra_subsetting
⠏ | 6280 | spectra_subsetting
⠙ | 6282 | spectra_subsetting
⠸ | 6284 | spectra_subsetting
⠴ | 6286 | spectra_subsetting
⠧ | 6288 | spectra_subsetting
⠏ | 6290 | spectra_subsetting
⠙ | 6292 | spectra_subsetting
⠸ | 6294 | spectra_subsetting
⠴ | 6296 | spectra_subsetting
⠧ | 6298 | spectra_subsetting
⠏ | 6300 | spectra_subsetting
⠙ | 6302 | spectra_subsetting
⠸ | 6304 | spectra_subsetting
⠴ | 6306 | spectra_subsetting
⠧ | 6308 | spectra_subsetting
⠏ | 6310 | spectra_subsetting
⠙ | 6312 | spectra_subsetting
⠸ | 6314 | spectra_subsetting
⠴ | 6316 | spectra_subsetting
⠧ | 6318 | spectra_subsetting
⠇ | 6319 | spectra_subsetting
⠋ | 6321 | spectra_subsetting
⠹ | 6323 | spectra_subsetting
⠼ | 6325 | spectra_subsetting
⠦ | 6327 | spectra_subsetting
⠇ | 6329 | spectra_subsetting
⠋ | 6331 | spectra_subsetting
⠹ | 6333 | spectra_subsetting
⠼ | 6335 | spectra_subsetting
⠦ | 6337 | spectra_subsetting
⠇ | 6339 | spectra_subsetting
⠋ | 6341 | spectra_subsetting
⠹ | 6343 | spectra_subsetting
⠼ | 6345 | spectra_subsetting
⠦ | 6347 | spectra_subsetting
⠇ | 6349 | spectra_subsetting
⠋ | 6351 | spectra_subsetting
⠹ | 6353 | spectra_subsetting
⠼ | 6355 | spectra_subsetting
⠦ | 6357 | spectra_subsetting
⠇ | 6359 | spectra_subsetting
⠋ | 6361 | spectra_subsetting
⠹ | 6363 | spectra_subsetting
⠼ | 6365 | spectra_subsetting
⠦ | 6367 | spectra_subsetting
⠧ | 6368 | spectra_subsetting
⠏ | 6370 | spectra_subsetting
⠙ | 6372 | spectra_subsetting
⠸ | 6374 | spectra_subsetting
⠴ | 6376 | spectra_subsetting
⠧ | 6378 | spectra_subsetting
⠏ | 6380 | spectra_subsetting
⠙ | 6382 | spectra_subsetting
⠸ | 6384 | spectra_subsetting
⠴ | 6386 | spectra_subsetting
⠧ | 6388 | spectra_subsetting
⠏ | 6390 | spectra_subsetting
⠙ | 6392 | spectra_subsetting
⠸ | 6394 | spectra_subsetting
⠴ | 6396 | spectra_subsetting
⠧ | 6398 | spectra_subsetting
⠏ | 6400 | spectra_subsetting
⠙ | 6402 | spectra_subsetting
⠸ | 6404 | spectra_subsetting
⠴ | 6406 | spectra_subsetting
⠧ | 6408 | spectra_subsetting
⠏ | 6410 | spectra_subsetting
⠙ | 6412 | spectra_subsetting
⠸ | 6414 | spectra_subsetting
⠴ | 6416 | spectra_subsetting
⠧ | 6418 | spectra_subsetting
⠏ | 6420 | spectra_subsetting
⠙ | 6422 | spectra_subsetting
⠸ | 6424 | spectra_subsetting
⠴ | 6426 | spectra_subsetting
⠧ | 6428 | spectra_subsetting
⠏ | 6430 | spectra_subsetting
⠙ | 6432 | spectra_subsetting
⠸ | 6434 | spectra_subsetting
⠴ | 6436 | spectra_subsetting
⠧ | 6438 | spectra_subsetting
⠏ | 6440 | spectra_subsetting
⠙ | 6442 | spectra_subsetting
⠸ | 6444 | spectra_subsetting
⠴ | 6446 | spectra_subsetting
⠧ | 6448 | spectra_subsetting
⠏ | 6450 | spectra_subsetting
⠙ | 6452 | spectra_subsetting
⠸ | 6454 | spectra_subsetting
⠼ | 6455 | spectra_subsetting
⠦ | 6457 | spectra_subsetting
⠇ | 6459 | spectra_subsetting
⠋ | 6461 | spectra_subsetting
⠹ | 6463 | spectra_subsetting
⠼ | 6465 | spectra_subsetting
⠦ | 6467 | spectra_subsetting
⠇ | 6469 | spectra_subsetting
⠋ | 6471 | spectra_subsetting
⠹ | 6473 | spectra_subsetting
⠼ | 6475 | spectra_subsetting
⠦ | 6477 | spectra_subsetting
⠇ | 6479 | spectra_subsetting
⠋ | 6481 | spectra_subsetting
⠹ | 6483 | spectra_subsetting
⠼ | 6485 | spectra_subsetting
⠦ | 6487 | spectra_subsetting
⠇ | 6489 | spectra_subsetting
⠋ | 6491 | spectra_subsetting
⠹ | 6493 | spectra_subsetting
⠼ | 6495 | spectra_subsetting
⠦ | 6497 | spectra_subsetting
⠇ | 6499 | spectra_subsetting
⠋ | 6501 | spectra_subsetting
⠹ | 6503 | spectra_subsetting
⠼ | 6505 | spectra_subsetting
⠦ | 6507 | spectra_subsetting
⠇ | 6509 | spectra_subsetting
⠋ | 6511 | spectra_subsetting
⠹ | 6513 | spectra_subsetting
⠼ | 6515 | spectra_subsetting
⠦ | 6517 | spectra_subsetting
⠇ | 6519 | spectra_subsetting
⠋ | 6521 | spectra_subsetting
⠹ | 6523 | spectra_subsetting
⠼ | 6525 | spectra_subsetting
⠦ | 6527 | spectra_subsetting
⠇ | 6529 | spectra_subsetting
⠋ | 6531 | spectra_subsetting
⠹ | 6533 | spectra_subsetting
⠼ | 6535 | spectra_subsetting
⠦ | 6537 | spectra_subsetting
⠇ | 6539 | spectra_subsetting
⠋ | 6541 | spectra_subsetting
⠹ | 6543 | spectra_subsetting
⠼ | 6545 | spectra_subsetting
⠦ | 6547 | spectra_subsetting
⠇ | 6549 | spectra_subsetting
⠋ | 6551 | spectra_subsetting
⠹ | 6553 | spectra_subsetting
⠼ | 6555 | spectra_subsetting
⠦ | 6557 | spectra_subsetting
⠇ | 6559 | spectra_subsetting
⠋ | 6561 | spectra_subsetting
⠹ | 6563 | spectra_subsetting
⠼ | 6565 | spectra_subsetting
⠦ | 6567 | spectra_subsetting
⠇ | 6569 | spectra_subsetting
⠋ | 6571 | spectra_subsetting
⠹ | 6573 | spectra_subsetting
⠼ | 6575 | spectra_subsetting
⠦ | 6577 | spectra_subsetting
⠇ | 6579 | spectra_subsetting
⠋ | 6581 | spectra_subsetting
⠹ | 6583 | spectra_subsetting
⠼ | 6585 | spectra_subsetting
⠦ | 6587 | spectra_subsetting
⠇ | 6589 | spectra_subsetting
⠋ | 6591 | spectra_subsetting
⠹ | 6593 | spectra_subsetting
⠼ | 6595 | spectra_subsetting
⠦ | 6597 | spectra_subsetting
⠇ | 6599 | spectra_subsetting
⠋ | 6601 | spectra_subsetting
⠹ | 6603 | spectra_subsetting
⠼ | 6605 | spectra_subsetting
⠦ | 6607 | spectra_subsetting
⠇ | 6609 | spectra_subsetting
⠋ | 6611 | spectra_subsetting
⠹ | 6613 | spectra_subsetting
⠼ | 6615 | spectra_subsetting
⠦ | 6617 | spectra_subsetting
⠇ | 6619 | spectra_subsetting
⠋ | 6621 | spectra_subsetting
⠹ | 6623 | spectra_subsetting
⠼ | 6625 | spectra_subsetting
⠦ | 6627 | spectra_subsetting
⠇ | 6629 | spectra_subsetting
⠋ | 6631 | spectra_subsetting
⠹ | 6633 | spectra_subsetting
⠼ | 6635 | spectra_subsetting
⠦ | 6637 | spectra_subsetting
⠇ | 6639 | spectra_subsetting
⠋ | 6641 | spectra_subsetting
⠹ | 6643 | spectra_subsetting
⠼ | 6645 | spectra_subsetting
⠦ | 6647 | spectra_subsetting
⠇ | 6649 | spectra_subsetting
⠋ | 6651 | spectra_subsetting
⠹ | 6653 | spectra_subsetting
⠼ | 6655 | spectra_subsetting
⠦ | 6657 | spectra_subsetting
⠇ | 6659 | spectra_subsetting
⠹ | 6663 | spectra_subsetting
⠼ | 6665 | spectra_subsetting
⠹ | 6673 | spectra_subsetting
⠇ | 6679 | spectra_subsetting
⠸ | 6694 | spectra_subsetting
✔ | 6702 | spectra_subsetting [152.7s]
⠏ | 0 | spectra_variables
⠙ | 12 | spectra_variables
⠸ | 14 | spectra_variables
⠴ | 16 | spectra_variables
⠦ | 27 | spectra_variables
⠇ | 29 | spectra_variables
⠋ | 31 | spectra_variables
⠹ | 43 | spectra_variables
⠸ | 54 | spectra_variables
✔ | 1 62 | spectra_variables [1.8s]
══ Results ═════════════════════════════════════════════════════════════════════
Duration: 154.8 s
── Skipped tests (1) ───────────────────────────────────────────────────────────
• empty test (1): 'test_spectra_variables.R:262:1'
[ FAIL 0 | WARN 0 | SKIP 1 | PASS 6768 ]
>
> proc.time()
user system elapsed
150.950 13.016 523.612
MsBackendMetaboLights.Rcheck/MsBackendMetaboLights-Ex.timings
| name | user | system | elapsed | |
| MetaboLights-utils | 0.125 | 0.013 | 7.884 | |
| MsBackendMetaboLights | 3.008 | 0.604 | 17.970 | |