Back to Multiple platform build/check report for BioC 3.22:   simplified   long
ABCDEFGHIJKL[M]NOPQRSTUVWXYZ

This page was generated on 2025-11-07 12:01 -0500 (Fri, 07 Nov 2025).

HostnameOSArch (*)R versionInstalled pkgs
nebbiolo2Linux (Ubuntu 24.04.3 LTS)x86_644.5.1 Patched (2025-08-23 r88802) -- "Great Square Root" 4902
kjohnson3macOS 13.7.7 Venturaarm644.5.1 Patched (2025-09-10 r88807) -- "Great Square Root" 4638
Click on any hostname to see more info about the system (e.g. compilers)      (*) as reported by 'uname -p', except on Windows and Mac OS X

Package 1287/2361HostnameOS / ArchINSTALLBUILDCHECKBUILD BIN
MGnifyR 1.6.0  (landing page)
Tuomas Borman
Snapshot Date: 2025-11-06 13:45 -0500 (Thu, 06 Nov 2025)
git_url: https://git.bioconductor.org/packages/MGnifyR
git_branch: RELEASE_3_22
git_last_commit: 0aee502
git_last_commit_date: 2025-10-29 11:28:57 -0500 (Wed, 29 Oct 2025)
nebbiolo2Linux (Ubuntu 24.04.3 LTS) / x86_64  ERROR    ERROR  skipped
kjohnson3macOS 13.7.7 Ventura / arm64  ERROR    ERROR  skippedskipped


INSTALL results for MGnifyR on kjohnson3

To the developers/maintainers of the MGnifyR package:
- Allow up to 24 hours (and sometimes 48 hours) for your latest push to git@git.bioconductor.org:packages/MGnifyR.git to reflect on this report. See Troubleshooting Build Report for more information.
- Use the following Renviron settings to reproduce errors and warnings.
- If 'R CMD check' started to fail recently on the Linux builder(s) over a missing dependency, add the missing dependency to 'Suggests:' in your DESCRIPTION file. See Renviron.bioc for more information.

raw results


Summary

Package: MGnifyR
Version: 1.6.0
Command: /Library/Frameworks/R.framework/Resources/bin/R CMD INSTALL MGnifyR
StartedAt: 2025-11-06 15:31:05 -0500 (Thu, 06 Nov 2025)
EndedAt: 2025-11-06 15:31:11 -0500 (Thu, 06 Nov 2025)
EllapsedTime: 5.3 seconds
RetCode: 1
Status:   ERROR  

Command output

##############################################################################
##############################################################################
###
### Running command:
###
###   /Library/Frameworks/R.framework/Resources/bin/R CMD INSTALL MGnifyR
###
##############################################################################
##############################################################################


* installing to library ‘/Library/Frameworks/R.framework/Versions/4.5-arm64/Resources/library’
* installing *source* package ‘MGnifyR’ ...
** this is package ‘MGnifyR’ version ‘1.6.0’
** using staged installation
** R
** inst
** byte-compile and prepare package for lazy loading
Error: object ‘at_depth’ is not exported by 'namespace:purrr'
Execution halted
ERROR: lazy loading failed for package ‘MGnifyR’
* removing ‘/Library/Frameworks/R.framework/Versions/4.5-arm64/Resources/library/MGnifyR’
* restoring previous ‘/Library/Frameworks/R.framework/Versions/4.5-arm64/Resources/library/MGnifyR’