Back to Multiple platform build/check report for BioC 3.21: simplified long |
|
This page was generated on 2025-10-16 11:40 -0400 (Thu, 16 Oct 2025).
Hostname | OS | Arch (*) | R version | Installed pkgs |
---|---|---|---|---|
nebbiolo1 | Linux (Ubuntu 24.04.3 LTS) | x86_64 | 4.5.1 (2025-06-13) -- "Great Square Root" | 4833 |
merida1 | macOS 12.7.6 Monterey | x86_64 | 4.5.1 RC (2025-06-05 r88288) -- "Great Square Root" | 4614 |
kjohnson1 | macOS 13.7.5 Ventura | arm64 | 4.5.1 Patched (2025-06-14 r88325) -- "Great Square Root" | 4555 |
kunpeng2 | Linux (openEuler 24.03 LTS) | aarch64 | R Under development (unstable) (2025-02-19 r87757) -- "Unsuffered Consequences" | 4586 |
Click on any hostname to see more info about the system (e.g. compilers) (*) as reported by 'uname -p', except on Windows and Mac OS X |
Package 1210/2341 | Hostname | OS / Arch | INSTALL | BUILD | CHECK | BUILD BIN | ||||||||
MEDIPS 1.60.0 (landing page) Lukas Chavez
| nebbiolo1 | Linux (Ubuntu 24.04.3 LTS) / x86_64 | OK | OK | OK | ![]() | ||||||||
merida1 | macOS 12.7.6 Monterey / x86_64 | OK | OK | OK | OK | ![]() | ||||||||
kjohnson1 | macOS 13.7.5 Ventura / arm64 | OK | OK | OK | OK | ![]() | ||||||||
kunpeng2 | Linux (openEuler 24.03 LTS) / aarch64 | OK | OK | OK | ||||||||||
To the developers/maintainers of the MEDIPS package: - Allow up to 24 hours (and sometimes 48 hours) for your latest push to git@git.bioconductor.org:packages/MEDIPS.git to reflect on this report. See Troubleshooting Build Report for more information. - Use the following Renviron settings to reproduce errors and warnings. - If 'R CMD check' started to fail recently on the Linux builder(s) over a missing dependency, add the missing dependency to 'Suggests:' in your DESCRIPTION file. See Renviron.bioc for more information. |
Package: MEDIPS |
Version: 1.60.0 |
Command: /Library/Frameworks/R.framework/Resources/bin/R CMD check --install=check:MEDIPS.install-out.txt --library=/Library/Frameworks/R.framework/Resources/library --no-vignettes --timings MEDIPS_1.60.0.tar.gz |
StartedAt: 2025-10-15 02:40:21 -0400 (Wed, 15 Oct 2025) |
EndedAt: 2025-10-15 02:47:21 -0400 (Wed, 15 Oct 2025) |
EllapsedTime: 419.9 seconds |
RetCode: 0 |
Status: OK |
CheckDir: MEDIPS.Rcheck |
Warnings: 0 |
############################################################################## ############################################################################## ### ### Running command: ### ### /Library/Frameworks/R.framework/Resources/bin/R CMD check --install=check:MEDIPS.install-out.txt --library=/Library/Frameworks/R.framework/Resources/library --no-vignettes --timings MEDIPS_1.60.0.tar.gz ### ############################################################################## ############################################################################## * using log directory ‘/Users/biocbuild/bbs-3.21-bioc/meat/MEDIPS.Rcheck’ * using R version 4.5.1 Patched (2025-06-14 r88325) * using platform: aarch64-apple-darwin20 * R was compiled by Apple clang version 16.0.0 (clang-1600.0.26.6) GNU Fortran (GCC) 14.2.0 * running under: macOS Ventura 13.7.5 * using session charset: UTF-8 * using option ‘--no-vignettes’ * checking for file ‘MEDIPS/DESCRIPTION’ ... OK * checking extension type ... Package * this is package ‘MEDIPS’ version ‘1.60.0’ * checking package namespace information ... OK * checking package dependencies ... OK * checking if this is a source package ... OK * checking if there is a namespace ... OK * checking for hidden files and directories ... OK * checking for portable file names ... OK * checking for sufficient/correct file permissions ... OK * checking whether package ‘MEDIPS’ can be installed ... OK * checking installed package size ... OK * checking package directory ... OK * checking ‘build’ directory ... OK * checking DESCRIPTION meta-information ... OK * checking top-level files ... OK * checking for left-over files ... OK * checking index information ... OK * checking package subdirectories ... OK * checking code files for non-ASCII characters ... OK * checking R files for syntax errors ... OK * checking whether the package can be loaded ... OK * checking whether the package can be loaded with stated dependencies ... OK * checking whether the package can be unloaded cleanly ... OK * checking whether the namespace can be loaded with stated dependencies ... OK * checking whether the namespace can be unloaded cleanly ... OK * checking dependencies in R code ... OK * checking S3 generic/method consistency ... OK * checking replacement functions ... OK * checking foreign function calls ... OK * checking R code for possible problems ... NOTE MEDIPS.CpGenrich: no visible global function definition for ‘seqlevels’ MEDIPS.CpGenrich: no visible global function definition for ‘seqlengths’ MEDIPS.CpGenrich: no visible global function definition for ‘GRangesList’ MEDIPS.CpGenrich : <anonymous>: no visible global function definition for ‘seqnames’ MEDIPS.CpGenrich: no visible global function definition for ‘new’ MEDIPS.addCNV: no visible global function definition for ‘seqnames’ MEDIPS.correlation: no visible global function definition for ‘pdf’ MEDIPS.correlation: no visible global function definition for ‘dev.off’ MEDIPS.couplingVector: no visible global function definition for ‘new’ MEDIPS.createROIset: no visible global function definition for ‘seqnames’ MEDIPS.createROIset: no visible global function definition for ‘seqlengths’ MEDIPS.createROIset: no visible global function definition for ‘new’ MEDIPS.createSet: no visible global function definition for ‘seqnames’ MEDIPS.createSet: no visible global function definition for ‘seqlengths’ MEDIPS.createSet: no visible global function definition for ‘seqlevels’ MEDIPS.createSet: no visible global function definition for ‘new’ MEDIPS.diffMeth: no visible global function definition for ‘p.adjust’ MEDIPS.exportWIG: no visible global function definition for ‘seqnames’ MEDIPS.mergeSets: no visible global function definition for ‘new’ MEDIPS.meth: no visible global function definition for ‘seqnames’ MEDIPS.plotCalibrationPlot: no visible global function definition for ‘seqnames’ MEDIPS.plotCalibrationPlot: no visible global function definition for ‘points’ MEDIPS.plotSeqCoverage: no visible global function definition for ‘pie’ MEDIPS.plotSeqCoverage: no visible global function definition for ‘hist’ MEDIPS.saturation: no visible global function definition for ‘seqlevels’ MEDIPS.saturation: no visible global function definition for ‘seqlengths’ MEDIPS.selectROIs: no visible global function definition for ‘elementMetadata<-’ MEDIPS.selectROIs: no visible global function definition for ‘elementMetadata’ MEDIPS.selectROIs: no visible global function definition for ‘findOverlaps’ MEDIPS.selectROIs: no visible global function definition for ‘values’ MEDIPS.selectROIs: no visible global function definition for ‘seqnames’ MEDIPS.seqCoverage: no visible global function definition for ‘seqlevels’ MEDIPS.seqCoverage: no visible global function definition for ‘seqlengths’ MEDIPS.setAnnotation: no visible global function definition for ‘findOverlaps’ MEDIPS.setAnnotation: no visible global function definition for ‘values’ getGRange: no visible global function definition for ‘qpois’ getGRange: no visible global function definition for ‘seqlengths’ getGRange: no visible global function definition for ‘countMatches’ getGRange: no visible global function definition for ‘strand<-’ getMObjectFromWIG: no visible global function definition for ‘seqlengths’ getMObjectFromWIG: no visible global function definition for ‘values’ getMObjectFromWIG: no visible global function definition for ‘runLength’ getMObjectFromWIG: no visible global function definition for ‘seqnames’ getMObjectFromWIG: no visible global function definition for ‘runValue’ getMObjectFromWIG: no visible global function definition for ‘new’ getPairedGRange: no visible global function definition for ‘sd’ getPairedGRange: no visible global function definition for ‘qpois’ getPairedGRange: no visible global function definition for ‘seqlengths’ getPairedGRange: no visible global function definition for ‘countMatches’ getPairedGRange: no visible global function definition for ‘strand<-’ matSd: no visible binding for global variable ‘sd’ matTtest: no visible binding for global variable ‘sd’ matTtest: no visible global function definition for ‘pt’ Undefined global functions or variables: GRangesList countMatches dev.off elementMetadata elementMetadata<- findOverlaps hist new p.adjust pdf pie points pt qpois runLength runValue sd seqlengths seqlevels seqnames strand<- values Consider adding importFrom("grDevices", "dev.off", "pdf") importFrom("graphics", "hist", "pie", "points") importFrom("methods", "new") importFrom("stats", "p.adjust", "pt", "qpois", "sd") to your NAMESPACE file (and ensure that your DESCRIPTION Imports field contains 'methods'). * checking Rd files ... OK * checking Rd metadata ... OK * checking Rd cross-references ... OK * checking for missing documentation entries ... OK * checking for code/documentation mismatches ... OK * checking Rd \usage sections ... OK * checking Rd contents ... OK * checking for unstated dependencies in examples ... OK * checking sizes of PDF files under ‘inst/doc’ ... OK * checking files in ‘vignettes’ ... OK * checking examples ... OK Examples with CPU (user + system) or elapsed time > 5s user system elapsed MEDIPS.meth 41.500 1.824 43.681 MEDIPS.addCNV 23.787 0.548 24.437 MEDIPS.plotSaturation 8.846 1.035 10.033 MEDIPS.saturation 8.364 0.557 8.941 MEDIPS.couplingVector 4.779 0.182 5.072 * checking for unstated dependencies in vignettes ... OK * checking package vignettes ... OK * checking running R code from vignettes ... SKIPPED * checking re-building of vignette outputs ... SKIPPED * checking PDF version of manual ... OK * DONE Status: 1 NOTE See ‘/Users/biocbuild/bbs-3.21-bioc/meat/MEDIPS.Rcheck/00check.log’ for details.
MEDIPS.Rcheck/00install.out
############################################################################## ############################################################################## ### ### Running command: ### ### /Library/Frameworks/R.framework/Resources/bin/R CMD INSTALL MEDIPS ### ############################################################################## ############################################################################## * installing to library ‘/Library/Frameworks/R.framework/Versions/4.5-arm64/Resources/library’ * installing *source* package ‘MEDIPS’ ... ** this is package ‘MEDIPS’ version ‘1.60.0’ ** using staged installation ** R ** inst ** byte-compile and prepare package for lazy loading No methods found in package ‘IRanges’ for request: ‘values’ when loading ‘MEDIPS’ ** help *** installing help indices ** building package indices ** installing vignettes ** testing if installed package can be loaded from temporary location No methods found in package ‘IRanges’ for request: ‘values’ when loading ‘MEDIPS’ ** testing if installed package can be loaded from final location No methods found in package ‘IRanges’ for request: ‘values’ when loading ‘MEDIPS’ ** testing if installed package keeps a record of temporary installation path * DONE (MEDIPS)
MEDIPS.Rcheck/MEDIPS-Ex.timings
name | user | system | elapsed | |
COUPLINGset-class | 0.001 | 0.001 | 0.002 | |
MEDIPS.CpGenrich | 0.052 | 0.006 | 0.063 | |
MEDIPS.addCNV | 23.787 | 0.548 | 24.437 | |
MEDIPS.correlation | 2.026 | 0.087 | 2.119 | |
MEDIPS.couplingVector | 4.779 | 0.182 | 5.072 | |
MEDIPS.createROIset | 1.626 | 0.056 | 1.693 | |
MEDIPS.createSet | 1.660 | 0.059 | 1.721 | |
MEDIPS.exportWIG | 2.968 | 0.085 | 3.069 | |
MEDIPS.getAnnotation | 0 | 0 | 0 | |
MEDIPS.mergeFrames | 0.004 | 0.001 | 0.004 | |
MEDIPS.mergeSets | 1.110 | 0.016 | 1.127 | |
MEDIPS.meth | 41.500 | 1.824 | 43.681 | |
MEDIPS.plotCalibrationPlot | 3.948 | 0.253 | 4.251 | |
MEDIPS.plotSaturation | 8.846 | 1.035 | 10.033 | |
MEDIPS.plotSeqCoverage | 4.336 | 0.198 | 4.567 | |
MEDIPS.saturation | 8.364 | 0.557 | 8.941 | |
MEDIPS.selectROIs | 2.100 | 0.087 | 2.189 | |
MEDIPS.selectSig | 3.357 | 0.185 | 3.555 | |
MEDIPS.seqCoverage | 4.225 | 0.308 | 4.574 | |
MEDIPS.setAnnotation | 3.326 | 0.130 | 3.468 | |
MEDIPSroiSet-class | 0.001 | 0.000 | 0.001 | |
MEDIPSset-class | 0.001 | 0.000 | 0.001 | |