| Back to Multiple platform build/check report for BioC 3.21: simplified long |
|
This page was generated on 2025-10-16 11:40 -0400 (Thu, 16 Oct 2025).
| Hostname | OS | Arch (*) | R version | Installed pkgs |
|---|---|---|---|---|
| nebbiolo1 | Linux (Ubuntu 24.04.3 LTS) | x86_64 | 4.5.1 (2025-06-13) -- "Great Square Root" | 4833 |
| merida1 | macOS 12.7.6 Monterey | x86_64 | 4.5.1 RC (2025-06-05 r88288) -- "Great Square Root" | 4614 |
| kjohnson1 | macOS 13.7.5 Ventura | arm64 | 4.5.1 Patched (2025-06-14 r88325) -- "Great Square Root" | 4555 |
| kunpeng2 | Linux (openEuler 24.03 LTS) | aarch64 | R Under development (unstable) (2025-02-19 r87757) -- "Unsuffered Consequences" | 4586 |
| Click on any hostname to see more info about the system (e.g. compilers) (*) as reported by 'uname -p', except on Windows and Mac OS X | ||||
| Package 1062/2341 | Hostname | OS / Arch | INSTALL | BUILD | CHECK | BUILD BIN | ||||||||
| IntEREst 1.32.0 (landing page) Ali Oghabian
| nebbiolo1 | Linux (Ubuntu 24.04.3 LTS) / x86_64 | OK | OK | OK | |||||||||
| merida1 | macOS 12.7.6 Monterey / x86_64 | OK | OK | OK | OK | |||||||||
| kjohnson1 | macOS 13.7.5 Ventura / arm64 | OK | OK | OK | OK | |||||||||
| kunpeng2 | Linux (openEuler 24.03 LTS) / aarch64 | OK | OK | OK | ||||||||||
|
To the developers/maintainers of the IntEREst package: - Allow up to 24 hours (and sometimes 48 hours) for your latest push to git@git.bioconductor.org:packages/IntEREst.git to reflect on this report. See Troubleshooting Build Report for more information. - Use the following Renviron settings to reproduce errors and warnings. - If 'R CMD check' started to fail recently on the Linux builder(s) over a missing dependency, add the missing dependency to 'Suggests:' in your DESCRIPTION file. See Renviron.bioc for more information. |
| Package: IntEREst |
| Version: 1.32.0 |
| Command: /Library/Frameworks/R.framework/Resources/bin/R CMD check --install=check:IntEREst.install-out.txt --library=/Library/Frameworks/R.framework/Resources/library --no-vignettes --timings IntEREst_1.32.0.tar.gz |
| StartedAt: 2025-10-15 01:14:08 -0400 (Wed, 15 Oct 2025) |
| EndedAt: 2025-10-15 01:21:16 -0400 (Wed, 15 Oct 2025) |
| EllapsedTime: 427.4 seconds |
| RetCode: 0 |
| Status: OK |
| CheckDir: IntEREst.Rcheck |
| Warnings: 0 |
##############################################################################
##############################################################################
###
### Running command:
###
### /Library/Frameworks/R.framework/Resources/bin/R CMD check --install=check:IntEREst.install-out.txt --library=/Library/Frameworks/R.framework/Resources/library --no-vignettes --timings IntEREst_1.32.0.tar.gz
###
##############################################################################
##############################################################################
* using log directory ‘/Users/biocbuild/bbs-3.21-bioc/meat/IntEREst.Rcheck’
* using R version 4.5.1 Patched (2025-06-14 r88325)
* using platform: aarch64-apple-darwin20
* R was compiled by
Apple clang version 16.0.0 (clang-1600.0.26.6)
GNU Fortran (GCC) 14.2.0
* running under: macOS Ventura 13.7.5
* using session charset: UTF-8
* using option ‘--no-vignettes’
* checking for file ‘IntEREst/DESCRIPTION’ ... OK
* this is package ‘IntEREst’ version ‘1.32.0’
* checking package namespace information ... OK
* checking package dependencies ... INFO
Depends: includes the non-default packages:
'GenomicRanges', 'Rsamtools', 'SummarizedExperiment', 'edgeR',
'S4Vectors', 'GenomicFiles'
Adding so many packages to the search path is excessive and importing
selectively is preferable.
* checking if this is a source package ... OK
* checking if there is a namespace ... OK
* checking for hidden files and directories ... OK
* checking for portable file names ... OK
* checking for sufficient/correct file permissions ... OK
* checking whether package ‘IntEREst’ can be installed ... OK
* checking installed package size ... OK
* checking package directory ... OK
* checking ‘build’ directory ... OK
* checking DESCRIPTION meta-information ... OK
* checking top-level files ... OK
* checking for left-over files ... OK
* checking index information ... OK
* checking package subdirectories ... OK
* checking code files for non-ASCII characters ... OK
* checking R files for syntax errors ... OK
* checking whether the package can be loaded ... OK
* checking whether the package can be loaded with stated dependencies ... OK
* checking whether the package can be unloaded cleanly ... OK
* checking whether the namespace can be loaded with stated dependencies ... OK
* checking whether the namespace can be unloaded cleanly ... OK
* checking dependencies in R code ... OK
* checking S3 generic/method consistency ... OK
* checking replacement functions ... OK
* checking foreign function calls ... OK
* checking R code for possible problems ... OK
* checking Rd files ... OK
* checking Rd metadata ... OK
* checking Rd cross-references ... NOTE
Non-topic package-anchored link(s) in Rd file 'glmInterest.Rd':
‘[edgeR]{glmfit}’
See section 'Cross-references' in the 'Writing R Extensions' manual.
* checking for missing documentation entries ... OK
* checking for code/documentation mismatches ... OK
* checking Rd \usage sections ... OK
* checking Rd contents ... OK
* checking for unstated dependencies in examples ... OK
* checking contents of ‘data’ directory ... OK
* checking data for non-ASCII characters ... OK
* checking LazyData ... OK
* checking data for ASCII and uncompressed saves ... OK
* checking files in ‘vignettes’ ... OK
* checking examples ... OK
Examples with CPU (user + system) or elapsed time > 5s
user system elapsed
DEXSeqIntEREst 27.39 0.212 27.862
* checking for unstated dependencies in vignettes ... OK
* checking package vignettes ... OK
* checking running R code from vignettes ... SKIPPED
* checking re-building of vignette outputs ... SKIPPED
* checking PDF version of manual ... OK
* DONE
Status: 1 NOTE
See
‘/Users/biocbuild/bbs-3.21-bioc/meat/IntEREst.Rcheck/00check.log’
for details.
IntEREst.Rcheck/00install.out
############################################################################## ############################################################################## ### ### Running command: ### ### /Library/Frameworks/R.framework/Resources/bin/R CMD INSTALL IntEREst ### ############################################################################## ############################################################################## * installing to library ‘/Library/Frameworks/R.framework/Versions/4.5-arm64/Resources/library’ * installing *source* package ‘IntEREst’ ... ** this is package ‘IntEREst’ version ‘1.32.0’ ** using staged installation ** R ** data *** moving datasets to lazyload DB ** inst ** byte-compile and prepare package for lazy loading ** help *** installing help indices ** building package indices ** installing vignettes ** testing if installed package can be loaded from temporary location ** testing if installed package can be loaded from final location ** testing if installed package keeps a record of temporary installation path * DONE (IntEREst)
IntEREst.Rcheck/IntEREst-Ex.timings
| name | user | system | elapsed | |
| DEXSeqIntEREst | 27.390 | 0.212 | 27.862 | |
| addAnnotation | 0.034 | 0.002 | 0.036 | |
| annotateU12 | 2.292 | 0.122 | 2.428 | |
| applyOverlap | 0.149 | 0.001 | 0.151 | |
| attributes | 0.021 | 0.002 | 0.024 | |
| boxplot-method | 0.048 | 0.001 | 0.050 | |
| buildSsTypePwms | 0.001 | 0.001 | 0.000 | |
| counts-method | 0.028 | 0.002 | 0.030 | |
| deseqInterest | 4.397 | 0.042 | 4.481 | |
| exactTestInterest | 0.082 | 0.003 | 0.084 | |
| getRepeatTable | 0 | 0 | 0 | |
| glmInterest | 0.105 | 0.002 | 0.107 | |
| interest | 1.282 | 0.020 | 1.307 | |
| interest.sequential | 1.107 | 0.013 | 1.122 | |
| interestResult | 0.020 | 0.001 | 0.020 | |
| interestResultIntEx | 0.202 | 0.002 | 0.203 | |
| intexIndex | 0.003 | 0.000 | 0.003 | |
| lfc | 0.223 | 0.005 | 0.229 | |
| mergeInterestResult | 0.069 | 0.002 | 0.071 | |
| plot-method | 0.313 | 0.009 | 0.323 | |
| psi | 0.687 | 0.008 | 0.699 | |
| qlfInterest | 0.139 | 0.003 | 0.143 | |
| readInterestResults | 0.032 | 0.004 | 0.037 | |
| referencePrepare | 1.211 | 0.018 | 1.230 | |
| subInterestResult | 0.034 | 0.002 | 0.035 | |
| treatInterest | 0.103 | 0.004 | 0.108 | |
| u12Boxplot | 0.052 | 0.002 | 0.055 | |
| u12BoxplotNb | 0.121 | 0.004 | 0.125 | |
| u12DensityPlot | 0.234 | 0.006 | 0.240 | |
| u12Index | 0.005 | 0.000 | 0.005 | |
| u12NbIndex | 0.041 | 0.001 | 0.042 | |
| unionRefTr | 0.015 | 0.001 | 0.016 | |
| updateRowDataCol | 0.052 | 0.002 | 0.053 | |