Back to Multiple platform build/check report for BioC 3.22:   simplified   long
ABCDEFGH[I]JKLMNOPQRSTUVWXYZ

This page was generated on 2025-11-07 12:00 -0500 (Fri, 07 Nov 2025).

HostnameOSArch (*)R versionInstalled pkgs
nebbiolo2Linux (Ubuntu 24.04.3 LTS)x86_644.5.1 Patched (2025-08-23 r88802) -- "Great Square Root" 4902
kjohnson3macOS 13.7.7 Venturaarm644.5.1 Patched (2025-09-10 r88807) -- "Great Square Root" 4638
Click on any hostname to see more info about the system (e.g. compilers)      (*) as reported by 'uname -p', except on Windows and Mac OS X

Package 1081/2361HostnameOS / ArchINSTALLBUILDCHECKBUILD BIN
ISAnalytics 1.20.0  (landing page)
Francesco Gazzo
Snapshot Date: 2025-11-06 13:45 -0500 (Thu, 06 Nov 2025)
git_url: https://git.bioconductor.org/packages/ISAnalytics
git_branch: RELEASE_3_22
git_last_commit: 72d44b9
git_last_commit_date: 2025-10-29 11:01:52 -0500 (Wed, 29 Oct 2025)
nebbiolo2Linux (Ubuntu 24.04.3 LTS) / x86_64  OK    OK    OK  UNNEEDED, same version is already published
kjohnson3macOS 13.7.7 Ventura / arm64  OK    OK    OK    OK  UNNEEDED, same version is already published


CHECK results for ISAnalytics on nebbiolo2

To the developers/maintainers of the ISAnalytics package:
- Allow up to 24 hours (and sometimes 48 hours) for your latest push to git@git.bioconductor.org:packages/ISAnalytics.git to reflect on this report. See Troubleshooting Build Report for more information.
- Use the following Renviron settings to reproduce errors and warnings.
- If 'R CMD check' started to fail recently on the Linux builder(s) over a missing dependency, add the missing dependency to 'Suggests:' in your DESCRIPTION file. See Renviron.bioc for more information.

raw results


Summary

Package: ISAnalytics
Version: 1.20.0
Command: /home/biocbuild/bbs-3.22-bioc/R/bin/R CMD check --install=check:ISAnalytics.install-out.txt --library=/home/biocbuild/bbs-3.22-bioc/R/site-library --timings ISAnalytics_1.20.0.tar.gz
StartedAt: 2025-11-07 00:41:48 -0500 (Fri, 07 Nov 2025)
EndedAt: 2025-11-07 00:50:37 -0500 (Fri, 07 Nov 2025)
EllapsedTime: 529.5 seconds
RetCode: 0
Status:   OK  
CheckDir: ISAnalytics.Rcheck
Warnings: 0

Command output

##############################################################################
##############################################################################
###
### Running command:
###
###   /home/biocbuild/bbs-3.22-bioc/R/bin/R CMD check --install=check:ISAnalytics.install-out.txt --library=/home/biocbuild/bbs-3.22-bioc/R/site-library --timings ISAnalytics_1.20.0.tar.gz
###
##############################################################################
##############################################################################


* using log directory ‘/home/biocbuild/bbs-3.22-bioc/meat/ISAnalytics.Rcheck’
* using R version 4.5.1 Patched (2025-08-23 r88802)
* using platform: x86_64-pc-linux-gnu
* R was compiled by
    gcc (Ubuntu 13.3.0-6ubuntu2~24.04) 13.3.0
    GNU Fortran (Ubuntu 13.3.0-6ubuntu2~24.04) 13.3.0
* running under: Ubuntu 24.04.3 LTS
* using session charset: UTF-8
* checking for file ‘ISAnalytics/DESCRIPTION’ ... OK
* this is package ‘ISAnalytics’ version ‘1.20.0’
* package encoding: UTF-8
* checking package namespace information ... OK
* checking package dependencies ... INFO
Imports includes 22 non-default packages.
Importing from so many packages makes the package vulnerable to any of
them becoming unavailable.  Move as many as possible to Suggests and
use conditionally.
* checking if this is a source package ... OK
* checking if there is a namespace ... OK
* checking for hidden files and directories ... OK
* checking for portable file names ... OK
* checking for sufficient/correct file permissions ... OK
* checking whether package ‘ISAnalytics’ can be installed ... OK
* checking installed package size ... INFO
  installed size is  8.3Mb
  sub-directories of 1Mb or more:
    data   5.8Mb
* checking package directory ... OK
* checking ‘build’ directory ... OK
* checking DESCRIPTION meta-information ... OK
* checking top-level files ... OK
* checking for left-over files ... OK
* checking index information ... OK
* checking package subdirectories ... OK
* checking code files for non-ASCII characters ... OK
* checking R files for syntax errors ... OK
* checking whether the package can be loaded ... OK
* checking whether the package can be loaded with stated dependencies ... OK
* checking whether the package can be unloaded cleanly ... OK
* checking whether the namespace can be loaded with stated dependencies ... OK
* checking whether the namespace can be unloaded cleanly ... OK
* checking loading without being on the library search path ... OK
* checking whether startup messages can be suppressed ... OK
* checking dependencies in R code ... OK
* checking S3 generic/method consistency ... OK
* checking replacement functions ... OK
* checking foreign function calls ... OK
* checking R code for possible problems ... OK
* checking Rd files ... NOTE
checkRd: (-1) refGenes_hg19.Rd:21: Lost braces; missing escapes or markup?
    21 | \item Download from {http://hgdownload.soe.ucsc.edu/goldenPath/hg19/database/}
       |                     ^
* checking Rd metadata ... OK
* checking Rd cross-references ... OK
* checking for missing documentation entries ... OK
* checking for code/documentation mismatches ... OK
* checking Rd \usage sections ... OK
* checking Rd contents ... OK
* checking for unstated dependencies in examples ... OK
* checking contents of ‘data’ directory ... OK
* checking data for non-ASCII characters ... OK
* checking data for ASCII and uncompressed saves ... OK
* checking files in ‘vignettes’ ... OK
* checking examples ... OK
Examples with CPU (user + system) or elapsed time > 5s
                                user system elapsed
sharing_venn                   3.939  0.331  30.165
integration_alluvial_plot      3.608  0.215   8.649
import_parallel_Vispa2Matrices 3.274  0.136  12.646
sharing_heatmap                2.318  0.260  11.098
top_cis_overtime_heatmap       2.005  0.106   8.939
CIS_grubbs_overtime            1.676  0.365   7.538
import_Vispa2_stats            1.700  0.208   7.656
is_sharing                     1.537  0.142   9.026
iss_source                     1.479  0.090   8.275
remove_collisions              1.366  0.131   7.305
realign_after_collisions       1.381  0.093   7.615
compute_near_integrations      0.942  0.146   6.032
* checking for unstated dependencies in ‘tests’ ... OK
* checking tests ...
  Running ‘testthat.R’
 OK
* checking for unstated dependencies in vignettes ... OK
* checking package vignettes ... OK
* checking re-building of vignette outputs ... OK
* checking PDF version of manual ... OK
* DONE

Status: 1 NOTE
See
  ‘/home/biocbuild/bbs-3.22-bioc/meat/ISAnalytics.Rcheck/00check.log’
for details.


Installation output

ISAnalytics.Rcheck/00install.out

##############################################################################
##############################################################################
###
### Running command:
###
###   /home/biocbuild/bbs-3.22-bioc/R/bin/R CMD INSTALL ISAnalytics
###
##############################################################################
##############################################################################


* installing to library ‘/home/biocbuild/bbs-3.22-bioc/R/site-library’
* installing *source* package ‘ISAnalytics’ ...
** this is package ‘ISAnalytics’ version ‘1.20.0’
** using staged installation
** R
** data
** inst
** byte-compile and prepare package for lazy loading
** help
*** installing help indices
*** copying figures
** building package indices
** installing vignettes
** testing if installed package can be loaded from temporary location
** testing if installed package can be loaded from final location
** testing if installed package keeps a record of temporary installation path
* DONE (ISAnalytics)

Tests output

ISAnalytics.Rcheck/tests/testthat.Rout


R version 4.5.1 Patched (2025-08-23 r88802) -- "Great Square Root"
Copyright (C) 2025 The R Foundation for Statistical Computing
Platform: x86_64-pc-linux-gnu

R is free software and comes with ABSOLUTELY NO WARRANTY.
You are welcome to redistribute it under certain conditions.
Type 'license()' or 'licence()' for distribution details.

R is a collaborative project with many contributors.
Type 'contributors()' for more information and
'citation()' on how to cite R or R packages in publications.

Type 'demo()' for some demos, 'help()' for on-line help, or
'help.start()' for an HTML browser interface to help.
Type 'q()' to quit R.

> library(testthat)
> library(ISAnalytics)
> 
> test_check("ISAnalytics")
Loading required namespace: plotly
Loading required namespace: rmarkdown
Report correctly saved
i Report saved to: /tmp/RtmpmWM2QD/file31c6895b765a27/2025-11-07_collision_removal_report.html
Report correctly saved
i Report saved to: /tmp/RtmpmWM2QD/file31c6896c7938c0/2025-11-07_outlier_test_pool_fragments_report.html
[ FAIL 0 | WARN 0 | SKIP 0 | PASS 834 ]
> 
> proc.time()
   user  system elapsed 
106.684   7.518 237.107 

Example timings

ISAnalytics.Rcheck/ISAnalytics-Ex.timings

nameusersystemelapsed
CIS_grubbs0.7910.0280.819
CIS_grubbs_overtime1.6760.3657.538
CIS_volcano_plot1.4740.1021.576
HSC_population_plot1.5460.0274.650
HSC_population_size_estimate1.1990.1494.182
NGSdataExplorer000
aggregate_metadata0.1090.0000.109
aggregate_values_by_key0.0720.0000.072
annotation_issues0.0310.0000.031
as_sparse_matrix0.0570.0010.058
available_outlier_tests000
available_tags0.0230.0000.023
blood_lineages_default0.0310.0000.030
circos_genomic_density000
clinical_relevant_suspicious_genes0.0130.0000.013
comparison_matrix0.0290.0000.029
compute_abundance0.0370.0010.038
compute_near_integrations0.9420.1466.032
cumulative_count_union000
cumulative_is0.1670.0000.167
date_formats000
default_af_transform0.0000.0000.001
default_iss_file_prefixes000
default_meta_agg0.0160.0010.017
default_rec_agg_lambdas000
default_report_path0.0060.0010.007
default_stats1.0580.0441.103
enable_progress_bars0.0140.0030.018
export_ISA_settings0.0630.0150.079
fisher_scatterplot1.1180.0631.182
gene_frequency_fisher0.8420.0410.884
generate_Vispa2_launch_AF0.1830.0050.188
generate_blank_association_file0.0130.0000.013
generate_default_folder_structure0.3310.0750.404
import_ISA_settings0.0560.0010.057
import_Vispa2_stats1.7000.2087.656
import_association_file0.5700.1310.701
import_parallel_Vispa2Matrices 3.274 0.13612.646
import_single_Vispa2Matrix0.8270.0800.906
inspect_tags0.0130.0000.013
integration_alluvial_plot3.6080.2158.649
is_sharing1.5370.1429.026
iss_source1.4790.0908.275
known_clinical_oncogenes0.0110.0060.017
mandatory_IS_vars0.0860.0120.098
matching_options000
outlier_filter0.1440.0110.155
outliers_by_pool_fragments0.1610.0090.170
pcr_id_column0.0210.0000.021
purity_filter0.3340.0210.355
quantification_types000
realign_after_collisions1.3810.0937.615
reduced_AF_columns0.0430.0000.043
refGene_table_cols0.0010.0000.000
remove_collisions1.3660.1317.305
reset_mandatory_IS_vars0.0050.0000.005
sample_statistics0.3080.0100.318
separate_quant_matrices0.0160.0010.017
set_mandatory_IS_vars0.0950.0230.118
set_matrix_file_suffixes0.0220.0000.021
sharing_heatmap 2.318 0.26011.098
sharing_venn 3.939 0.33130.165
threshold_filter0.0000.0000.001
top_abund_tableGrob0.5740.0020.576
top_cis_overtime_heatmap2.0050.1068.939
top_integrations0.0330.0160.049
top_targeted_genes0.4740.0270.500
transform_columns0.0210.0000.021