| Back to Multiple platform build/check report for BioC 3.21: simplified long |
|
This page was generated on 2025-08-18 11:41 -0400 (Mon, 18 Aug 2025).
| Hostname | OS | Arch (*) | R version | Installed pkgs |
|---|---|---|---|---|
| nebbiolo1 | Linux (Ubuntu 24.04.3 LTS) | x86_64 | 4.5.1 (2025-06-13) -- "Great Square Root" | 4824 |
| palomino7 | Windows Server 2022 Datacenter | x64 | 4.5.1 (2025-06-13 ucrt) -- "Great Square Root" | 4566 |
| merida1 | macOS 12.7.5 Monterey | x86_64 | 4.5.1 RC (2025-06-05 r88288) -- "Great Square Root" | 4604 |
| kjohnson1 | macOS 13.6.6 Ventura | arm64 | 4.5.1 Patched (2025-06-14 r88325) -- "Great Square Root" | 4545 |
| kunpeng2 | Linux (openEuler 24.03 LTS) | aarch64 | R Under development (unstable) (2025-02-19 r87757) -- "Unsuffered Consequences" | 4579 |
| Click on any hostname to see more info about the system (e.g. compilers) (*) as reported by 'uname -p', except on Windows and Mac OS X | ||||
| Package 934/2341 | Hostname | OS / Arch | INSTALL | BUILD | CHECK | BUILD BIN | ||||||||
| GSgalgoR 1.18.0 (landing page) Carlos Catania
| nebbiolo1 | Linux (Ubuntu 24.04.3 LTS) / x86_64 | OK | OK | OK | |||||||||
| palomino7 | Windows Server 2022 Datacenter / x64 | OK | OK | OK | OK | |||||||||
| merida1 | macOS 12.7.5 Monterey / x86_64 | OK | OK | OK | OK | |||||||||
| kjohnson1 | macOS 13.6.6 Ventura / arm64 | OK | OK | OK | OK | |||||||||
| kunpeng2 | Linux (openEuler 24.03 LTS) / aarch64 | OK | OK | OK | ||||||||||
|
To the developers/maintainers of the GSgalgoR package: - Allow up to 24 hours (and sometimes 48 hours) for your latest push to git@git.bioconductor.org:packages/GSgalgoR.git to reflect on this report. See Troubleshooting Build Report for more information. - Use the following Renviron settings to reproduce errors and warnings. - If 'R CMD check' started to fail recently on the Linux builder(s) over a missing dependency, add the missing dependency to 'Suggests:' in your DESCRIPTION file. See Renviron.bioc for more information. |
| Package: GSgalgoR |
| Version: 1.18.0 |
| Command: E:\biocbuild\bbs-3.21-bioc\R\bin\R.exe CMD check --no-multiarch --install=check:GSgalgoR.install-out.txt --library=E:\biocbuild\bbs-3.21-bioc\R\library --no-vignettes --timings GSgalgoR_1.18.0.tar.gz |
| StartedAt: 2025-08-15 02:56:23 -0400 (Fri, 15 Aug 2025) |
| EndedAt: 2025-08-15 03:00:05 -0400 (Fri, 15 Aug 2025) |
| EllapsedTime: 221.6 seconds |
| RetCode: 0 |
| Status: OK |
| CheckDir: GSgalgoR.Rcheck |
| Warnings: 0 |
##############################################################################
##############################################################################
###
### Running command:
###
### E:\biocbuild\bbs-3.21-bioc\R\bin\R.exe CMD check --no-multiarch --install=check:GSgalgoR.install-out.txt --library=E:\biocbuild\bbs-3.21-bioc\R\library --no-vignettes --timings GSgalgoR_1.18.0.tar.gz
###
##############################################################################
##############################################################################
* using log directory 'E:/biocbuild/bbs-3.21-bioc/meat/GSgalgoR.Rcheck'
* using R version 4.5.1 (2025-06-13 ucrt)
* using platform: x86_64-w64-mingw32
* R was compiled by
gcc.exe (GCC) 14.2.0
GNU Fortran (GCC) 14.2.0
* running under: Windows Server 2022 x64 (build 20348)
* using session charset: UTF-8
* using option '--no-vignettes'
* checking for file 'GSgalgoR/DESCRIPTION' ... OK
* checking extension type ... Package
* this is package 'GSgalgoR' version '1.18.0'
* package encoding: UTF-8
* checking package namespace information ... OK
* checking package dependencies ... OK
* checking if this is a source package ... OK
* checking if there is a namespace ... OK
* checking for hidden files and directories ... OK
* checking for portable file names ... OK
* checking whether package 'GSgalgoR' can be installed ... OK
* checking installed package size ... OK
* checking package directory ... OK
* checking 'build' directory ... OK
* checking DESCRIPTION meta-information ... OK
* checking top-level files ... OK
* checking for left-over files ... OK
* checking index information ... OK
* checking package subdirectories ... OK
* checking code files for non-ASCII characters ... OK
* checking R files for syntax errors ... OK
* checking whether the package can be loaded ... OK
* checking whether the package can be loaded with stated dependencies ... OK
* checking whether the package can be unloaded cleanly ... OK
* checking whether the namespace can be loaded with stated dependencies ... OK
* checking whether the namespace can be unloaded cleanly ... OK
* checking dependencies in R code ... OK
* checking S3 generic/method consistency ... OK
* checking replacement functions ... OK
* checking foreign function calls ... OK
* checking R code for possible problems ... OK
* checking Rd files ... OK
* checking Rd metadata ... OK
* checking Rd cross-references ... NOTE
Found the following Rd file(s) with Rd \link{} targets missing package
anchors:
galgo.Rd: survival
non_dominated_summary.Rd: survival
Please provide package anchors for all Rd \link{} targets not in the
package itself and the base packages.
* checking for missing documentation entries ... OK
* checking for code/documentation mismatches ... OK
* checking Rd \usage sections ... OK
* checking Rd contents ... OK
* checking for unstated dependencies in examples ... OK
* checking files in 'vignettes' ... OK
* checking examples ... OK
Examples with CPU (user + system) or elapsed time > 5s
user system elapsed
plot_pareto 3.14 0.16 7.31
classify_multiple 2.80 0.32 9.12
callback_base_report 2.60 0.29 9.57
non_dominated_summary 2.33 0.09 6.12
create_centroids 2.33 0.08 6.39
to_dataframe 2.19 0.05 6.28
callback_no_report 1.81 0.26 8.41
callback_default 1.80 0.25 8.13
to_list 1.95 0.09 5.89
galgo 1.81 0.06 5.73
callback_base_return_pop 1.72 0.06 8.06
* checking for unstated dependencies in 'tests' ... OK
* checking tests ...
Running 'testthat.R'
OK
* checking for unstated dependencies in vignettes ... OK
* checking package vignettes ... OK
* checking running R code from vignettes ... SKIPPED
* checking re-building of vignette outputs ... SKIPPED
* checking PDF version of manual ... OK
* DONE
Status: 1 NOTE
See
'E:/biocbuild/bbs-3.21-bioc/meat/GSgalgoR.Rcheck/00check.log'
for details.
GSgalgoR.Rcheck/00install.out
############################################################################## ############################################################################## ### ### Running command: ### ### E:\biocbuild\bbs-3.21-bioc\R\bin\R.exe CMD INSTALL GSgalgoR ### ############################################################################## ############################################################################## * installing to library 'E:/biocbuild/bbs-3.21-bioc/R/library' * installing *source* package 'GSgalgoR' ... ** this is package 'GSgalgoR' version '1.18.0' ** using staged installation ** R ** inst ** byte-compile and prepare package for lazy loading ** help *** installing help indices ** building package indices ** installing vignettes ** testing if installed package can be loaded from temporary location ** testing if installed package can be loaded from final location ** testing if installed package keeps a record of temporary installation path * DONE (GSgalgoR)
GSgalgoR.Rcheck/tests/testthat.Rout
R version 4.5.1 (2025-06-13 ucrt) -- "Great Square Root"
Copyright (C) 2025 The R Foundation for Statistical Computing
Platform: x86_64-w64-mingw32/x64
R is free software and comes with ABSOLUTELY NO WARRANTY.
You are welcome to redistribute it under certain conditions.
Type 'license()' or 'licence()' for distribution details.
R is a collaborative project with many contributors.
Type 'contributors()' for more information and
'citation()' on how to cite R or R packages in publications.
Type 'demo()' for some demos, 'help()' for on-line help, or
'help.start()' for an HTML browser interface to help.
Type 'q()' to quit R.
> library(testthat)
> library(GSgalgoR)
>
> test_check("GSgalgoR")
.......... k rnkIndex CrowD
result.1 8 0.02212350 201.10126 1 Inf
result.3 9 0.02402496 160.41638 1 1.37352
result.4 8 0.03651880 48.37265 1 Inf
k rnkIndex CrowD
result.1 8 0.02212350 201.10126 1 Inf
result.3 2 0.11803624 30.01863 1 Inf
result.4 4 0.04509859 173.43985 1 1.798893
......[ FAIL 0 | WARN 0 | SKIP 0 | PASS 13 ]
>
> proc.time()
user system elapsed
19.34 2.42 95.57
GSgalgoR.Rcheck/GSgalgoR-Ex.timings
| name | user | system | elapsed | |
| calculate_distance | 2.07 | 0.06 | 2.21 | |
| callback_base_report | 2.60 | 0.29 | 9.57 | |
| callback_base_return_pop | 1.72 | 0.06 | 8.06 | |
| callback_default | 1.80 | 0.25 | 8.13 | |
| callback_no_report | 1.81 | 0.26 | 8.41 | |
| classify_multiple | 2.80 | 0.32 | 9.12 | |
| cluster_algorithm | 1.08 | 0.06 | 1.14 | |
| cluster_classify | 0.78 | 0.17 | 0.97 | |
| cosine_similarity | 0 | 0 | 0 | |
| create_centroids | 2.33 | 0.08 | 6.39 | |
| galgo | 1.81 | 0.06 | 5.73 | |
| k_centroids | 1.11 | 0.05 | 1.16 | |
| non_dominated_summary | 2.33 | 0.09 | 6.12 | |
| plot_pareto | 3.14 | 0.16 | 7.31 | |
| surv_fitness | 0.72 | 0.06 | 0.79 | |
| to_dataframe | 2.19 | 0.05 | 6.28 | |
| to_list | 1.95 | 0.09 | 5.89 | |