Back to Multiple platform build/check report for BioC 3.22:   simplified   long
ABCDE[F]GHIJKLMNOPQRSTUVWXYZ

This page was generated on 2025-11-07 12:01 -0500 (Fri, 07 Nov 2025).

HostnameOSArch (*)R versionInstalled pkgs
nebbiolo2Linux (Ubuntu 24.04.3 LTS)x86_644.5.1 Patched (2025-08-23 r88802) -- "Great Square Root" 4902
kjohnson3macOS 13.7.7 Venturaarm644.5.1 Patched (2025-09-10 r88807) -- "Great Square Root" 4638
Click on any hostname to see more info about the system (e.g. compilers)      (*) as reported by 'uname -p', except on Windows and Mac OS X

Package 720/2361HostnameOS / ArchINSTALLBUILDCHECKBUILD BIN
FastqCleaner 1.28.0  (landing page)
Leandro Roser
Snapshot Date: 2025-11-06 13:45 -0500 (Thu, 06 Nov 2025)
git_url: https://git.bioconductor.org/packages/FastqCleaner
git_branch: RELEASE_3_22
git_last_commit: 112c07e
git_last_commit_date: 2025-10-29 10:45:40 -0500 (Wed, 29 Oct 2025)
nebbiolo2Linux (Ubuntu 24.04.3 LTS) / x86_64  OK    OK    OK  UNNEEDED, same version is already published
kjohnson3macOS 13.7.7 Ventura / arm64  OK    OK    OK    OK  UNNEEDED, same version is already published


BUILD results for FastqCleaner on kjohnson3

To the developers/maintainers of the FastqCleaner package:
- Allow up to 24 hours (and sometimes 48 hours) for your latest push to git@git.bioconductor.org:packages/FastqCleaner.git to reflect on this report. See Troubleshooting Build Report for more information.
- Use the following Renviron settings to reproduce errors and warnings.
- If 'R CMD check' started to fail recently on the Linux builder(s) over a missing dependency, add the missing dependency to 'Suggests:' in your DESCRIPTION file. See Renviron.bioc for more information.

raw results


Summary

Package: FastqCleaner
Version: 1.28.0
Command: /Library/Frameworks/R.framework/Resources/bin/R CMD build --keep-empty-dirs --no-resave-data FastqCleaner
StartedAt: 2025-11-06 16:23:13 -0500 (Thu, 06 Nov 2025)
EndedAt: 2025-11-06 16:23:43 -0500 (Thu, 06 Nov 2025)
EllapsedTime: 30.3 seconds
RetCode: 0
Status:   OK  
PackageFile: FastqCleaner_1.28.0.tar.gz
PackageFileSize: 4.356 MiB

Command output

##############################################################################
##############################################################################
###
### Running command:
###
###   /Library/Frameworks/R.framework/Resources/bin/R CMD build --keep-empty-dirs --no-resave-data FastqCleaner
###
##############################################################################
##############################################################################


* checking for file ‘FastqCleaner/DESCRIPTION’ ... OK
* preparing ‘FastqCleaner’:
* checking DESCRIPTION meta-information ... OK
* cleaning src
* installing the package to build vignettes
* creating vignettes ... OK
* cleaning src
* checking for LF line-endings in source and make files and shell scripts
* checking for empty or unneeded directories
Omitted ‘LazyData’ from DESCRIPTION
* building ‘FastqCleaner_1.28.0.tar.gz’
Warning in utils::tar(filepath, pkgname, compression = compression, compression_level = 9L,  :
  storing paths of more than 100 bytes is not portable:
  ‘FastqCleaner/inst/application/www/help/docs/articles/Overview_files/figure-html/unnamed-chunk-11-1.png’
Warning in utils::tar(filepath, pkgname, compression = compression, compression_level = 9L,  :
  storing paths of more than 100 bytes is not portable:
  ‘FastqCleaner/inst/application/www/help/docs/articles/Overview_files/figure-html/unnamed-chunk-12-1.png’
Warning in utils::tar(filepath, pkgname, compression = compression, compression_level = 9L,  :
  storing paths of more than 100 bytes is not portable:
  ‘FastqCleaner/inst/application/www/help/docs/articles/Overview_files/figure-html/unnamed-chunk-13-1.png’
Warning in utils::tar(filepath, pkgname, compression = compression, compression_level = 9L,  :
  storing paths of more than 100 bytes is not portable:
  ‘FastqCleaner/inst/application/www/help/docs/articles/Overview_files/figure-html/unnamed-chunk-14-1.png’
Warning in utils::tar(filepath, pkgname, compression = compression, compression_level = 9L,  :
  storing paths of more than 100 bytes is not portable:
  ‘FastqCleaner/inst/application/www/help/docs/articles/Overview_files/figure-html/unnamed-chunk-7-1.png’
Warning in utils::tar(filepath, pkgname, compression = compression, compression_level = 9L,  :
  storing paths of more than 100 bytes is not portable:
  ‘FastqCleaner/inst/application/www/help/docs/articles/Overview_files/figure-html/unnamed-chunk-8-1.png’