| Back to Multiple platform build/check report for BioC 3.21: simplified long |
|
This page was generated on 2025-10-16 11:39 -0400 (Thu, 16 Oct 2025).
| Hostname | OS | Arch (*) | R version | Installed pkgs |
|---|---|---|---|---|
| nebbiolo1 | Linux (Ubuntu 24.04.3 LTS) | x86_64 | 4.5.1 (2025-06-13) -- "Great Square Root" | 4833 |
| merida1 | macOS 12.7.6 Monterey | x86_64 | 4.5.1 RC (2025-06-05 r88288) -- "Great Square Root" | 4614 |
| kjohnson1 | macOS 13.7.5 Ventura | arm64 | 4.5.1 Patched (2025-06-14 r88325) -- "Great Square Root" | 4555 |
| kunpeng2 | Linux (openEuler 24.03 LTS) | aarch64 | R Under development (unstable) (2025-02-19 r87757) -- "Unsuffered Consequences" | 4586 |
| Click on any hostname to see more info about the system (e.g. compilers) (*) as reported by 'uname -p', except on Windows and Mac OS X | ||||
| Package 574/2341 | Hostname | OS / Arch | INSTALL | BUILD | CHECK | BUILD BIN | ||||||||
| DFP 1.66.0 (landing page) Rodrigo Alvarez-Glez
| nebbiolo1 | Linux (Ubuntu 24.04.3 LTS) / x86_64 | OK | OK | OK | |||||||||
| merida1 | macOS 12.7.6 Monterey / x86_64 | OK | OK | OK | OK | |||||||||
| kjohnson1 | macOS 13.7.5 Ventura / arm64 | OK | OK | OK | OK | |||||||||
| kunpeng2 | Linux (openEuler 24.03 LTS) / aarch64 | OK | OK | OK | ||||||||||
|
To the developers/maintainers of the DFP package: - Allow up to 24 hours (and sometimes 48 hours) for your latest push to git@git.bioconductor.org:packages/DFP.git to reflect on this report. See Troubleshooting Build Report for more information. - Use the following Renviron settings to reproduce errors and warnings. - If 'R CMD check' started to fail recently on the Linux builder(s) over a missing dependency, add the missing dependency to 'Suggests:' in your DESCRIPTION file. See Renviron.bioc for more information. |
| Package: DFP |
| Version: 1.66.0 |
| Command: /Library/Frameworks/R.framework/Resources/bin/R CMD check --install=check:DFP.install-out.txt --library=/Library/Frameworks/R.framework/Resources/library --no-vignettes --timings DFP_1.66.0.tar.gz |
| StartedAt: 2025-10-14 02:51:08 -0400 (Tue, 14 Oct 2025) |
| EndedAt: 2025-10-14 02:52:21 -0400 (Tue, 14 Oct 2025) |
| EllapsedTime: 73.0 seconds |
| RetCode: 0 |
| Status: OK |
| CheckDir: DFP.Rcheck |
| Warnings: 0 |
##############################################################################
##############################################################################
###
### Running command:
###
### /Library/Frameworks/R.framework/Resources/bin/R CMD check --install=check:DFP.install-out.txt --library=/Library/Frameworks/R.framework/Resources/library --no-vignettes --timings DFP_1.66.0.tar.gz
###
##############################################################################
##############################################################################
* using log directory ‘/Users/biocbuild/bbs-3.21-bioc/meat/DFP.Rcheck’
* using R version 4.5.1 RC (2025-06-05 r88288)
* using platform: x86_64-apple-darwin20
* R was compiled by
Apple clang version 14.0.0 (clang-1400.0.29.202)
GNU Fortran (GCC) 14.2.0
* running under: macOS Monterey 12.7.6
* using session charset: UTF-8
* using option ‘--no-vignettes’
* checking for file ‘DFP/DESCRIPTION’ ... OK
* checking extension type ... Package
* this is package ‘DFP’ version ‘1.66.0’
* checking package namespace information ... OK
* checking package dependencies ... OK
* checking if this is a source package ... OK
* checking if there is a namespace ... OK
* checking for hidden files and directories ... OK
* checking for portable file names ... OK
* checking for sufficient/correct file permissions ... OK
* checking whether package ‘DFP’ can be installed ... OK
* checking installed package size ... OK
* checking package directory ... OK
* checking ‘build’ directory ... OK
* checking DESCRIPTION meta-information ... OK
* checking top-level files ... OK
* checking for left-over files ... OK
* checking index information ... OK
* checking package subdirectories ... OK
* checking code files for non-ASCII characters ... OK
* checking R files for syntax errors ... OK
* checking whether the package can be loaded ... OK
* checking whether the package can be loaded with stated dependencies ... OK
* checking whether the package can be unloaded cleanly ... OK
* checking whether the namespace can be loaded with stated dependencies ... OK
* checking whether the namespace can be unloaded cleanly ... OK
* checking dependencies in R code ... NOTE
'library' or 'require' call to ‘Biobase’ which was already attached by Depends.
Please remove these calls from your code.
* checking S3 generic/method consistency ... OK
* checking replacement functions ... OK
* checking foreign function calls ... OK
* checking R code for possible problems ... NOTE
plotDiscriminantFuzzyPattern: warning in matrix(x, nr = ly, nc = lx,
byrow = TRUE): partial argument match of 'nr' to 'nrow'
plotDiscriminantFuzzyPattern: warning in matrix(x, nr = ly, nc = lx,
byrow = TRUE): partial argument match of 'nc' to 'ncol'
plotDiscriminantFuzzyPattern: warning in matrix(y, nr = ly, nc = lx):
partial argument match of 'nr' to 'nrow'
plotDiscriminantFuzzyPattern: warning in matrix(y, nr = ly, nc = lx):
partial argument match of 'nc' to 'ncol'
.plotGeneMF: no visible global function definition for ‘curve’
.plotGeneMF: no visible binding for global variable ‘x’
.plotGeneMF: no visible global function definition for ‘abline’
.plotGeneMF: no visible global function definition for ‘palette’
.plotGeneMF: no visible global function definition for ‘rainbow’
.plotGeneMF: no visible global function definition for ‘legend’
calculateFuzzyPatterns: no visible global function definition for
‘head’
discretizeExpressionValues: no visible global function definition for
‘head’
discriminantFuzzyPattern: no visible global function definition for
‘head’
plotDiscriminantFuzzyPattern: no visible global function definition for
‘image’
plotDiscriminantFuzzyPattern: no visible global function definition for
‘par’
plotDiscriminantFuzzyPattern: no visible global function definition for
‘axis’
plotDiscriminantFuzzyPattern: no visible global function definition for
‘text’
plotMembershipFunctions: no visible global function definition for
‘par’
readCSV: no visible global function definition for ‘read.table’
readCSV: no visible global function definition for ‘head’
Undefined global functions or variables:
abline axis curve head image legend palette par rainbow read.table
text x
Consider adding
importFrom("grDevices", "palette", "rainbow")
importFrom("graphics", "abline", "axis", "curve", "image", "legend",
"par", "text")
importFrom("utils", "head", "read.table")
to your NAMESPACE file.
* checking Rd files ... OK
* checking Rd metadata ... OK
* checking Rd cross-references ... NOTE
Non-topic package-anchored link(s) in Rd file 'DFP-package.Rd':
‘[Biobase:class.ExpressionSet]{ExpressionSet}’
‘[Biobase:class.AnnotatedDataFrame]{AnnotatedDataFrame}’
Non-topic package-anchored link(s) in Rd file 'calculateDiscriminantFuzzyPattern.Rd':
‘[Biobase:class.ExpressionSet]{ExpressionSet}’
‘[Biobase:class.AnnotatedDataFrame]{AnnotatedDataFrame}’
Non-topic package-anchored link(s) in Rd file 'calculateFuzzyPatterns.Rd':
‘[Biobase:class.ExpressionSet]{ExpressionSet}’
‘[Biobase:class.AnnotatedDataFrame]{AnnotatedDataFrame}’
Non-topic package-anchored link(s) in Rd file 'calculateMembershipFunctions.Rd':
‘[Biobase:class.ExpressionSet]{ExpressionSet}’
‘[Biobase:class.AnnotatedDataFrame]{AnnotatedDataFrame}’
Non-topic package-anchored link(s) in Rd file 'discretizeExpressionValues.Rd':
‘[Biobase:class.ExpressionSet]{ExpressionSet}’
‘[Biobase:class.AnnotatedDataFrame]{AnnotatedDataFrame}’
Non-topic package-anchored link(s) in Rd file 'discriminantFuzzyPattern.Rd':
‘[Biobase:class.ExpressionSet]{ExpressionSet}’
‘[Biobase:class.AnnotatedDataFrame]{AnnotatedDataFrame}’
Non-topic package-anchored link(s) in Rd file 'plotMembershipFunctions.Rd':
‘[Biobase:class.ExpressionSet]{ExpressionSet}’
‘[Biobase:class.AnnotatedDataFrame]{AnnotatedDataFrame}’
Non-topic package-anchored link(s) in Rd file 'readCSV.Rd':
‘[Biobase:class.ExpressionSet]{ExpressionSet}’
‘[Biobase:class.AnnotatedDataFrame]{AnnotatedDataFrame}’
Non-topic package-anchored link(s) in Rd file 'rmadataset.Rd':
‘[Biobase:class.ExpressionSet]{ExpressionSet}’
‘[Biobase:class.AnnotatedDataFrame]{AnnotatedDataFrame}’
Non-topic package-anchored link(s) in Rd file 'showDiscreteValues.Rd':
‘[Biobase:class.ExpressionSet]{ExpressionSet}’
Non-topic package-anchored link(s) in Rd file 'showFuzzyPatterns.Rd':
‘[Biobase:class.ExpressionSet]{ExpressionSet}’
See section 'Cross-references' in the 'Writing R Extensions' manual.
* checking for missing documentation entries ... OK
* checking for code/documentation mismatches ... OK
* checking Rd \usage sections ... OK
* checking Rd contents ... OK
* checking for unstated dependencies in examples ... OK
* checking contents of ‘data’ directory ... OK
* checking data for non-ASCII characters ... OK
* checking data for ASCII and uncompressed saves ... OK
* checking sizes of PDF files under ‘inst/doc’ ... OK
* checking files in ‘vignettes’ ... OK
* checking examples ... OK
* checking for unstated dependencies in vignettes ... OK
* checking package vignettes ... OK
* checking running R code from vignettes ... SKIPPED
* checking re-building of vignette outputs ... SKIPPED
* checking PDF version of manual ... OK
* DONE
Status: 3 NOTEs
See
‘/Users/biocbuild/bbs-3.21-bioc/meat/DFP.Rcheck/00check.log’
for details.
DFP.Rcheck/00install.out
############################################################################## ############################################################################## ### ### Running command: ### ### /Library/Frameworks/R.framework/Resources/bin/R CMD INSTALL DFP ### ############################################################################## ############################################################################## * installing to library ‘/Library/Frameworks/R.framework/Versions/4.5-x86_64/Resources/library’ * installing *source* package ‘DFP’ ... ** this is package ‘DFP’ version ‘1.66.0’ ** using staged installation ** R ** data ** inst ** byte-compile and prepare package for lazy loading ** help *** installing help indices ** building package indices ** installing vignettes ** testing if installed package can be loaded from temporary location ** testing if installed package can be loaded from final location ** testing if installed package keeps a record of temporary installation path * DONE (DFP)
DFP.Rcheck/DFP-Ex.timings
| name | user | system | elapsed | |
| DFP-package | 2.537 | 0.134 | 2.795 | |
| ExpressionLevel-class | 0.001 | 0.001 | 0.002 | |
| HighExpressionLevel-class | 0.001 | 0.001 | 0.002 | |
| LowExpressionLevel-class | 0.001 | 0.001 | 0.001 | |
| MediumExpressionLevel-class | 0.001 | 0.000 | 0.001 | |
| discriminantFuzzyPattern | 2.194 | 0.017 | 2.317 | |
| readCSV | 0.154 | 0.007 | 0.166 | |
| rmadataset | 0.010 | 0.008 | 0.018 | |