Back to Multiple platform build/check report for BioC 3.22:   simplified   long
ABC[D]EFGHIJKLMNOPQRSTUVWXYZ

This page was generated on 2025-11-07 12:01 -0500 (Fri, 07 Nov 2025).

HostnameOSArch (*)R versionInstalled pkgs
nebbiolo2Linux (Ubuntu 24.04.3 LTS)x86_644.5.1 Patched (2025-08-23 r88802) -- "Great Square Root" 4902
kjohnson3macOS 13.7.7 Venturaarm644.5.1 Patched (2025-09-10 r88807) -- "Great Square Root" 4638
Click on any hostname to see more info about the system (e.g. compilers)      (*) as reported by 'uname -p', except on Windows and Mac OS X

Package 523/2361HostnameOS / ArchINSTALLBUILDCHECKBUILD BIN
DAPAR 1.42.0  (landing page)
Samuel Wieczorek
Snapshot Date: 2025-11-06 13:45 -0500 (Thu, 06 Nov 2025)
git_url: https://git.bioconductor.org/packages/DAPAR
git_branch: RELEASE_3_22
git_last_commit: c9303a2
git_last_commit_date: 2025-10-29 10:28:00 -0500 (Wed, 29 Oct 2025)
nebbiolo2Linux (Ubuntu 24.04.3 LTS) / x86_64  OK    OK    OK  UNNEEDED, same version is already published
kjohnson3macOS 13.7.7 Ventura / arm64  OK    OK    OK    OK  UNNEEDED, same version is already published


CHECK results for DAPAR on kjohnson3

To the developers/maintainers of the DAPAR package:
- Allow up to 24 hours (and sometimes 48 hours) for your latest push to git@git.bioconductor.org:packages/DAPAR.git to reflect on this report. See Troubleshooting Build Report for more information.
- Use the following Renviron settings to reproduce errors and warnings.
- If 'R CMD check' started to fail recently on the Linux builder(s) over a missing dependency, add the missing dependency to 'Suggests:' in your DESCRIPTION file. See Renviron.bioc for more information.

raw results


Summary

Package: DAPAR
Version: 1.42.0
Command: /Library/Frameworks/R.framework/Resources/bin/R CMD check --install=check:DAPAR.install-out.txt --library=/Library/Frameworks/R.framework/Resources/library --no-vignettes --timings DAPAR_1.42.0.tar.gz
StartedAt: 2025-11-06 19:19:54 -0500 (Thu, 06 Nov 2025)
EndedAt: 2025-11-06 19:24:16 -0500 (Thu, 06 Nov 2025)
EllapsedTime: 261.2 seconds
RetCode: 0
Status:   OK  
CheckDir: DAPAR.Rcheck
Warnings: 0

Command output

##############################################################################
##############################################################################
###
### Running command:
###
###   /Library/Frameworks/R.framework/Resources/bin/R CMD check --install=check:DAPAR.install-out.txt --library=/Library/Frameworks/R.framework/Resources/library --no-vignettes --timings DAPAR_1.42.0.tar.gz
###
##############################################################################
##############################################################################


* using log directory ‘/Users/biocbuild/bbs-3.22-bioc/meat/DAPAR.Rcheck’
* using R version 4.5.1 Patched (2025-09-10 r88807)
* using platform: aarch64-apple-darwin20
* R was compiled by
    Apple clang version 16.0.0 (clang-1600.0.26.6)
    GNU Fortran (GCC) 14.2.0
* running under: macOS Ventura 13.7.7
* using session charset: UTF-8
* using option ‘--no-vignettes’
* checking for file ‘DAPAR/DESCRIPTION’ ... OK
* checking extension type ... Package
* this is package ‘DAPAR’ version ‘1.42.0’
* package encoding: UTF-8
* checking package namespace information ... OK
* checking package dependencies ... INFO
Vignette dependency required without any vignettes: ‘knitr’
* checking if this is a source package ... OK
* checking if there is a namespace ... OK
* checking for hidden files and directories ... OK
* checking for portable file names ... OK
* checking for sufficient/correct file permissions ... OK
* checking whether package ‘DAPAR’ can be installed ... OK
* checking installed package size ... OK
* checking package directory ... OK
* checking DESCRIPTION meta-information ... OK
* checking top-level files ... OK
* checking for left-over files ... OK
* checking index information ... OK
* checking package subdirectories ... OK
* checking code files for non-ASCII characters ... OK
* checking R files for syntax errors ... OK
* checking whether the package can be loaded ... OK
* checking whether the package can be loaded with stated dependencies ... OK
* checking whether the package can be unloaded cleanly ... OK
* checking whether the namespace can be loaded with stated dependencies ... OK
* checking whether the namespace can be unloaded cleanly ... OK
* checking whether startup messages can be suppressed ... OK
* checking dependencies in R code ... OK
* checking S3 generic/method consistency ... OK
* checking replacement functions ... OK
* checking foreign function calls ... OK
* checking R code for possible problems ... NOTE
Check_Dataset_Validity: no visible global function definition for
  ‘exprs’
OWAnova: no visible global function definition for ‘aov’
aggregateIterParallel: no visible binding for global variable ‘cond’
averageIntensities: no visible binding for global variable ‘condition’
averageIntensities: no visible binding for global variable ‘feature’
averageIntensities: no visible binding for global variable ‘intensity’
createMSnset: no visible global function definition for
  ‘installed.packages’
createMSnset: no visible binding for global variable ‘Prostar.loc’
createMSnset2: no visible global function definition for
  ‘installed.packages’
createMSnset2: no visible binding for global variable ‘Prostar.loc’
diffAnaVolcanoplot_rCharts: no visible binding for global variable ‘x’
diffAnaVolcanoplot_rCharts: no visible binding for global variable ‘y’
diffAnaVolcanoplot_rCharts: no visible binding for global variable ‘g’
display.CC.visNet: no visible binding for global variable
  ‘layout_nicely’
getTextForGOAnalysis: no visible binding for global variable
  ‘textGOParams’
getTextForGOAnalysis: no visible binding for global variable ‘input’
globalAdjPval: no visible global function definition for ‘stack’
heatmapForMissingValues: no visible binding for global variable ‘par’
limmaCompleteTest: no visible binding for global variable ‘A’
limmaCompleteTest: no visible binding for global variable ‘B’
limmaCompleteTest: no visible binding for global variable ‘P.Value’
pepa.test: no visible global function definition for ‘nodes<-’
testAnovaModels : <anonymous>: no visible global function definition
  for ‘TukeyHSD’
visualizeClusters: no visible binding for global variable
  ‘adjusted_pvalues’
visualizeClusters: no visible binding for global variable ‘Condition’
visualizeClusters: no visible binding for global variable ‘Intensity’
visualizeClusters: no visible binding for global variable
  ‘FDR_threshold’
visualizeClusters: no visible binding for global variable ‘feature’
wrapperClassic1wayAnova: no visible binding for global variable
  ‘Pr(>F)1’
wrapperRunClustering: no visible global function definition for ‘str_c’
Undefined global functions or variables:
  A B Condition FDR_threshold Intensity P.Value Pr(>F)1 Prostar.loc
  TukeyHSD adjusted_pvalues aov cond condition exprs feature g input
  installed.packages intensity layout_nicely nodes<- par stack str_c
  textGOParams x y
Consider adding
  importFrom("graphics", "par")
  importFrom("stats", "TukeyHSD", "aov")
  importFrom("utils", "installed.packages", "stack")
to your NAMESPACE file.
* checking Rd files ... OK
* checking Rd metadata ... OK
* checking Rd cross-references ... OK
* checking for missing documentation entries ... OK
* checking for code/documentation mismatches ... OK
* checking Rd \usage sections ... OK
* checking Rd contents ... OK
* checking for unstated dependencies in examples ... OK
* checking examples ... OK
Examples with CPU (user + system) or elapsed time > 5s
                                   user system elapsed
wrapper.compareNormalizationD_HC 14.887  9.090  65.853
wrapper.dapar.impute.mi           4.989  0.737   5.781
* checking for unstated dependencies in ‘tests’ ... OK
* checking tests ...
  Running ‘testthat.R’
 OK
* checking PDF version of manual ... OK
* DONE

Status: 1 NOTE
See
  ‘/Users/biocbuild/bbs-3.22-bioc/meat/DAPAR.Rcheck/00check.log’
for details.


Installation output

DAPAR.Rcheck/00install.out

##############################################################################
##############################################################################
###
### Running command:
###
###   /Library/Frameworks/R.framework/Resources/bin/R CMD INSTALL DAPAR
###
##############################################################################
##############################################################################


* installing to library ‘/Library/Frameworks/R.framework/Versions/4.5-arm64/Resources/library’
* installing *source* package ‘DAPAR’ ...
** this is package ‘DAPAR’ version ‘1.42.0’
** using staged installation
** R
** inst
** byte-compile and prepare package for lazy loading
** help
*** installing help indices
** building package indices
** testing if installed package can be loaded from temporary location
** testing if installed package can be loaded from final location
** testing if installed package keeps a record of temporary installation path
* DONE (DAPAR)

Tests output

DAPAR.Rcheck/tests/testthat.Rout


R version 4.5.1 Patched (2025-09-10 r88807) -- "Great Square Root"
Copyright (C) 2025 The R Foundation for Statistical Computing
Platform: aarch64-apple-darwin20

R is free software and comes with ABSOLUTELY NO WARRANTY.
You are welcome to redistribute it under certain conditions.
Type 'license()' or 'licence()' for distribution details.

R is a collaborative project with many contributors.
Type 'contributors()' for more information and
'citation()' on how to cite R or R packages in publications.

Type 'demo()' for some demos, 'help()' for on-line help, or
'help.start()' for an HTML browser interface to help.
Type 'q()' to quit R.

> library(testthat)
> library(DAPAR)

This is the 'DAPAR' version 1.42.0.

  To get started, visit
    http://www.prostar-proteomics.org/


> 
> test_check("DAPAR")

 Iterations: 

 1 / 1  - Imputation MNAR OK - 
Imputation MCAR in progress - 
3 % - 6 % - 9 % - 12 % - 15 % - 18 % - 21 % - 24 % - 27 % - 30 % - 33 % - 36 % - 39 % - 42 % - 45 % - 48 % - 51 % - 54 % - 57 % - 60 % - 63 % - 66 % - 69 % - 72 % - 75 % - 78 % - 81 % - 84 % - 87 % - 90 % - 93 % - 96 % - 99 % - 
 Iterations: 

 1 / 1  - Imputation MNAR OK - 
Imputation MCAR in progress - 
3 % - 6 % - 9 % - 12 % - 15 % - 18 % - 21 % - 24 % - 27 % - 30 % - 33 % - 36 % - 39 % - 42 % - 45 % - 48 % - 51 % - 54 % - 57 % - 60 % - 63 % - 66 % - 69 % - 72 % - 75 % - 78 % - 81 % - 84 % - 87 % - 90 % - 93 % - 96 % - 99 % - 
 Imputation in condition  1 ...
 In progress: 10 % - 20 % - 30 % - 40 % - 50 % - 60 % - 70 % - 80 % - 90 % - 100 % - 
 Imputation in condition  2 ...
 In progress: 10 % - 20 % - 30 % - 40 % - 50 % - 60 % - 70 % - 80 % - 90 % - 100 % - [ FAIL 0 | WARN 17 | SKIP 0 | PASS 66 ]

[ FAIL 0 | WARN 17 | SKIP 0 | PASS 66 ]
> 
> proc.time()
   user  system elapsed 
 12.642   0.837  13.727 

Example timings

DAPAR.Rcheck/DAPAR-Ex.timings

nameusersystemelapsed
AggregateMetacell0.2250.0050.238
BuildAdjacencyMatrix0.1900.0040.192
BuildColumnToProteinDataset0.2300.0030.233
BuildMetaCell0.6560.0140.673
CVDistD_HC0.7310.0740.851
Children0.0010.0000.002
CountPep0.2150.0030.218
ExtendPalette0.0090.0010.010
GOAnalysisSave000
GetCC1.0940.0201.118
GetColorsForConditions0.1800.0020.182
GetDetailedNbPeptides0.1910.0020.194
GetDetailedNbPeptidesUsed000
GetIndices_BasedOnConditions0.1970.0020.201
GetIndices_MetacellFiltering0.1900.0030.194
GetIndices_WholeLine0.1950.0040.215
GetIndices_WholeMatrix0.2010.0030.359
GetKeyId0.2000.0040.207
GetMatAdj0.2040.0040.209
GetMetacell000
GetMetacellTags0.1930.0040.205
GetNbPeptidesUsed0.1960.0040.203
GetNbTags000
GetSoftAvailables0.0000.0010.000
GetTypeofData0.2060.0040.215
Get_AllComparisons0.1130.0070.124
GlobalQuantileAlignment0.2160.0040.224
GraphPepProt0.2160.0060.228
LH0000
LH0.lm000
LH1000
LH1.lm0.0000.0010.000
LOESS0.4820.0080.491
MeanCentering0.1940.0090.211
MetaCellFiltering0.2330.0030.244
MetacellFilteringScope000
Metacell_DIA_NN0.2400.0080.259
Metacell_generic0.1660.0060.176
Metacell_maxquant0.1950.0090.207
Metacell_proline0.1920.0070.206
NumericalFiltering0.2040.0050.218
NumericalgetIndicesOfLinesToRemove0.1900.0020.194
OWAnova0.0030.0000.005
QuantileCentering0.2110.0080.223
SetCC1.0730.0061.098
SetMatAdj0.1910.0020.203
Set_POV_MEC_tags0.1810.0020.198
StringBasedFiltering0.1940.0030.199
StringBasedFiltering20.2030.0030.207
SumByColumns0.4630.0120.478
SymFilteringOperators000
UpdateMetacellAfterImputation0.1840.0010.186
aggregateIter0.2270.0020.230
aggregateIterParallel0.0000.0010.000
aggregateMean0.2110.0020.214
aggregateSum0.2150.0020.217
aggregateTopn0.2010.0020.203
applyAnovasOnProteins0.0580.0000.059
averageIntensities0.2370.0510.297
barplotEnrichGO_HC2.7470.6893.641
barplotGroupGO_HC1.8210.2452.124
boxPlotD_HC0.1000.0190.137
buildGraph0.7570.0130.770
check.conditions0.1760.0020.178
check.design0.1760.0020.178
checkClusterability1.0200.9731.974
classic1wayAnova000
compareNormalizationD_HC0.0680.0150.083
compute.selection.table0.2730.0620.334
compute_t_tests0.3930.0970.491
corrMatrixD_HC0.2160.0300.249
createMSnset0.6820.0510.752
createMSnset20.6290.0410.681
dapar_hc_ExportMenu0.0410.0410.093
dapar_hc_chart0.0170.0120.029
deleteLinesFromIndices0.1980.0070.206
densityPlotD_HC0.9680.9402.172
diffAnaComputeAdjustedPValues0.0790.0190.103
diffAnaComputeFDR000
diffAnaGetSignificant0.1110.0400.161
diffAnaSave0.1070.0320.148
diffAnaVolcanoplot0.0840.0140.104
diffAnaVolcanoplot_rCharts0.1460.0640.228
display.CC.visNet0.7490.0290.785
enrich_GO1.8230.2082.045
finalizeAggregation000
findMECBlock0.2020.0040.208
formatHSDResults000
formatLimmaResult0.0780.0110.089
formatPHResults000
formatPHTResults000
fudge2LRT000
get.pep.prot.cc0.7610.0100.775
getDesignLevel0.1770.0010.180
getIndicesConditions0.1790.0020.181
getIndicesOfLinesToRemove0.1850.0060.192
getListNbValuesInLines0.1790.0020.180
getNumberOf0.1820.0040.186
getNumberOfEmptyLines0.1870.0030.192
getPourcentageOfMV0.1840.0040.189
getProcessingInfo0.1750.0020.177
getProteinsStats0.1890.0050.193
getQuantile4Imp0.0540.0010.055
getTextForAggregation000
getTextForAnaDiff0.0010.0000.001
getTextForFiltering000
getTextForGOAnalysis0.0000.0000.001
getTextForHypothesisTest000
getTextForNewDataset0.0010.0000.001
getTextForNormalization000
getTextForpeptideImputation0.0000.0000.001
getTextForproteinImputation000
globalAdjPval0.1510.0260.180
group_GO1.7950.2402.048
hc_logFC_DensityPlot0.2280.1050.363
hc_mvTypePlot20.3250.1130.441
heatmapD0.2950.0220.318
heatmapForMissingValues0.0920.0100.103
histPValue_HC0.1450.0320.176
impute.pa20.2040.0060.210
inner.aggregate.iter0.2070.0120.225
inner.aggregate.topn0.2020.0060.212
inner.mean0.1960.0060.204
inner.sum0.2040.0070.217
is.subset0.0000.0000.001
limmaCompleteTest0.4790.0310.514
listSheets000
make.contrast0.1900.0020.199
make.design.10.1890.0030.192
make.design.20.1970.0020.200
make.design.30.1940.0030.197
make.design0.1910.0020.193
match.metacell0.2000.0070.209
metacell.def0.0020.0010.003
metacellHisto_HC0.2180.0170.235
metacellPerLinesHistoPerCondition_HC0.2440.0340.282
metacellPerLinesHisto_HC0.2670.0890.367
metacombine0.0520.0070.060
mvImage0.7500.0680.840
my_hc_ExportMenu0.0410.0480.094
my_hc_chart0.0620.0820.156
nonzero0.0100.0010.013
normalizeMethods.dapar000
pepa.test0.2130.0050.223
pkgs.require000
plotJitter0.8150.0160.848
plotJitter_rCharts0.7210.0300.778
plotPCA_Eigen0.2150.0160.292
plotPCA_Eigen_hc0.1780.0020.192
plotPCA_Ind0.1960.0040.200
plotPCA_Var0.1840.0030.187
postHocTest000
proportionConRev_HC0.0280.0270.056
rbindMSnset0.2390.0190.260
reIntroduceMEC0.2350.0150.256
readExcel000
removeLines0.2170.0140.235
samLRT000
saveParameters0.1950.0030.199
scatterplotEnrichGO_HC2.2850.3032.678
search.metacell.tags0.0030.0020.004
separateAdjPval0.0830.0070.092
splitAdjacencyMat0.2020.0080.211
test.design0.2320.0040.235
testAnovaModels0.0820.0070.094
thresholdpval4fdr000
translatedRandomBeta0.0010.0050.007
univ_AnnotDbPkg0.1030.0250.135
violinPlotD0.1100.0060.116
visualizeClusters0.4200.0720.716
vsn0.2840.0110.307
wrapper.CVDistD_HC0.6340.2731.030
wrapper.compareNormalizationD_HC14.887 9.09065.853
wrapper.corrMatrixD_HC0.2650.0280.301
wrapper.dapar.impute.mi4.9890.7375.781
wrapper.heatmapD0.2550.0170.281
wrapper.impute.KNN0.2180.0270.262
wrapper.impute.detQuant0.2390.0430.305
wrapper.impute.fixedValue0.2490.0480.329
wrapper.impute.mle0.2130.0230.257
wrapper.impute.pa0.0870.0250.129
wrapper.impute.pa20.2320.0330.292
wrapper.impute.slsa0.2790.0470.353
wrapper.mvImage0.0960.0260.135
wrapper.normalizeD0.1940.0080.206
wrapper.pca0.1030.0350.156
wrapperCalibrationPlot0.1200.0330.167
wrapperClassic1wayAnova000
wrapperRunClustering1.2030.4461.910
write.excel0.4300.1660.692
writeMSnsetToCSV0.2090.0210.244
writeMSnsetToExcel0.5850.2310.907