| Back to Multiple platform build/check report for BioC 3.21: simplified long |
|
This page was generated on 2025-10-16 11:38 -0400 (Thu, 16 Oct 2025).
| Hostname | OS | Arch (*) | R version | Installed pkgs |
|---|---|---|---|---|
| nebbiolo1 | Linux (Ubuntu 24.04.3 LTS) | x86_64 | 4.5.1 (2025-06-13) -- "Great Square Root" | 4833 |
| merida1 | macOS 12.7.6 Monterey | x86_64 | 4.5.1 RC (2025-06-05 r88288) -- "Great Square Root" | 4614 |
| kjohnson1 | macOS 13.7.5 Ventura | arm64 | 4.5.1 Patched (2025-06-14 r88325) -- "Great Square Root" | 4555 |
| kunpeng2 | Linux (openEuler 24.03 LTS) | aarch64 | R Under development (unstable) (2025-02-19 r87757) -- "Unsuffered Consequences" | 4586 |
| Click on any hostname to see more info about the system (e.g. compilers) (*) as reported by 'uname -p', except on Windows and Mac OS X | ||||
| Package 364/2341 | Hostname | OS / Arch | INSTALL | BUILD | CHECK | BUILD BIN | ||||||||
| CiteFuse 1.20.0 (landing page) Yingxin Lin
| nebbiolo1 | Linux (Ubuntu 24.04.3 LTS) / x86_64 | OK | OK | OK | |||||||||
| merida1 | macOS 12.7.6 Monterey / x86_64 | OK | OK | OK | OK | |||||||||
| kjohnson1 | macOS 13.7.5 Ventura / arm64 | OK | OK | OK | OK | |||||||||
| kunpeng2 | Linux (openEuler 24.03 LTS) / aarch64 | OK | OK | OK | ||||||||||
|
To the developers/maintainers of the CiteFuse package: - Allow up to 24 hours (and sometimes 48 hours) for your latest push to git@git.bioconductor.org:packages/CiteFuse.git to reflect on this report. See Troubleshooting Build Report for more information. - Use the following Renviron settings to reproduce errors and warnings. - If 'R CMD check' started to fail recently on the Linux builder(s) over a missing dependency, add the missing dependency to 'Suggests:' in your DESCRIPTION file. See Renviron.bioc for more information. |
| Package: CiteFuse |
| Version: 1.20.0 |
| Command: /Library/Frameworks/R.framework/Resources/bin/R CMD check --install=check:CiteFuse.install-out.txt --library=/Library/Frameworks/R.framework/Resources/library --no-vignettes --timings CiteFuse_1.20.0.tar.gz |
| StartedAt: 2025-10-14 01:31:11 -0400 (Tue, 14 Oct 2025) |
| EndedAt: 2025-10-14 01:40:29 -0400 (Tue, 14 Oct 2025) |
| EllapsedTime: 558.0 seconds |
| RetCode: 0 |
| Status: OK |
| CheckDir: CiteFuse.Rcheck |
| Warnings: 0 |
##############################################################################
##############################################################################
###
### Running command:
###
### /Library/Frameworks/R.framework/Resources/bin/R CMD check --install=check:CiteFuse.install-out.txt --library=/Library/Frameworks/R.framework/Resources/library --no-vignettes --timings CiteFuse_1.20.0.tar.gz
###
##############################################################################
##############################################################################
* using log directory ‘/Users/biocbuild/bbs-3.21-bioc/meat/CiteFuse.Rcheck’
* using R version 4.5.1 RC (2025-06-05 r88288)
* using platform: x86_64-apple-darwin20
* R was compiled by
Apple clang version 14.0.0 (clang-1400.0.29.202)
GNU Fortran (GCC) 14.2.0
* running under: macOS Monterey 12.7.6
* using session charset: UTF-8
* using option ‘--no-vignettes’
* checking for file ‘CiteFuse/DESCRIPTION’ ... OK
* checking extension type ... Package
* this is package ‘CiteFuse’ version ‘1.20.0’
* package encoding: UTF-8
* checking package namespace information ... OK
* checking package dependencies ... INFO
Imports includes 23 non-default packages.
Importing from so many packages makes the package vulnerable to any of
them becoming unavailable. Move as many as possible to Suggests and
use conditionally.
* checking if this is a source package ... OK
* checking if there is a namespace ... OK
* checking for hidden files and directories ... OK
* checking for portable file names ... OK
* checking for sufficient/correct file permissions ... OK
* checking whether package ‘CiteFuse’ can be installed ... OK
* used C++ compiler: ‘Apple clang version 14.0.0 (clang-1400.0.29.202)’
* used SDK: ‘MacOSX11.3.sdk’
* checking installed package size ... OK
* checking package directory ... OK
* checking ‘build’ directory ... OK
* checking DESCRIPTION meta-information ... OK
* checking top-level files ... OK
* checking for left-over files ... OK
* checking index information ... OK
* checking package subdirectories ... OK
* checking code files for non-ASCII characters ... OK
* checking R files for syntax errors ... OK
* checking whether the package can be loaded ... OK
* checking whether the package can be loaded with stated dependencies ... OK
* checking whether the package can be unloaded cleanly ... OK
* checking whether the namespace can be loaded with stated dependencies ... OK
* checking whether the namespace can be unloaded cleanly ... OK
* checking dependencies in R code ... OK
* checking S3 generic/method consistency ... OK
* checking replacement functions ... OK
* checking foreign function calls ... OK
* checking R code for possible problems ... OK
* checking Rd files ... OK
* checking Rd metadata ... OK
* checking Rd cross-references ... OK
* checking for missing documentation entries ... OK
* checking for code/documentation mismatches ... OK
* checking Rd \usage sections ... OK
* checking Rd contents ... OK
* checking for unstated dependencies in examples ... OK
* checking contents of ‘data’ directory ... OK
* checking data for non-ASCII characters ... OK
* checking data for ASCII and uncompressed saves ... OK
* checking line endings in C/C++/Fortran sources/headers ... OK
* checking compiled code ... NOTE
Note: information on .o files is not available
* checking files in ‘vignettes’ ... OK
* checking examples ... OK
Examples with CPU (user + system) or elapsed time > 5s
user system elapsed
plotHTO 13.163 0.100 13.512
DEgenesCross 8.469 0.147 8.939
* checking for unstated dependencies in vignettes ... OK
* checking package vignettes ... OK
* checking running R code from vignettes ... SKIPPED
* checking re-building of vignette outputs ... SKIPPED
* checking PDF version of manual ... OK
* DONE
Status: 1 NOTE
See
‘/Users/biocbuild/bbs-3.21-bioc/meat/CiteFuse.Rcheck/00check.log’
for details.
CiteFuse.Rcheck/00install.out
############################################################################## ############################################################################## ### ### Running command: ### ### /Library/Frameworks/R.framework/Resources/bin/R CMD INSTALL CiteFuse ### ############################################################################## ############################################################################## * installing to library ‘/Library/Frameworks/R.framework/Versions/4.5-x86_64/Resources/library’ * installing *source* package ‘CiteFuse’ ... ** this is package ‘CiteFuse’ version ‘1.20.0’ ** using staged installation ** libs using C++ compiler: ‘Apple clang version 14.0.0 (clang-1400.0.29.202)’ using SDK: ‘MacOSX11.3.sdk’ clang++ -arch x86_64 -std=gnu++17 -I"/Library/Frameworks/R.framework/Resources/include" -DNDEBUG -I'/Library/Frameworks/R.framework/Versions/4.5-x86_64/Resources/library/Rcpp/include' -I/opt/R/x86_64/include -fPIC -falign-functions=64 -Wall -g -O2 -c RcppExports.cpp -o RcppExports.o clang++ -arch x86_64 -std=gnu++17 -I"/Library/Frameworks/R.framework/Resources/include" -DNDEBUG -I'/Library/Frameworks/R.framework/Versions/4.5-x86_64/Resources/library/Rcpp/include' -I/opt/R/x86_64/include -fPIC -falign-functions=64 -Wall -g -O2 -c backend.cpp -o backend.o clang++ -arch x86_64 -std=gnu++17 -I"/Library/Frameworks/R.framework/Resources/include" -DNDEBUG -I'/Library/Frameworks/R.framework/Versions/4.5-x86_64/Resources/library/Rcpp/include' -I/opt/R/x86_64/include -fPIC -falign-functions=64 -Wall -g -O2 -c lr2propr.cpp -o lr2propr.o clang++ -arch x86_64 -std=gnu++17 -dynamiclib -Wl,-headerpad_max_install_names -undefined dynamic_lookup -L/Library/Frameworks/R.framework/Resources/lib -L/opt/R/x86_64/lib -o CiteFuse.so RcppExports.o backend.o lr2propr.o -F/Library/Frameworks/R.framework/.. -framework R installing to /Library/Frameworks/R.framework/Versions/4.5-x86_64/Resources/library/00LOCK-CiteFuse/00new/CiteFuse/libs ** R ** data ** inst ** byte-compile and prepare package for lazy loading ** help *** installing help indices ** building package indices ** installing vignettes ** testing if installed package can be loaded from temporary location ** checking absolute paths in shared objects and dynamic libraries ** testing if installed package can be loaded from final location ** testing if installed package keeps a record of temporary installation path * DONE (CiteFuse)
CiteFuse.Rcheck/CiteFuse-Ex.timings
| name | user | system | elapsed | |
| CiteFuse | 2.184 | 0.045 | 2.265 | |
| DEbubblePlot | 4.433 | 0.121 | 4.973 | |
| DEcomparisonPlot | 4.615 | 0.101 | 4.863 | |
| DEgenes | 2.480 | 0.093 | 2.624 | |
| DEgenesCross | 8.469 | 0.147 | 8.939 | |
| crossSampleDoublets | 1.622 | 0.030 | 1.656 | |
| geneADTnetwork | 1.302 | 0.037 | 1.340 | |
| igraphClustering | 0.808 | 0.023 | 0.831 | |
| importanceADT | 1.553 | 0.052 | 1.609 | |
| ligandReceptorTest | 1.607 | 0.033 | 1.679 | |
| normaliseExprs | 1.280 | 0.024 | 1.342 | |
| plotHTO | 13.163 | 0.100 | 13.512 | |
| preprocessing | 1.036 | 0.012 | 1.078 | |
| readFrom10X | 0.000 | 0.001 | 0.001 | |
| reducedDimSNF | 1.342 | 0.037 | 1.391 | |
| selectDEgenes | 2.320 | 0.050 | 2.448 | |
| spectralClustering | 0.754 | 0.011 | 0.814 | |
| visImportance | 4.094 | 0.062 | 4.642 | |
| visLigandReceptor | 1.751 | 0.039 | 2.077 | |
| visualiseDim | 2.050 | 0.039 | 2.120 | |
| visualiseExprs | 2.715 | 0.026 | 2.789 | |
| visualiseExprsList | 1.905 | 0.025 | 1.991 | |
| visualiseKNN | 1.430 | 0.024 | 1.460 | |
| withinSampleDoublets | 1.545 | 0.016 | 1.569 | |