Back to Multiple platform build/check report for BioC 3.22:   simplified   long
AB[C]DEFGHIJKLMNOPQRSTUVWXYZ

This page was generated on 2025-11-07 12:00 -0500 (Fri, 07 Nov 2025).

HostnameOSArch (*)R versionInstalled pkgs
nebbiolo2Linux (Ubuntu 24.04.3 LTS)x86_644.5.1 Patched (2025-08-23 r88802) -- "Great Square Root" 4902
kjohnson3macOS 13.7.7 Venturaarm644.5.1 Patched (2025-09-10 r88807) -- "Great Square Root" 4638
Click on any hostname to see more info about the system (e.g. compilers)      (*) as reported by 'uname -p', except on Windows and Mac OS X

Package 460/2361HostnameOS / ArchINSTALLBUILDCHECKBUILD BIN
COTAN 2.10.0  (landing page)
Galfrè Silvia Giulia
Snapshot Date: 2025-11-06 13:45 -0500 (Thu, 06 Nov 2025)
git_url: https://git.bioconductor.org/packages/COTAN
git_branch: RELEASE_3_22
git_last_commit: 9b1bfa0
git_last_commit_date: 2025-10-29 11:14:37 -0500 (Wed, 29 Oct 2025)
nebbiolo2Linux (Ubuntu 24.04.3 LTS) / x86_64  OK    OK    OK  UNNEEDED, same version is already published
kjohnson3macOS 13.7.7 Ventura / arm64  OK    OK    OK    OK  UNNEEDED, same version is already published


CHECK results for COTAN on nebbiolo2

To the developers/maintainers of the COTAN package:
- Allow up to 24 hours (and sometimes 48 hours) for your latest push to git@git.bioconductor.org:packages/COTAN.git to reflect on this report. See Troubleshooting Build Report for more information.
- Use the following Renviron settings to reproduce errors and warnings.
- If 'R CMD check' started to fail recently on the Linux builder(s) over a missing dependency, add the missing dependency to 'Suggests:' in your DESCRIPTION file. See Renviron.bioc for more information.

raw results


Summary

Package: COTAN
Version: 2.10.0
Command: /home/biocbuild/bbs-3.22-bioc/R/bin/R CMD check --install=check:COTAN.install-out.txt --library=/home/biocbuild/bbs-3.22-bioc/R/site-library --timings COTAN_2.10.0.tar.gz
StartedAt: 2025-11-06 22:23:36 -0500 (Thu, 06 Nov 2025)
EndedAt: 2025-11-06 22:51:26 -0500 (Thu, 06 Nov 2025)
EllapsedTime: 1669.4 seconds
RetCode: 0
Status:   OK  
CheckDir: COTAN.Rcheck
Warnings: 0

Command output

##############################################################################
##############################################################################
###
### Running command:
###
###   /home/biocbuild/bbs-3.22-bioc/R/bin/R CMD check --install=check:COTAN.install-out.txt --library=/home/biocbuild/bbs-3.22-bioc/R/site-library --timings COTAN_2.10.0.tar.gz
###
##############################################################################
##############################################################################


* using log directory ‘/home/biocbuild/bbs-3.22-bioc/meat/COTAN.Rcheck’
* using R version 4.5.1 Patched (2025-08-23 r88802)
* using platform: x86_64-pc-linux-gnu
* R was compiled by
    gcc (Ubuntu 13.3.0-6ubuntu2~24.04) 13.3.0
    GNU Fortran (Ubuntu 13.3.0-6ubuntu2~24.04) 13.3.0
* running under: Ubuntu 24.04.3 LTS
* using session charset: UTF-8
* checking for file ‘COTAN/DESCRIPTION’ ... OK
* checking extension type ... Package
* this is package ‘COTAN’ version ‘2.10.0’
* package encoding: UTF-8
* checking package namespace information ... OK
* checking package dependencies ... INFO
Imports includes 26 non-default packages.
Importing from so many packages makes the package vulnerable to any of
them becoming unavailable.  Move as many as possible to Suggests and
use conditionally.
* checking if this is a source package ... OK
* checking if there is a namespace ... OK
* checking for hidden files and directories ... OK
* checking for portable file names ... OK
* checking for sufficient/correct file permissions ... OK
* checking whether package ‘COTAN’ can be installed ... OK
* checking installed package size ... OK
* checking package directory ... OK
* checking ‘build’ directory ... OK
* checking DESCRIPTION meta-information ... OK
* checking top-level files ... OK
* checking for left-over files ... OK
* checking index information ... OK
* checking package subdirectories ... OK
* checking code files for non-ASCII characters ... OK
* checking R files for syntax errors ... OK
* checking whether the package can be loaded ... OK
* checking whether the package can be loaded with stated dependencies ... OK
* checking whether the package can be unloaded cleanly ... OK
* checking whether the namespace can be loaded with stated dependencies ... OK
* checking whether the namespace can be unloaded cleanly ... OK
* checking loading without being on the library search path ... OK
* checking whether startup messages can be suppressed ... OK
* checking dependencies in R code ... OK
* checking S3 generic/method consistency ... OK
* checking replacement functions ... OK
* checking foreign function calls ... OK
* checking R code for possible problems ... OK
* checking Rd files ... OK
* checking Rd metadata ... OK
* checking Rd cross-references ... OK
* checking for missing documentation entries ... OK
* checking for code/documentation mismatches ... OK
* checking Rd \usage sections ... OK
* checking Rd contents ... OK
* checking for unstated dependencies in examples ... OK
* checking contents of ‘data’ directory ... OK
* checking data for non-ASCII characters ... OK
* checking data for ASCII and uncompressed saves ... OK
* checking files in ‘vignettes’ ... OK
* checking examples ... OK
Examples with CPU (user + system) or elapsed time > 5s
                          user system elapsed
UniformClusters         68.837  0.349  68.410
CalculatingCOEX         53.497  0.521  52.966
HandlingClusterizations 40.317  0.239  40.277
HeatmapPlots            29.520  0.485  29.255
ParametersEstimations   20.941  0.242  21.168
GenesStatistics         10.572  0.048  10.335
COTAN_ObjectCreation     9.308  0.117   9.146
* checking for unstated dependencies in ‘tests’ ... OK
* checking tests ...
  Running ‘outputTestDatasetCreation.R’
  Running ‘spelling.R’
  Running ‘testthat.R’
 OK
* checking for unstated dependencies in vignettes ... OK
* checking package vignettes ... OK
* checking re-building of vignette outputs ... OK
* checking PDF version of manual ... OK
* DONE

Status: OK


Installation output

COTAN.Rcheck/00install.out

##############################################################################
##############################################################################
###
### Running command:
###
###   /home/biocbuild/bbs-3.22-bioc/R/bin/R CMD INSTALL COTAN
###
##############################################################################
##############################################################################


* installing to library ‘/home/biocbuild/bbs-3.22-bioc/R/site-library’
* installing *source* package ‘COTAN’ ...
** this is package ‘COTAN’ version ‘2.10.0’
** using staged installation
** R
** data
** inst
** byte-compile and prepare package for lazy loading
** help
*** installing help indices
** building package indices
** installing vignettes
** testing if installed package can be loaded from temporary location
** testing if installed package can be loaded from final location
** testing if installed package keeps a record of temporary installation path
* DONE (COTAN)

Tests output

COTAN.Rcheck/tests/outputTestDatasetCreation.Rout


R version 4.5.1 Patched (2025-08-23 r88802) -- "Great Square Root"
Copyright (C) 2025 The R Foundation for Statistical Computing
Platform: x86_64-pc-linux-gnu

R is free software and comes with ABSOLUTELY NO WARRANTY.
You are welcome to redistribute it under certain conditions.
Type 'license()' or 'licence()' for distribution details.

R is a collaborative project with many contributors.
Type 'contributors()' for more information and
'citation()' on how to cite R or R packages in publications.

Type 'demo()' for some demos, 'help()' for on-line help, or
'help.start()' for an HTML browser interface to help.
Type 'q()' to quit R.

> 
> # Creates the files to be reloaded by the tests for comparisons
> 
> outputTestDatasetCreation <-
+   function(testsDir = file.path("tests", "testthat")) {
+   utils::data("test.dataset", package = "COTAN")
+   options(parallelly.fork.enable = TRUE)
+   setLoggingLevel(3L)
+ 
+   obj <- COTAN(raw = test.dataset)
+   obj <- initializeMetaDataset(objCOTAN = obj, GEO = " ",
+                                sequencingMethod = "artificial",
+                                sampleCondition = "test")
+ 
+   obj <- proceedToCoex(objCOTAN = obj, cores = 6L, saveObj = FALSE)
+ 
+   if (FALSE) {
+     saveRDS(obj, file = file.path(testsDir,"test.COTAN.RDS"))
+   }
+ 
+   cells.names.test <-
+     getCells(objCOTAN = obj)[c(1L:10L, 591L:610L, 991L:1000L)]
+   genes.names.test <-
+     getGenes(objCOTAN = obj)[c(131L:140L, 291L:310L, 591L: 600L)]
+   saveRDS(cells.names.test, file.path(testsDir, "cells.names.test.RDS"))
+   saveRDS(genes.names.test, file.path(testsDir, "genes.names.test.RDS"))
+ 
+   pcaRaw <- runPCA(x = getRawData(objCOTAN = obj), rank = 10L,
+                    BSPARAM = IrlbaParam(), get.rotation = FALSE)[["x"]]
+ 
+   pca.raw.test <- pcaRaw[genes.names.test, ]
+   saveRDS(pca.raw.test, file.path(testsDir, "pca.raw.test.RDS"))
+ 
+   dispersion.test <- getDispersion(objCOTAN = obj)[genes.names.test]
+   saveRDS(dispersion.test, file.path(testsDir, "dispersion.test.RDS"))
+ 
+   raw.norm.test <-
+     getNuNormData(objCOTAN = obj)[genes.names.test, cells.names.test]
+   saveRDS(raw.norm.test, file.path(testsDir, "raw.norm.test.RDS"))
+ 
+   coex.test <-
+     getGenesCoex(objCOTAN = obj, genes = genes.names.test, zeroDiagonal = FALSE)
+   saveRDS(coex.test, file.path(testsDir, "coex.test.RDS"))
+ 
+   lambda.test <- getLambda(objCOTAN = obj)[genes.names.test]
+   saveRDS(lambda.test, file.path(testsDir, "lambda.test.RDS"))
+ 
+   GDI.test <- calculateGDI(objCOTAN = obj)
+   GDI.test <- GDI.test[genes.names.test, ]
+   saveRDS(GDI.test, file.path(testsDir, "GDI.test.RDS"))
+ 
+   nu.test <- getNu(objCOTAN = obj)[cells.names.test]
+   saveRDS(nu.test, file.path(testsDir, "nu.test.RDS"))
+ 
+   pvalues.test <- calculatePValue(objCOTAN = obj,
+                                   geneSubsetCol = genes.names.test,
+                                   geneSubsetRow = genes.names.test)
+   saveRDS(pvalues.test, file.path(testsDir, "pvalues.test.RDS"))
+ 
+   groupMarkers <- list(G1 = c("g-000010", "g-000020", "g-000138"),
+                        G2 = c("g-000300", "g-000330", "g-000660"),
+                        G3 = c("g-000510", "g-000530", "g-000550",
+                               "g-000570", "g-000590"))
+ 
+   gcsData <- genesCoexSpace(objCOTAN = obj,
+                             primaryMarkers = unlist(groupMarkers),
+                             numGenesPerMarker = 11L)
+ 
+   genes.coex.space.test <- gcsData[["GCS"]]
+   saveRDS(genes.coex.space.test,
+           file.path(testsDir, "genes.coex.space.test.RDS"))
+ 
+   genesClustersData <-
+     establishGenesClusters(objCOTAN = obj,
+                            groupMarkers = groupMarkers,
+                            numGenesPerMarker = 11L,
+                            kCuts = 6L, distance = "cosine",
+                            hclustMethod = "ward.D2")
+ 
+   pca.genes.clusters.test <- genesClustersData[["pca_clusters"]]
+   saveRDS(pca.genes.clusters.test,
+           file.path(testsDir, "pca.genes.clusters.test.RDS"))
+ 
+   # Make it a less strict check as it is only for testing
+   checker <- new("AdvancedGDIUniformityCheck")
+   checker <- shiftCheckerThresholds(checker, 0.1)
+ 
+   initialResolution <- 1.3
+   splitData <- cellsUniformClustering(objCOTAN = obj,
+                                       checker = checker,
+                                       initialResolution = initialResolution,
+                                       useCoexEigen = TRUE,
+                                       dataMethod = "LL",
+                                       numReducedComp = 50L,
+                                       cores = 6L, optimizeForSpeed = TRUE,
+                                       deviceStr = "cuda", saveObj = FALSE)
+ 
+   split.clusters.test <- splitData[["clusters"]]
+   saveRDS(split.clusters.test,
+           file = file.path(testsDir, "split.clusters.test.RDS"))
+ 
+   test.dataset.clusters1 <- split.clusters.test
+   save(test.dataset.clusters1, compress = TRUE,
+        file = file.path("data", "test.dataset.clusters1.rda"))
+ 
+   obj <- addClusterization(objCOTAN = obj,
+                            clName = "split",
+                            clusters = splitData[["clusters"]],
+                            coexDF = splitData[["coex"]])
+ 
+   coex.clusters.test <- splitData[["coex"]][genes.names.test, ]
+   saveRDS(coex.clusters.test, file.path(testsDir, "coex.clusters.test.RDS"))
+ 
+   pvalDF <- pValueFromDEA(splitData[["coex"]],
+                           getNumCells(objCOTAN = obj),
+                           adjustmentMethod = "none")
+ 
+   pvalues.clusters.test <- pvalDF[genes.names.test, ]
+   saveRDS(pvalues.clusters.test,
+           file.path(testsDir, "pvalues.clusters.test.RDS"))
+ 
+   mergedData <- mergeUniformCellsClusters(objCOTAN = obj,
+                                           clusters = splitData[["clusters"]],
+                                           checkers = checker,
+                                           batchSize = 1L,
+                                           cores = 6L,
+                                           distance = "cosine",
+                                           hclustMethod = "ward.D2",
+                                           saveObj = FALSE)
+ 
+   merge.clusters.test <- mergedData[["clusters"]]
+   saveRDS(merge.clusters.test,
+           file = file.path(testsDir, "merge.clusters.test.RDS"))
+ 
+   test.dataset.clusters2 <- merge.clusters.test
+   save(test.dataset.clusters2, compress = TRUE,
+        file = file.path("data", "test.dataset.clusters2.rda"))
+ 
+   obj <- addClusterization(objCOTAN = obj,
+                            clName = "merge",
+                            clusters = mergedData[["clusters"]],
+                            coexDF = mergedData[["coex"]])
+ }
> 
> proc.time()
   user  system elapsed 
  0.157   0.037   0.183 

COTAN.Rcheck/tests/spelling.Rout


R version 4.5.1 Patched (2025-08-23 r88802) -- "Great Square Root"
Copyright (C) 2025 The R Foundation for Statistical Computing
Platform: x86_64-pc-linux-gnu

R is free software and comes with ABSOLUTELY NO WARRANTY.
You are welcome to redistribute it under certain conditions.
Type 'license()' or 'licence()' for distribution details.

R is a collaborative project with many contributors.
Type 'contributors()' for more information and
'citation()' on how to cite R or R packages in publications.

Type 'demo()' for some demos, 'help()' for on-line help, or
'help.start()' for an HTML browser interface to help.
Type 'q()' to quit R.

> if (requireNamespace("spelling", quietly = TRUE))
+   spelling::spell_check_test(vignettes = TRUE, error = FALSE,
+                              skip_on_cran = TRUE)
All Done!
> 
> proc.time()
   user  system elapsed 
  0.139   0.035   0.164 

COTAN.Rcheck/tests/testthat.Rout


R version 4.5.1 Patched (2025-08-23 r88802) -- "Great Square Root"
Copyright (C) 2025 The R Foundation for Statistical Computing
Platform: x86_64-pc-linux-gnu

R is free software and comes with ABSOLUTELY NO WARRANTY.
You are welcome to redistribute it under certain conditions.
Type 'license()' or 'licence()' for distribution details.

R is a collaborative project with many contributors.
Type 'contributors()' for more information and
'citation()' on how to cite R or R packages in publications.

Type 'demo()' for some demos, 'help()' for on-line help, or
'help.start()' for an HTML browser interface to help.
Type 'q()' to quit R.

> Sys.setenv(R_TESTS = "")
> library(testthat)
> library(COTAN)
> library(zeallot)
> test_check("COTAN")
Setting new log level to 4
Initializing `COTAN` meta-data
Genes/cells selection done: dropped [0] genes and [0] cells
Working on [10] genes and [20] cells
Estimate `dispersion`: START
Effective number of cores used: 1
Executing 1 genes batches
Parallel dispersion Newton-Raphson: used up to 5 iterations
Total calculations elapsed time: 1.84150385856628
Estimate `dispersion`: DONE
Estimate `dispersion`: DONE
`dispersion` | min: 0.903596292963576 | max: 4.67949426963453 | % negative: 10
Calculate genes' COEX (legacy): START
Retrieving expected genes' contingency table
calculating NN.. done
calculating NY..YN..YY..t().. done
Expected genes' contingency table elapsed time: 2.6346549987793
Calculating genes' COEX normalization factor
Calculate genes' normalization factor elapsed time: 0.000646829605102539
Retrieving observed genes' yes/yes contingency table
calculating YY.. done
Observed genes' contingency table elapsed time: 0.00707292556762695
Estimating genes' COEX
Calculate genes' COEX elapsed time: 0.926603078842163
Total calculations elapsed time: 3.56897783279419
Calculate genes' COEX (legacy): DONE
Genes/cells selection done: dropped [0] genes and [0] cells
Working on [10] genes and [20] cells
Estimate `dispersion`: START
Effective number of cores used: 1
Executing 5 genes batches
Parallel dispersion Newton-Raphson: used up to 5 iterations
Parallel dispersion Newton-Raphson: used up to 4 iterations
Parallel dispersion Newton-Raphson: used up to 5 iterations
Parallel dispersion Newton-Raphson: used up to 5 iterations
Parallel dispersion Newton-Raphson: used up to 5 iterations
Total calculations elapsed time: 5.94016194343567
Estimate `dispersion`: DONE
Estimate `dispersion`: DONE
`dispersion` | min: 0.903596292963576 | max: 4.67949426963453 | % negative: 10
Estimate `nu`: START
Effective number of cores used: 1
Executing 7 cells batches
Total calculations elapsed time: 0.914976596832275
Estimate `nu`: DONE
`nu` change (abs) | max: 1.75595238095238 | median:  1.07156808035714 | mean:  1.07156808035714
Estimate `dispersion`/`nu`: START
Estimate `dispersion`: START
Effective number of cores used: 1
Executing 1 genes batches
Parallel dispersion Newton-Raphson: used up to 5 iterations
Total calculations elapsed time: 1.91344261169434
Estimate `dispersion`: DONE
Estimate `dispersion`: DONE
`dispersion` | min: 1.03734183779544 | max: 4.61112297272667 | % negative: 10
Estimate `nu`: START
Effective number of cores used: 1
Executing 1 cells batches
Total calculations elapsed time: 0.923073768615723
Estimate `nu`: DONE
`nu` change (abs) | max: 0.0295487661210321 | median:  0.016072261901129 | mean:  0.016072261901129
`nu` mean: 1.69786080481514
Marginal errors | max: 1.95799528048 | median 1.32268477389029 | mean: 1.33563364783916
Estimate `dispersion`: START
Effective number of cores used: 1
Executing 1 genes batches
Parallel dispersion Newton-Raphson: used up to 5 iterations
Total calculations elapsed time: 1.78724193572998
Estimate `dispersion`: DONE
Estimate `dispersion`: DONE
`dispersion` | min: 0.0585450475968788 | max: 3.52739274166646 | % negative: 10
Estimate `nu`: START
Effective number of cores used: 1
Executing 1 cells batches
Total calculations elapsed time: 0.890488862991333
Estimate `nu`: DONE
`nu` change (abs) | max: 0.417150556912302 | median:  0.240156504520849 | mean:  0.240156504520849
`nu` mean: 0.823005947608547
Marginal errors | max: 0.837672524335755 | median 0.704691669139065 | mean: 0.646575831699997
Estimate `dispersion`: START
Effective number of cores used: 1
Executing 1 genes batches
Parallel dispersion Newton-Raphson: used up to 5 iterations
Total calculations elapsed time: 1.86295437812805
Estimate `dispersion`: DONE
Estimate `dispersion`: DONE
`dispersion` | min: 0.328845855849147 | max: 4.03031691940854 | % negative: 10
Estimate `nu`: START
Effective number of cores used: 1
Executing 1 cells batches
Total calculations elapsed time: 0.831154584884644
Estimate `nu`: DONE
`nu` change (abs) | max: 0.164439840041 | median:  0.0957105992188852 | mean:  0.0957105992188852
`nu` mean: 1.06872924082212
Marginal errors | max: 0.260109847946692 | median 0.21392791155499 | mean: 0.197565106613054
Estimate `dispersion`: START
Effective number of cores used: 1
Executing 1 genes batches
Parallel dispersion Newton-Raphson: used up to 5 iterations
Total calculations elapsed time: 1.88691115379333
Estimate `dispersion`: DONE
Estimate `dispersion`: DONE
`dispersion` | min: 0.229469002841045 | max: 3.87206403670079 | % negative: 10
Estimate `nu`: START
Effective number of cores used: 1
Executing 1 cells batches
Total calculations elapsed time: 0.849812746047974
Estimate `nu`: DONE
`nu` change (abs) | max: 0.05539667181205 | median:  0.0321044921874999 | mean:  0.0321044921874999
`nu` mean: 0.97670782037545
Marginal errors | max: 0.095347789718808 | median 0.0796003827042702 | mean: 0.0725509735761708
Estimate `dispersion`: START
Effective number of cores used: 1
Executing 1 genes batches
Parallel dispersion Newton-Raphson: used up to 5 iterations
Total calculations elapsed time: 1.69940948486328
Estimate `dispersion`: DONE
Estimate `dispersion`: DONE
`dispersion` | min: 0.263830434255107 | max: 3.92953043775907 | % negative: 10
Estimate `nu`: START
Effective number of cores used: 1
Executing 1 cells batches
Total calculations elapsed time: 0.873113393783569
Estimate `nu`: DONE
`nu` change (abs) | max: 0.0196209299693411 | median:  0.0114037947200925 | mean:  0.0114037947200925
`nu` mean: 1.00821713524925
Marginal errors | max: 0.0329495161656741 | median 0.0273479725376324 | mean: 0.025029675152131
Estimate `dispersion`: START
Effective number of cores used: 1
Executing 1 genes batches
Parallel dispersion Newton-Raphson: used up to 5 iterations
Total calculations elapsed time: 1.69186663627625
Estimate `dispersion`: DONE
Estimate `dispersion`: DONE
`dispersion` | min: 0.251734659898779 | max: 3.9096133246649 | % negative: 10
Estimate `nu`: START
Effective number of cores used: 1
Executing 1 cells batches
Total calculations elapsed time: 0.806520462036133
Estimate `nu`: DONE
`nu` change (abs) | max: 0.0069104540740097 | median:  0.0040109538496062 | mean:  0.0040109538496062
`nu` mean: 0.997100499775596
Marginal errors | max: 0.0116950057438405 | median 0.00972280144873849 | mean: 0.00889105008777538
Estimate `dispersion`: START
Effective number of cores used: 1
Executing 1 genes batches
Parallel dispersion Newton-Raphson: used up to 5 iterations
Total calculations elapsed time: 1.65095067024231
Estimate `dispersion`: DONE
Estimate `dispersion`: DONE
`dispersion` | min: 0.256009779031907 | max: 3.91667271750655 | % negative: 10
Estimate `nu`: START
Effective number of cores used: 1
Executing 1 cells batches
Total calculations elapsed time: 0.784254789352417
Estimate `nu`: DONE
`nu` change (abs) | max: 0.00251004753849005 | median:  0.00146484374999994 | mean:  0.00146484374999994
`nu` mean: 1.00104520378849
Marginal errors | max: 0.00430755646112857 | median 0.00358203399504298 | mean: 0.00327684342604062
Estimate `dispersion`: START
Effective number of cores used: 1
Executing 1 genes batches
Parallel dispersion Newton-Raphson: used up to 5 iterations
Total calculations elapsed time: 1.73367190361023
Estimate `dispersion`: DONE
Estimate `dispersion`: DONE
`dispersion` | min: 0.254429717857093 | max: 3.91406908073254 | % negative: 10
Estimate `nu`: START
Effective number of cores used: 1
Executing 1 cells batches
Total calculations elapsed time: 0.916017293930054
Estimate `nu`: DONE
`nu` change (abs) | max: 0.00104629156456748 | median:  0.000592910406456731 | mean:  0.000592910406456731
`nu` mean: 0.999546618841889
Marginal errors | max: 0.00162038706091039 | median 0.00134441676098973 | mean: 0.00123030512553282
Estimate `dispersion`: START
Effective number of cores used: 1
Executing 1 genes batches
Parallel dispersion Newton-Raphson: used up to 5 iterations
Total calculations elapsed time: 1.66598200798035
Estimate `dispersion`: DONE
Estimate `dispersion`: DONE
`dispersion` | min: 0.255022049769696 | max: 3.91504587939868 | % negative: 10
Estimate `nu`: START
Effective number of cores used: 1
Executing 1 cells batches
Total calculations elapsed time: 0.761945486068726
Estimate `nu`: DONE
`nu` change (abs) | max: 0.000418450901304768 | median:  0.000244140625000028 | mean:  0.000244140625000028
`nu` mean: 1.0001743102763
Marginal errors | max: 0.00071569233034019 | median 0.000597297218559056 | mean: 0.00054590699507937
Total calculations elapsed time: 46.3314201831818
Estimate `dispersion`/`nu`: DONE
Estimate `dispersion`/`nu`: START
Initializing `COTAN` meta-data
Genes/cells selection done: dropped [0] genes and [0] cells
Working on [10] genes and [20] cells
Estimate `dispersion`: START
Effective number of cores used: 1
Executing 1 genes batches
Parallel dispersion Newton-Raphson: used up to 5 iterations
Total calculations elapsed time: 1.56700420379639
Estimate `dispersion`: DONE
Estimate `dispersion`: DONE
`dispersion` | min: 0.903596292963576 | max: 4.67949426963453 | % negative: 10
While trying to load the `torch` library Error in doTryCatch(return(expr), name, parentenv, handler): The `torch` library is installed but the required additional libraries are not available yet

Calculate genes' COEX (legacy): START
Retrieving expected genes' contingency table
calculating NN.. done
calculating NY..YN..YY..t().. done
Expected genes' contingency table elapsed time: 2.64731454849243
Calculating genes' COEX normalization factor
Fraction of genes' with very low expected contingency tables: 0.181818181818182
Calculate genes' normalization factor elapsed time: 0.000646352767944336
Retrieving observed genes' yes/yes contingency table
calculating YY.. done
Observed genes' contingency table elapsed time: 0.00294923782348633
Estimating genes' COEX
Calculate genes' COEX elapsed time: 0.830026149749756
Total calculations elapsed time: 3.48093628883362
Calculate genes' COEX (legacy): DONE
Calculate cells' COEX (legacy): START
Retrieving expected cells' contingency table
calculating NN.. done
calculating YN..NY..YY..t().. done
Expected cells' contingency table elapsed time: 2.71290063858032
Calculating cells' COEX normalization factor
Fraction of cells' with very low expected contingency tables: 0
Calculate cells' normalization factor elapsed time: 0.000724077224731445
Retrieving observed cells' yes/yes contingency table
calculating YY.. done
Observed cells' contingency table elapsed time: 0.00223135948181152
Estimating cells' COEX
Calculate cells' COEX elapsed time: 0.817099094390869
Total calculations elapsed time: 3.53295516967773
Calculate cells' COEX (legacy): DONE
Calculate GDI dataframe: START
Using S
Calculating S: START
Calculating S: DONE
Calculate `GDI`: START
Effective number of cores used: 1
Executing 1 genes batches
Total calculations elapsed time: 0.00966405868530273
Calculate `GDI`: DONE
Total calculations elapsed time: 2.73361659049988
Calculate GDI dataframe: DONE
Calculate GDI dataframe: START
Using S
Calculating S: START
Calculating S: DONE
Calculate `GDI`: START
Effective number of cores used: 1
Executing 1 genes batches
Total calculations elapsed time: 0.00300455093383789
Calculate `GDI`: DONE
Total calculations elapsed time: 2.81275177001953
Calculate GDI dataframe: DONE
Included 1 genes with GDI below 1.3
Selected 10 genes using HGDI selector
Running genes' selection: DONE
Running genes' selection: START
Included 1 genes with GDI below 1.3
Selected 10 genes using HGDI selector
Running genes' selection: DONE
Running genes' selection: START
Included 1 genes with GDI below 1.3
Selected 10 genes using HGDI selector
Running genes' selection: DONE
Running genes' selection: START
Selected 5 genes using HGDI selector
Running genes' selection: DONE
Running genes' selection: START
Normalizing layer: counts
Performing log-normalization
0%   10   20   30   40   50   60   70   80   90   100%
[----|----|----|----|----|----|----|----|----|----|
**************************************************|
Finding variable features for layer counts
Calculating gene variances
0%   10   20   30   40   50   60   70   80   90   100%
[----|----|----|----|----|----|----|----|----|----|
**************************************************|
Calculating feature variances of standardized and clipped values
0%   10   20   30   40   50   60   70   80   90   100%
[----|----|----|----|----|----|----|----|----|----|
**************************************************|
Selected 5 genes using HVG_Seurat selector
Running genes' selection: DONE
Running genes' selection: START
Normalizing layer: counts
Performing log-normalization
0%   10   20   30   40   50   60   70   80   90   100%
[----|----|----|----|----|----|----|----|----|----|
**************************************************|
Finding variable features for layer data
Calculating gene means
0%   10   20   30   40   50   60   70   80   90   100%
[----|----|----|----|----|----|----|----|----|----|
**************************************************|
Calculating gene variance to mean ratios
0%   10   20   30   40   50   60   70   80   90   100%
[----|----|----|----|----|----|----|----|----|----|
**************************************************|
Running genes' selection: START
Given 5 genes as input
Running genes' selection: DONE
Elaborating Reduced dimensionality Data Matrix - START
Running genes' selection: START
Included 1 genes with GDI below 1.3
Selected 10 genes using HGDI selector
Running genes' selection: DONE
Elaborating PCA - START
Elaborating PCA - DONE
Total calculations elapsed time: 1.51601243019104
Elaborating Reduced dimensionality Data Matrix - DONE
Elaborating Reduced dimensionality Data Matrix - START
Running genes' selection: START
Included 1 genes with GDI below 1.3
Selected 10 genes using HGDI selector
Running genes' selection: DONE
Elaborating PCA - START
Elaborating PCA - DONE
Total calculations elapsed time: 1.58809947967529
Elaborating Reduced dimensionality Data Matrix - DONE
Elaborating Reduced dimensionality Data Matrix - START
Running genes' selection: START
Selected 8 genes using HGDI selector
Running genes' selection: DONE
Elaborating PCA - START
Elaborating PCA - DONE
Total calculations elapsed time: 1.57466793060303
Elaborating Reduced dimensionality Data Matrix - DONE
Elaborating Reduced dimensionality Data Matrix - START
Running genes' selection: START
Normalizing layer: counts
Performing log-normalization
0%   10   20   30   40   50   60   70   80   90   100%
[----|----|----|----|----|----|----|----|----|----|
**************************************************|
Finding variable features for layer counts
Calculating gene variances
0%   10   20   30   40   50   60   70   80   90   100%
[----|----|----|----|----|----|----|----|----|----|
**************************************************|
Calculating feature variances of standardized and clipped values
0%   10   20   30   40   50   60   70   80   90   100%
[----|----|----|----|----|----|----|----|----|----|
**************************************************|
Selected 8 genes using HVG_Seurat selector
Running genes' selection: DONE
Elaborating PCA - START
Elaborating PCA - DONE
Total calculations elapsed time: 2.49598956108093
Elaborating Reduced dimensionality Data Matrix - DONE
Elaborating Reduced dimensionality Data Matrix - START
Elaborating COEX Eigen Vectors - START
Elaborating COEX Eigen Vectors - DONE
Total calculations elapsed time: 2.34060597419739
Elaborating Reduced dimensionality Data Matrix - DONE
Elaborating Reduced dimensionality Data Matrix - START
Elaborating COEX Eigen Vectors - START
Elaborating COEX Eigen Vectors - DONE
Total calculations elapsed time: 2.49785256385803
Elaborating Reduced dimensionality Data Matrix - DONE
Initializing `COTAN` meta-data
Initializing `COTAN` meta-data
Genes/cells selection done: dropped [0] genes and [0] cells
Working on [10] genes and [20] cells
Estimate `dispersion`/`nu`: START
Estimate `dispersion`: START
Effective number of cores used: 1
Executing 1 genes batches
Parallel dispersion Newton-Raphson: used up to 5 iterations
Total calculations elapsed time: 1.56227421760559
Estimate `dispersion`: DONE
Estimate `dispersion`: DONE
`dispersion` | min: 0.903596292963576 | max: 4.67949426963453 | % negative: 10
Estimate `nu`: START
Effective number of cores used: 1
Executing 1 cells batches
Total calculations elapsed time: 0.762980461120605
Estimate `nu`: DONE
`nu` change (abs) | max: 1.75719246031746 | median:  1.07229953342014 | mean:  1.07229953342014
`nu` mean: 1.68489292689732
Marginal errors | max: 1.735699617106 | median 1.37997441333659 | mean: 1.32181397451301
Estimate `dispersion`: START
Effective number of cores used: 1
Executing 1 genes batches
Parallel dispersion Newton-Raphson: used up to 5 iterations
Total calculations elapsed time: 1.62541961669922
Estimate `dispersion`: DONE
Estimate `dispersion`: DONE
`dispersion` | min: 0.0655494303592343 | max: 3.54400580804152 | % negative: 10
Estimate `nu`: START
Effective number of cores used: 1
Executing 1 cells batches
Total calculations elapsed time: 0.811344146728516
Estimate `nu`: DONE
`nu` change (abs) | max: 0.402649984216273 | median:  0.231868788425666 | mean:  0.231868788425666
`nu` mean: 0.829218804209393
Marginal errors | max: 0.803248939260364 | median 0.677504196374571 | mean: 0.619386446933351
Estimate `dispersion`: START
Effective number of cores used: 1
Executing 1 genes batches
Parallel dispersion Newton-Raphson: used up to 5 iterations
Total calculations elapsed time: 1.5761706829071
Estimate `dispersion`: DONE
Estimate `dispersion`: DONE
`dispersion` | min: 0.326019058449519 | max: 4.02612397202046 | % negative: 10
Estimate `nu`: START
Effective number of cores used: 1
Executing 1 cells batches
Total calculations elapsed time: 0.810111522674561
Estimate `nu`: DONE
`nu` change (abs) | max: 0.158004893526231 | median:  0.0919692884670312 | mean:  0.0919692884670312
`nu` mean: 1.0660356050592
Marginal errors | max: 0.25067700287536 | median 0.206241644985115 | mean: 0.190402167377958
Estimate `dispersion`: START
Effective number of cores used: 1
Executing 1 genes batches
Parallel dispersion Newton-Raphson: used up to 5 iterations
Total calculations elapsed time: 1.5996208190918
Estimate `dispersion`: DONE
Estimate `dispersion`: DONE
`dispersion` | min: 0.230397316576369 | max: 3.87365659194104 | % negative: 10
Estimate `nu`: START
Effective number of cores used: 1
Executing 1 cells batches
Total calculations elapsed time: 0.822220802307129
Estimate `nu`: DONE
`nu` change (abs) | max: 0.0532774732102337 | median:  0.0308837890624999 | mean:  0.0308837890624999
`nu` mean: 0.977606315852266
Marginal errors | max: 0.0916920322976189 | median 0.0765360853958175 | mean: 0.0697673030094085
Estimate `dispersion`: START
Effective number of cores used: 1
Executing 1 genes batches
Parallel dispersion Newton-Raphson: used up to 5 iterations
Total calculations elapsed time: 1.6935441493988
Estimate `dispersion`: DONE
Estimate `dispersion`: DONE
`dispersion` | min: 0.263457616228195 | max: 3.928924407347 | % negative: 10
Estimate `nu`: START
Effective number of cores used: 1
Executing 1 cells batches
Total calculations elapsed time: 0.806987524032593
Estimate `nu`: DONE
`nu` change (abs) | max: 0.0187878665732679 | median:  0.0109155550210726 | mean:  0.0109155550210726
`nu` mean: 1.0078723115522
Marginal errors | max: 0.0315207323253404 | median 0.0261635598193228 | mean: 0.0239435763640456
Estimate `dispersion`: START
Effective number of cores used: 1
Executing 1 genes batches
Parallel dispersion Newton-Raphson: used up to 5 iterations
Total calculations elapsed time: 1.70866680145264
Estimate `dispersion`: DONE
Estimate `dispersion`: DONE
`dispersion` | min: 0.251890641847533 | max: 3.90987172241566 | % negative: 10
Estimate `nu`: START
Effective number of cores used: 1
Executing 1 cells batches
Total calculations elapsed time: 0.791894435882568
Estimate `nu`: DONE
`nu` change (abs) | max: 0.00649137083358098 | median:  0.00376680890457393 | mean:  0.00376680890457393
`nu` mean: 0.997275438070993
Marginal errors | max: 0.0109748802265024 | median 0.00912386940474796 | mean: 0.00834350038184244
Estimate `dispersion`: START
Effective number of cores used: 1
Executing 1 genes batches
Parallel dispersion Newton-Raphson: used up to 5 iterations
Total calculations elapsed time: 1.79761552810669
Estimate `dispersion`: DONE
Estimate `dispersion`: DONE
`dispersion` | min: 0.255902752363649 | max: 3.91649655995187 | % negative: 10
Estimate `nu`: START
Effective number of cores used: 1
Executing 1 cells batches
Total calculations elapsed time: 0.859764099121094
Estimate `nu`: DONE
`nu` change (abs) | max: 0.00230094227000666 | median:  0.00132529141000018 | mean:  0.00132529141000018
`nu` mean: 1.00097565086001
Marginal errors | max: 0.00376864912836616 | median 0.00313421412286008 | mean: 0.00286709489297579
Estimate `dispersion`: START
Effective number of cores used: 1
Executing 1 genes batches
Parallel dispersion Newton-Raphson: used up to 5 iterations
Total calculations elapsed time: 1.64034247398376
Estimate `dispersion`: DONE
Estimate `dispersion`: DONE
`dispersion` | min: 0.254520292119112 | max: 3.91421850264948 | % negative: 10
Estimate `nu`: START
Effective number of cores used: 1
Executing 1 cells batches
Total calculations elapsed time: 0.849721670150757
Estimate `nu`: DONE
`nu` change (abs) | max: 0.000837013154366462 | median:  0.000488281250000028 | mean:  0.000488281250000028
`nu` mean: 0.999651268095634
Marginal errors | max: 0.00144055320514802 | median 0.00119489364392944 | mean: 0.00109355439757213
Estimate `dispersion`: START
Effective number of cores used: 1
Executing 1 genes batches
Parallel dispersion Newton-Raphson: used up to 5 iterations
Total calculations elapsed time: 1.65505313873291
Estimate `dispersion`: DONE
Estimate `dispersion`: DONE
`dispersion` | min: 0.255046800817986 | max: 3.9150866760965 | % negative: 10
Estimate `nu`: START
Effective number of cores used: 1
Executing 1 cells batches
Total calculations elapsed time: 0.851241588592529
Estimate `nu`: DONE
`nu` change (abs) | max: 0.000418448154490214 | median:  0.000244140624999917 | mean:  0.000244140624999917
`nu` mean: 1.00017430752949
Marginal errors | max: 0.000715683388516908 | median 0.0005972847342397 | mean: 0.00054589991652243
Total calculations elapsed time: 44.7020847797394
Estimate `dispersion`/`nu`: DONE
While trying to load the `torch` library Error in doTryCatch(return(expr), name, parentenv, handler): The `torch` library is installed but the required additional libraries are not available yet

Calculate genes' COEX (legacy): START
Retrieving expected genes' contingency table
calculating NN.. done
calculating NY..YN..YY..t().. done
Expected genes' contingency table elapsed time: 2.70554971694946
Calculating genes' COEX normalization factor
Calculate genes' normalization factor elapsed time: 0.000552654266357422
Retrieving observed genes' yes/yes contingency table
calculating YY.. done
Observed genes' contingency table elapsed time: 0.00138163566589355
Estimating genes' COEX
Calculate genes' COEX elapsed time: 0.887133836746216
Total calculations elapsed time: 3.59461784362793
Calculate genes' COEX (legacy): DONE
Calculate cells' COEX (legacy): START
Retrieving expected cells' contingency table
calculating NN.. done
calculating YN..NY..YY..t().. done
Expected cells' contingency table elapsed time: 2.55591011047363
Calculating cells' COEX normalization factor
Calculate cells' normalization factor elapsed time: 0.000501632690429688
Retrieving observed cells' yes/yes contingency table
calculating YY.. done
Observed cells' contingency table elapsed time: 0.00137782096862793
Estimating cells' COEX
Calculate cells' COEX elapsed time: 0.794812679290771
Total calculations elapsed time: 3.35260224342346
Calculate cells' COEX (legacy): DONE
Calculate GDI dataframe: START
Using S
Calculating S: START
Calculating S: DONE
Calculate `GDI`: START
Effective number of cores used: 1
Executing 1 genes batches
Total calculations elapsed time: 0.00298833847045898
Calculate `GDI`: DONE
Total calculations elapsed time: 2.42169857025146
Calculate GDI dataframe: DONE
Calculate genes' partial COEX: START
Retrieving expected genes' partial contingency table
calculating partial NN.. done
calculating partial NY..YN..YY.. done
Calculating genes' partial COEX normalization factor
Fraction of genes with very low expected contingency tables: 0.325
Retrieving observed genes' yes/yes partial contingency table
calculating partial YY.. done
Estimating genes' partial COEX
Total calculations elapsed time: 6.5015389919281
Calculate genes' partial COEX: DONE
Calculate cells' partial COEX: START
Retrieving expected cells' partial contingency table
calculating partial NN.. done
calculating partial YN..NY..YY.. done
Calculating cells' partial COEX normalization factor
Fraction of genes with very low expected contingency tables: 0
Retrieving observed cells' yes/yes partial contingency table
calculating partial YY.. done
Estimating cells' partial COEX
Total calculations elapsed time: 6.31590867042542
Calculate cells' partial COEX: DONE
Asked to drop 2 genes and 0 cells
Asked to drop 0 genes and 4 cells
Asked to drop 2 genes and 2 cells

Attaching package: 'rlang'

The following objects are masked from 'package:testthat':

    is_false, is_null, is_true

Genes/cells selection done: dropped [0] genes and [0] cells
Working on [10] genes and [20] cells
calculating YY.. done
calculating YY.. done
calculating YN..NY..NN..t().. done
Estimate `dispersion`: START
Effective number of cores used: 1
Executing 3 genes batches
Parallel dispersion Newton-Raphson: used up to 5 iterations
Parallel dispersion Newton-Raphson: used up to 5 iterations
Parallel dispersion Newton-Raphson: used up to 5 iterations
Total calculations elapsed time: 3.6896800994873
Estimate `dispersion`: DONE
Estimate `dispersion`: DONE
`dispersion` | min: 0.903596292963576 | max: 4.67949426963453 | % negative: 10
calculating NN.. done
calculating NN.. done
calculating NY..YN..YY..t().. done
Calculate genes' COEX (legacy): START
Retrieving expected genes' contingency table
calculating NN.. done
calculating NY..YN..YY..t().. done
Expected genes' contingency table elapsed time: 2.37401986122131
Calculating genes' COEX normalization factor
Fraction of genes' with very low expected contingency tables: 0.181818181818182
Calculate genes' normalization factor elapsed time: 0.000665426254272461
Retrieving observed genes' yes/yes contingency table
calculating YY.. done
Observed genes' contingency table elapsed time: 0.0013580322265625
Estimating genes' COEX
Calculate genes' COEX elapsed time: 0.878804683685303
Total calculations elapsed time: 3.25484800338745
Calculate genes' COEX (legacy): DONE
While trying to load the `torch` library Error in doTryCatch(return(expr), name, parentenv, handler): The `torch` library is installed but the required additional libraries are not available yet

Calculate genes' COEX (legacy): START
Retrieving expected genes' contingency table
calculating NN.. done
calculating NY..YN..YY..t().. done
Expected genes' contingency table elapsed time: 2.39904952049255
Calculating genes' COEX normalization factor
Calculate genes' normalization factor elapsed time: 0.00051426887512207
Retrieving observed genes' yes/yes contingency table
calculating YY.. done
Observed genes' contingency table elapsed time: 0.00138497352600098
Estimating genes' COEX
Calculate genes' COEX elapsed time: 0.788213491439819
Total calculations elapsed time: 3.1891622543335
Calculate genes' COEX (legacy): DONE
Calculate genes' partial COEX: START
Retrieving expected genes' partial contingency table
calculating partial NN.. done
calculating partial NY..YN..YY.. done
Calculating genes' partial COEX normalization factor
Fraction of genes with very low expected contingency tables: 0.1
Retrieving observed genes' yes/yes partial contingency table
calculating partial YY.. done
Estimating genes' partial COEX
Total calculations elapsed time: 6.34102463722229
Calculate genes' partial COEX: DONE
Calculate genes' partial COEX: START
Retrieving expected genes' partial contingency table
calculating partial NN.. done
calculating partial NY..YN..YY.. done
Calculating genes' partial COEX normalization factor
Fraction of genes with very low expected contingency tables: 0.4
Retrieving observed genes' yes/yes partial contingency table
calculating partial YY.. done
Estimating genes' partial COEX
Total calculations elapsed time: 6.27823734283447
Calculate genes' partial COEX: DONE
Genes/cells selection done: dropped [0] genes and [0] cells
Working on [10] genes and [20] cells
calculating YY.. done
calculating YY.. done
calculating NY..YN..NN..t().. done
Estimate `dispersion`/`nu`: START
Estimate `dispersion`: START
Effective number of cores used: 1
Executing 3 genes batches
Parallel dispersion Newton-Raphson: used up to 5 iterations
Parallel dispersion Newton-Raphson: used up to 5 iterations
Parallel dispersion Newton-Raphson: used up to 5 iterations
Total calculations elapsed time: 3.16460800170898
Estimate `dispersion`: DONE
Estimate `dispersion`: DONE
`dispersion` | min: 0.903596292963576 | max: 4.67949426963453 | % negative: 10
Estimate `nu`: START
Effective number of cores used: 1
Executing 5 cells batches
Total calculations elapsed time: 0.767047882080078
Estimate `nu`: DONE
`nu` change (abs) | max: 1.75719246031746 | median:  1.07229953342014 | mean:  1.07229953342014
`nu` mean: 1.68489292689732
Marginal errors | max: 0.255290533439036 | median 0.080731376500534 | mean: 0.101968565509112
Estimate `dispersion`: START
Effective number of cores used: 1
Executing 3 genes batches
Parallel dispersion Newton-Raphson: used up to 5 iterations
Parallel dispersion Newton-Raphson: used up to 5 iterations
Parallel dispersion Newton-Raphson: used up to 5 iterations
Total calculations elapsed time: 3.00236868858337
Estimate `dispersion`: DONE
Estimate `dispersion`: DONE
`dispersion` | min: 1.03709166563768 | max: 4.61069655774133 | % negative: 10
Estimate `nu`: START
Effective number of cores used: 1
Executing 5 cells batches
Total calculations elapsed time: 0.76432728767395
Estimate `nu`: DONE
`nu` change (abs) | max: 0.0273438105507502 | median:  0.0148852611818011 | mean:  0.0148852611818011
`nu` mean: 1.69735147626627
Marginal errors | max: 0.00330148418741594 | median 0.00111713187082163 | mean: 0.00132007186542964
Estimate `dispersion`: START
Effective number of cores used: 1
Executing 3 genes batches
Parallel dispersion Newton-Raphson: used up to 5 iterations
Parallel dispersion Newton-Raphson: used up to 5 iterations
Parallel dispersion Newton-Raphson: used up to 5 iterations
Total calculations elapsed time: 2.97759890556335
Estimate `dispersion`: DONE
Estimate `dispersion`: DONE
`dispersion` | min: 1.03887279473672 | max: 4.60974134092906 | % negative: 10
Estimate `nu`: START
Effective number of cores used: 1
Executing 5 cells batches
Total calculations elapsed time: 0.745910167694092
Estimate `nu`: DONE
`nu` change (abs) | max: 0 | median:  0 | mean:  0
`nu` mean: 1.69735147626627
Marginal errors | max: 5.14174422185931e-05 | median 1.6818224857218e-07 | mean: 5.57649710835051e-06
Total calculations elapsed time: 18.1096403598785
Estimate `dispersion`/`nu`: DONE
calculating NN.. done
calculating NN.. done
calculating YN..NY..YY..t().. done
Calculate cells' COEX (legacy): START
Retrieving expected cells' contingency table
calculating NN.. done
calculating YN..NY..YY..t().. done
Expected cells' contingency table elapsed time: 2.25119090080261
Calculating cells' COEX normalization factor
Fraction of cells' with very low expected contingency tables: 0
Calculate cells' normalization factor elapsed time: 0.000650405883789062
Retrieving observed cells' yes/yes contingency table
calculating YY.. done
Observed cells' contingency table elapsed time: 0.00131559371948242
Estimating cells' COEX
Calculate cells' COEX elapsed time: 0.777673244476318
Total calculations elapsed time: 3.0308301448822
Calculate cells' COEX (legacy): DONE
Calculate cells' partial COEX: START
Retrieving expected cells' partial contingency table
calculating partial NN.. done
calculating partial YN..NY..YY.. done
Calculating cells' partial COEX normalization factor
Fraction of genes with very low expected contingency tables: 0
Retrieving observed cells' yes/yes partial contingency table
calculating partial YY.. done
Estimating cells' partial COEX
Total calculations elapsed time: 5.94723200798035
Calculate cells' partial COEX: DONE
Calculate cells' partial COEX: START
Retrieving expected cells' partial contingency table
calculating partial NN.. done
calculating partial YN..NY..YY.. done
Calculating cells' partial COEX normalization factor
Fraction of genes with very low expected contingency tables: 0
Retrieving observed cells' yes/yes partial contingency table
calculating partial YY.. done
Estimating cells' partial COEX
Total calculations elapsed time: 6.15458536148071
Calculate cells' partial COEX: DONE
Genes/cells selection done: dropped [0] genes and [0] cells
Working on [10] genes and [20] cells
Estimate `dispersion`/`nu`: START
Estimate `dispersion`: START
Effective number of cores used: 1
Executing 3 genes batches
Parallel dispersion Newton-Raphson: used up to 5 iterations
Parallel dispersion Newton-Raphson: used up to 5 iterations
Parallel dispersion Newton-Raphson: used up to 5 iterations
Total calculations elapsed time: 3.10124635696411
Estimate `dispersion`: DONE
Estimate `dispersion`: DONE
`dispersion` | min: 0.903596292963576 | max: 4.67949426963453 | % negative: 10
Estimate `nu`: START
Effective number of cores used: 1
Executing 5 cells batches
Total calculations elapsed time: 0.764352321624756
Estimate `nu`: DONE
`nu` change (abs) | max: 1.75719246031746 | median:  1.07229953342014 | mean:  1.07229953342014
`nu` mean: 1.68489292689732
Marginal errors | max: 0.255290533439036 | median 0.080731376500534 | mean: 0.101968565509112
Estimate `dispersion`: START
Effective number of cores used: 1
Executing 3 genes batches
Parallel dispersion Newton-Raphson: used up to 5 iterations
Parallel dispersion Newton-Raphson: used up to 5 iterations
Parallel dispersion Newton-Raphson: used up to 5 iterations
Total calculations elapsed time: 2.96599245071411
Estimate `dispersion`: DONE
Estimate `dispersion`: DONE
`dispersion` | min: 1.03709166563768 | max: 4.61069655774133 | % negative: 10
Estimate `nu`: START
Effective number of cores used: 1
Executing 5 cells batches
Total calculations elapsed time: 0.742566347122192
Estimate `nu`: DONE
`nu` change (abs) | max: 0.0273438105507502 | median:  0.0148852611818011 | mean:  0.0148852611818011
`nu` mean: 1.69735147626627
Marginal errors | max: 0.00330148418741594 | median 0.00111713187082163 | mean: 0.00132007186542964
Estimate `dispersion`: START
Effective number of cores used: 1
Executing 3 genes batches
Parallel dispersion Newton-Raphson: used up to 5 iterations
Parallel dispersion Newton-Raphson: used up to 5 iterations
Parallel dispersion Newton-Raphson: used up to 5 iterations
Total calculations elapsed time: 2.95571613311768
Estimate `dispersion`: DONE
Estimate `dispersion`: DONE
`dispersion` | min: 1.03887279473672 | max: 4.60974134092906 | % negative: 10
Estimate `nu`: START
Effective number of cores used: 1
Executing 5 cells batches
Total calculations elapsed time: 0.758867502212524
Estimate `nu`: DONE
`nu` change (abs) | max: 0 | median:  0 | mean:  0
`nu` mean: 1.69735147626627
Marginal errors | max: 5.14174422185931e-05 | median 1.6818224857218e-07 | mean: 5.57649710835051e-06
Total calculations elapsed time: 18.154705286026
Estimate `dispersion`/`nu`: DONE
Calculate genes' COEX (legacy): START
Retrieving expected genes' contingency table
calculating NN.. done
calculating NY..YN..YY..t().. done
Expected genes' contingency table elapsed time: 2.3268940448761
Calculating genes' COEX normalization factor
Calculate genes' normalization factor elapsed time: 0.00051569938659668
Retrieving observed genes' yes/yes contingency table
calculating YY.. done
Observed genes' contingency table elapsed time: 0.0013573169708252
Estimating genes' COEX
Calculate genes' COEX elapsed time: 0.799701929092407
Total calculations elapsed time: 3.12846899032593
Calculate genes' COEX (legacy): DONE
Calculating S: START
Calculating S: DONE
Calculating G: START
calculating YY.. done
calculating YN..NY..NN..t().. done
calculating NN.. done
calculating NY..YN..YY..t().. done
Estimating G
Total calculations elapsed time: 5.56155204772949
Calculating G: DONE
Using S
Calculating S: START
Calculating S: DONE
calculating PValues: START
Get p-values genome wide on columns and genome wide on rows
Total calculations elapsed time: 0.0020442008972168
calculating PValues: DONE
Using G
Calculating G: START
calculating YY.. done
calculating YN..NY..NN..t().. done
calculating NN.. done
calculating NY..YN..YY..t().. done
Estimating G
Total calculations elapsed time: 5.65438675880432
Calculating G: DONE
calculating PValues: START
Get p-values on a set of genes on columns and on a set of genes on rows
Total calculations elapsed time: 5.65552449226379
calculating PValues: DONE
Calculate GDI dataframe: START
Using S
Calculating S: START
Calculating S: DONE
Calculate `GDI`: START
Effective number of cores used: 1
Executing 1 genes batches
Total calculations elapsed time: 0.00299882888793945
Calculate `GDI`: DONE
Total calculations elapsed time: 2.4770085811615
Calculate GDI dataframe: DONE
Calculate GDI dataframe: START
Using G
Calculating G: START
calculating YY.. done
calculating YN..NY..NN..t().. done
calculating NN.. done
calculating NY..YN..YY..t().. done
Estimating G
Total calculations elapsed time: 5.57626843452454
Calculating G: DONE
Calculate `GDI`: START
Effective number of cores used: 1
Executing 1 genes batches
Total calculations elapsed time: 0.00322556495666504
Calculate `GDI`: DONE
Total calculations elapsed time: 7.92843985557556
Calculate GDI dataframe: DONE
Calculate `GDI`: START
Calculating S: START
Calculating S: DONE
Effective number of cores used: 1
Executing 1 genes batches
Total calculations elapsed time: 0.00454974174499512
Calculate `GDI`: DONE
Calculate `GDI`: START
Effective number of cores used: 1
Executing 1 genes batches
Total calculations elapsed time: 0.00351095199584961
Calculate `GDI`: DONE
Initializing `COTAN` meta-data
COTAN dataset analysis: START
Genes/cells selection done: dropped [0] genes and [0] cells
Working on [600] genes and [1000] cells
Dataset cleaning elapsed time: 0.808021783828735
Estimate `dispersion`: START
Effective number of cores used: 1
Executing 1 genes batches
Parallel dispersion Newton-Raphson: used up to 7 iterations
Total calculations elapsed time: 1.7810332775116
Estimate `dispersion`: DONE
Estimate `dispersion`: DONE
`dispersion` | min: -0.0529252975916502 | max: 462.908586418992 | % negative: 17.3333333333333
Model parameter estimation elapsed time: 2.56198787689209
COTAN genes' COEX estimation: START
While trying to load the `torch` library Error in doTryCatch(return(expr), name, parentenv, handler): The `torch` library is installed but the required additional libraries are not available yet

Calculate genes' COEX (legacy): START
Retrieving expected genes' contingency table
calculating NN.. done
calculating NY..YN..YY..t().. done
Expected genes' contingency table elapsed time: 2.66307473182678
Calculating genes' COEX normalization factor
Calculate genes' normalization factor elapsed time: 0.00570559501647949
Retrieving observed genes' yes/yes contingency table
calculating YY.. done
Observed genes' contingency table elapsed time: 0.061037540435791
Estimating genes' COEX
Calculate genes' COEX elapsed time: 0.759849548339844
Total calculations elapsed time: 3.4896674156189
Calculate genes' COEX (legacy): DONE
Only genes' COEX elapsed time: 4.26041460037231
Dataset analysis elapsed time: 7.63042426109314
COTAN dataset analysis: DONE
Initializing `COTAN` meta-data
Condition test
n cells 1000
COTAN dataset analysis: START
Genes/cells selection done: dropped [0] genes and [0] cells
Working on [600] genes and [1000] cells
Dataset cleaning elapsed time: 0.799619674682617
Estimate `dispersion`: START
Effective number of cores used: 1
Executing 1 genes batches
Parallel dispersion Newton-Raphson: used up to 7 iterations
Total calculations elapsed time: 1.89394378662109
Estimate `dispersion`: DONE
Estimate `dispersion`: DONE
`dispersion` | min: -0.0529252975916502 | max: 462.908586418992 | % negative: 17.3333333333333
Model parameter estimation elapsed time: 2.73477149009705
COTAN genes' COEX estimation: START
While trying to load the `torch` library Error in doTryCatch(return(expr), name, parentenv, handler): The `torch` library is installed but the required additional libraries are not available yet

Calculate genes' COEX (legacy): START
Retrieving expected genes' contingency table
calculating NN.. done
calculating NY..YN..YY..t().. done
Expected genes' contingency table elapsed time: 2.72992849349976
Calculating genes' COEX normalization factor
Calculate genes' normalization factor elapsed time: 0.00561904907226562
Retrieving observed genes' yes/yes contingency table
calculating YY.. done
Observed genes' contingency table elapsed time: 0.0606775283813477
Estimating genes' COEX
Calculate genes' COEX elapsed time: 0.758316516876221
Total calculations elapsed time: 3.55454158782959
Calculate genes' COEX (legacy): DONE
Only genes' COEX elapsed time: 4.31579923629761
Dataset analysis elapsed time: 7.85019040107727
COTAN dataset analysis: DONE
Using S
Calculating S: START
Calculating S: DONE
calculating PValues: START
Get p-values on a set of genes on columns and on a set of genes on rows
Total calculations elapsed time: 0.0186898708343506
calculating PValues: DONE
Calculate GDI dataframe: START
Using S
Calculating S: START
Calculating S: DONE
Calculate `GDI`: START
Effective number of cores used: 1
Executing 1 genes batches
Total calculations elapsed time: 0.0299110412597656
Calculate `GDI`: DONE
Total calculations elapsed time: 2.39182233810425
Calculate GDI dataframe: DONE
Initializing `COTAN` meta-data
Condition test
n cells 1000
COTAN dataset analysis: START
Genes/cells selection done: dropped [0] genes and [0] cells
Working on [600] genes and [1000] cells
Dataset cleaning elapsed time: 0.775346040725708
Estimate `dispersion`: START
Effective number of cores used: 1
Executing 1 genes batches
Parallel dispersion Newton-Raphson: used up to 7 iterations
Total calculations elapsed time: 1.77885866165161
Estimate `dispersion`: DONE
Estimate `dispersion`: DONE
`dispersion` | min: -0.0529252975916502 | max: 462.908586418992 | % negative: 17.3333333333333
Model parameter estimation elapsed time: 2.58522009849548
COTAN genes' COEX estimation: START
While trying to load the `torch` library Error in doTryCatch(return(expr), name, parentenv, handler): The `torch` library is installed but the required additional libraries are not available yet

Calculate genes' COEX (legacy): START
Retrieving expected genes' contingency table
calculating NN.. done
calculating NY..YN..YY..t().. done
Expected genes' contingency table elapsed time: 2.69511890411377
Calculating genes' COEX normalization factor
Calculate genes' normalization factor elapsed time: 0.0054314136505127
Retrieving observed genes' yes/yes contingency table
calculating YY.. done
Observed genes' contingency table elapsed time: 0.0608305931091309
Estimating genes' COEX
Calculate genes' COEX elapsed time: 0.795122146606445
Total calculations elapsed time: 3.55650305747986
Calculate genes' COEX (legacy): DONE
Only genes' COEX elapsed time: 4.3618266582489
Dataset analysis elapsed time: 7.72239279747009
COTAN dataset analysis: DONE
Using S
Calculating S: START
Calculating S: DONE
calculating PValues: START
Get p-values on a set of genes on columns and genome wide on rows
Total calculations elapsed time: 0.0146346092224121
calculating PValues: DONE
Calculate GDI dataframe: START
Using S
Calculating S: START
Calculating S: DONE
Calculate `GDI`: START
Effective number of cores used: 1
Executing 1 genes batches
Total calculations elapsed time: 0.0298149585723877
Calculate `GDI`: DONE
Total calculations elapsed time: 2.34231328964233
Calculate GDI dataframe: DONE
Initializing `COTAN` meta-data
Condition test
n cells 1000
COTAN dataset analysis: START
Genes/cells selection done: dropped [0] genes and [0] cells
Working on [600] genes and [1000] cells
Dataset cleaning elapsed time: 0.772870302200317
Estimate `dispersion`: START
Effective number of cores used: 1
Executing 1 genes batches
Parallel dispersion Newton-Raphson: used up to 7 iterations
Total calculations elapsed time: 1.75401091575623
Estimate `dispersion`: DONE
Estimate `dispersion`: DONE
`dispersion` | min: -0.0529252975916502 | max: 462.908586418992 | % negative: 17.3333333333333
Model parameter estimation elapsed time: 2.52610015869141
COTAN genes' COEX estimation: START
While trying to load the `torch` library Error in doTryCatch(return(expr), name, parentenv, handler): The `torch` library is installed but the required additional libraries are not available yet

Calculate genes' COEX (legacy): START
Retrieving expected genes' contingency table
calculating NN.. done
calculating NY..YN..YY..t().. done
Expected genes' contingency table elapsed time: 2.67928314208984
Calculating genes' COEX normalization factor
Calculate genes' normalization factor elapsed time: 0.00552463531494141
Retrieving observed genes' yes/yes contingency table
calculating YY.. done
Observed genes' contingency table elapsed time: 0.060842752456665
Estimating genes' COEX
Calculate genes' COEX elapsed time: 0.795555591583252
Total calculations elapsed time: 3.5412061214447
Calculate genes' COEX (legacy): DONE
Only genes' COEX elapsed time: 4.30999445915222
Dataset analysis elapsed time: 7.60896492004395
COTAN dataset analysis: DONE
Using S
Calculating S: START
Calculating S: DONE
calculating PValues: START
Get p-values on a set of genes on columns and on a set of genes on rows
Total calculations elapsed time: 0.00485777854919434
calculating PValues: DONE
Calculate GDI dataframe: START
Using S
Calculating S: START
Calculating S: DONE
Calculate `GDI`: START
Effective number of cores used: 1
Executing 1 genes batches
Total calculations elapsed time: 0.0299615859985352
Calculate `GDI`: DONE
Total calculations elapsed time: 2.45008420944214
Calculate GDI dataframe: DONE
Initializing `COTAN` meta-data
Asked to drop 0 genes and 960 cells
COTAN dataset analysis: START
Asked to drop 83 genes and 0 cells
Genes/cells selection done: dropped [83] genes and [0] cells
Working on [517] genes and [40] cells
Dataset cleaning elapsed time: 0.800438165664673
Estimate `dispersion`: START
Effective number of cores used: 1
Executing 1 genes batches
Parallel dispersion Newton-Raphson: used up to 7 iterations
Total calculations elapsed time: 1.81106090545654
Estimate `dispersion`: DONE
Estimate `dispersion`: DONE
`dispersion` | min: -0.267567793681876 | max: 101.923257389521 | % negative: 52.6112185686654
Model parameter estimation elapsed time: 2.6500027179718
COTAN genes' COEX estimation not requested
Only genes' COEX elapsed time: 0.809573888778687
Dataset analysis elapsed time: 4.26001477241516
COTAN dataset analysis: DONE
Calculate genes' COEX (legacy): START
Retrieving expected genes' contingency table
calculating NN.. done
calculating NY..YN..YY..t().. done
Expected genes' contingency table elapsed time: 2.44993376731873
Calculating genes' COEX normalization factor
Calculate genes' normalization factor elapsed time: 0.00464105606079102
Retrieving observed genes' yes/yes contingency table
calculating YY.. done
Observed genes' contingency table elapsed time: 0.012150764465332
Estimating genes' COEX
Calculate genes' COEX elapsed time: 0.79207181930542
Total calculations elapsed time: 3.25879740715027
Calculate genes' COEX (legacy): DONE
While trying to load the `torch` library Error in doTryCatch(return(expr), name, parentenv, handler): The `torch` library is installed but the required additional libraries are not available yet

Calculate genes' COEX (legacy): START
Retrieving expected genes' contingency table
calculating NN.. done
calculating NY..YN..YY..t().. done
Expected genes' contingency table elapsed time: 2.36494183540344
Calculating genes' COEX normalization factor
Calculate genes' normalization factor elapsed time: 0.0047297477722168
Retrieving observed genes' yes/yes contingency table
calculating YY.. done
Observed genes' contingency table elapsed time: 0.0121932029724121
Estimating genes' COEX
Calculate genes' COEX elapsed time: 0.857658863067627
Total calculations elapsed time: 3.2395236492157
Calculate genes' COEX (legacy): DONE
While trying to load the `torch` library Error in doTryCatch(return(expr), name, parentenv, handler): The `torch` library is installed but the required additional libraries are not available yet

Calculate genes' COEX (legacy): START
Retrieving expected genes' contingency table
calculating NN.. done
calculating NY..YN..YY..t().. done
Expected genes' contingency table elapsed time: 2.60336518287659
Calculating genes' COEX normalization factor
Calculate genes' normalization factor elapsed time: 0.00470519065856934
Retrieving observed genes' yes/yes contingency table
calculating YY.. done
Observed genes' contingency table elapsed time: 0.0124108791351318
Estimating genes' COEX
Calculate genes' COEX elapsed time: 0.807304382324219
Total calculations elapsed time: 3.42778563499451
Calculate genes' COEX (legacy): DONE
Hangling COTAN object with condition: test
Using S
Calculating S: START
Calculating S: DONE
calculating PValues: START
Get p-values on a set of genes on columns and on a set of genes on rows
Total calculations elapsed time: 0.00400161743164062
calculating PValues: DONE
Handling genes type: G2
Handling genes type: G3
Initializing `COTAN` meta-data
COTAN dataset analysis: START
Genes/cells selection done: dropped [0] genes and [0] cells
Working on [600] genes and [1000] cells
Clean plots: START
PCA: START
PCA: DONE
Hierarchical clustering: START
Hierarchical clustering: DONE
Total calculations elapsed time: 1.88733983039856
Clean plots: DONE
Dataset cleaning elapsed time: 4.00809073448181
Estimate `dispersion`: START
Effective number of cores used: 1
Executing 1 genes batches
Parallel dispersion Newton-Raphson: used up to 7 iterations
Total calculations elapsed time: 1.94298601150513
Estimate `dispersion`: DONE
Estimate `dispersion`: DONE
`dispersion` | min: -0.0529252975916502 | max: 462.908586418992 | % negative: 17.3333333333333
Model parameter estimation elapsed time: 2.76977682113647
COTAN genes' COEX estimation: START
While trying to load the `torch` library Error in doTryCatch(return(expr), name, parentenv, handler): The `torch` library is installed but the required additional libraries are not available yet

Calculate genes' COEX (legacy): START
Retrieving expected genes' contingency table
calculating NN.. done
calculating NY..YN..YY..t().. done
Expected genes' contingency table elapsed time: 2.96558737754822
Calculating genes' COEX normalization factor
Calculate genes' normalization factor elapsed time: 0.00607585906982422
Retrieving observed genes' yes/yes contingency table
calculating YY.. done
Observed genes' contingency table elapsed time: 0.0634758472442627
Estimating genes' COEX
Calculate genes' COEX elapsed time: 0.86611795425415
Total calculations elapsed time: 3.90125703811646
Calculate genes' COEX (legacy): DONE
Only genes' COEX elapsed time: 4.78808903694153
Dataset analysis elapsed time: 11.5659565925598
COTAN dataset analysis: DONE
Saving elaborated data locally at: /tmp/Rtmp1DhBnB/test.cotan.RDS
Creating new clusterization: START
Elaborating Reduced dimensionality Data Matrix - START
Elaborating COEX Eigen Vectors - START
Elaborating COEX Eigen Vectors - DONE
Total calculations elapsed time: 2.68015217781067
Elaborating Reduced dimensionality Data Matrix - DONE
Computing nearest neighbor graph
Computing SNN
Modularity Optimizer version 1.3.0 by Ludo Waltman and Nees Jan van Eck

Number of nodes: 1000
Number of edges: 44886

Running Louvain algorithm with multilevel refinement...
0%   10   20   30   40   50   60   70   80   90   100%
[----|----|----|----|----|----|----|----|----|----|
**************************************************|
Maximum modularity in 10 random starts: 0.4008
Number of communities: 4
Elapsed time: 0 seconds
Used resolution for Seurat clusterization is: 1.3
Total calculations elapsed time: 3.6329243183136
Creating new clusterization: DONE
Creating cells' uniform clustering: START
In iteration 1 the number of cells to re-cluster is 1000 cells belonging to 0 clusters
Asked to drop no genes or cells
Creating new clusterization: START
Elaborating Reduced dimensionality Data Matrix - START
Elaborating COEX Eigen Vectors - START
Elaborating COEX Eigen Vectors - DONE
Total calculations elapsed time: 3.09397721290588
Elaborating Reduced dimensionality Data Matrix - DONE
Computing nearest neighbor graph
Computing SNN
Modularity Optimizer version 1.3.0 by Ludo Waltman and Nees Jan van Eck

Number of nodes: 1000
Number of edges: 36652

Running Louvain algorithm with multilevel refinement...
0%   10   20   30   40   50   60   70   80   90   100%
[----|----|----|----|----|----|----|----|----|----|
**************************************************|
Maximum modularity in 10 random starts: 0.3743
Number of communities: 4
Elapsed time: 0 seconds
Used resolution for Seurat clusterization is: 1.3
Total calculations elapsed time: 3.97083806991577
Creating new clusterization: DONE
Creating PDF UMAP in file:  /tmp/Rtmp1DhBnB/test/reclustering/pdf_umap_1.pdf
UMAP plot: START
Calculating UMAP: START
22:38:40 UMAP embedding parameters a = 0.9922 b = 1.112
22:38:40 Read 1000 rows and found 65 numeric columns
22:38:40 Using Annoy for neighbor search, n_neighbors = 30
22:38:40 Building Annoy index with metric = cosine, n_trees = 50
0%   10   20   30   40   50   60   70   80   90   100%
[----|----|----|----|----|----|----|----|----|----|
**************************************************|
22:38:40 Writing NN index file to temp file /tmp/Rtmp1DhBnB/file31d83432d3fd7d
22:38:40 Searching Annoy index using 1 thread, search_k = 3000
22:38:40 Annoy recall = 100%
22:38:41 Commencing smooth kNN distance calibration using 1 thread with target n_neighbors = 30
22:38:43 Initializing from normalized Laplacian + noise (using RSpectra)
22:38:43 Commencing optimization for 500 epochs, with 39044 positive edges
22:38:43 Using rng type: pcg
Using method 'umap'
0%   10   20   30   40   50   60   70   80   90   100%
[----|----|----|----|----|----|----|----|----|----|
**************************************************|
22:38:45 Optimization finished
Calculating UMAP: DONE
Total calculations elapsed time: 5.37622785568237
UMAP plot: DONE
UMAP plot: START
Calculating UMAP: START
22:38:45 UMAP embedding parameters a = 0.9922 b = 1.112
22:38:45 Read 1000 rows and found 65 numeric columns
22:38:45 Using Annoy for neighbor search, n_neighbors = 30
22:38:45 Building Annoy index with metric = cosine, n_trees = 50
0%   10   20   30   40   50   60   70   80   90   100%
[----|----|----|----|----|----|----|----|----|----|
**************************************************|
22:38:45 Writing NN index file to temp file /tmp/Rtmp1DhBnB/file31d8343b2e538e
22:38:45 Searching Annoy index using 1 thread, search_k = 3000
22:38:46 Annoy recall = 100%
22:38:47 Commencing smooth kNN distance calibration using 1 thread with target n_neighbors = 30
22:38:48 Initializing from normalized Laplacian + noise (using RSpectra)
22:38:48 Commencing optimization for 500 epochs, with 39044 positive edges
22:38:48 Using rng type: pcg
Using method 'umap'
0%   10   20   30   40   50   60   70   80   90   100%
[----|----|----|----|----|----|----|----|----|----|
**************************************************|
22:38:51 Optimization finished
Calculating UMAP: DONE
Total calculations elapsed time: 5.37713027000427
UMAP plot: DONE
* checking uniformity of cluster '0' of 4 clusters
Asked to drop 0 genes and 687 cells
COTAN dataset analysis: START
Asked to drop 43 genes and 0 cells
Genes/cells selection done: dropped [43] genes and [0] cells
Working on [557] genes and [313] cells
Dataset cleaning elapsed time: 0.903749465942383
Estimate `dispersion`: START
Effective number of cores used: 1
Executing 1 genes batches
Parallel dispersion Newton-Raphson: used up to 11 iterations
Total calculations elapsed time: 2.06997752189636
Estimate `dispersion`: DONE
Estimate `dispersion`: DONE
`dispersion` | min: -0.126565269702225 | max: 788.372048308528 | % negative: 38.5996409335727
Model parameter estimation elapsed time: 3.01014971733093
COTAN genes' COEX estimation: START
While trying to load the `torch` library Error in doTryCatch(return(expr), name, parentenv, handler): The `torch` library is installed but the required additional libraries are not available yet

Calculate genes' COEX (legacy): START
Retrieving expected genes' contingency table
calculating NN.. done
calculating NY..YN..YY..t().. done
Expected genes' contingency table elapsed time: 3.28632760047913
Calculating genes' COEX normalization factor
Calculate genes' normalization factor elapsed time: 0.00545430183410645
Retrieving observed genes' yes/yes contingency table
calculating YY.. done
Observed genes' contingency table elapsed time: 0.0312199592590332
Estimating genes' COEX
Calculate genes' COEX elapsed time: 1.19597363471985
Total calculations elapsed time: 4.51897549629211
Calculate genes' COEX (legacy): DONE
Only genes' COEX elapsed time: 5.59189105033875
Dataset analysis elapsed time: 9.50579023361206
COTAN dataset analysis: DONE
Checking uniformity for the cluster '01_0000' with 313 cells
Calculate GDI dataframe: START
Using S
Calculating S: START
Calculating S: DONE
Calculate `GDI`: START
Effective number of cores used: 1
Executing 1 genes batches
Total calculations elapsed time: 0.0289340019226074
Calculate `GDI`: DONE
Total calculations elapsed time: 3.16250157356262
Calculate GDI dataframe: DONE
Clean plots: START
Total calculations elapsed time: 0.0408334732055664
Clean plots: DONE
GDI plot
Removed 0 low GDI genes (such as the fully-expressed) in GDI plot
Cluster 01_0000, with size 313, is uniform
Cluster 01_0000's shift to uniformity: -0.0175178017151365
class = AdvancedGDIUniformityCheck, firstCheck.isCheckAbove = FALSE, firstCheck.GDIThreshold = 1.397, firstCheck.maxRatioBeyond = 0.05, firstCheck.maxRankBeyond = 0, firstCheck.fractionBeyond = 0.0412926391382406, firstCheck.thresholdRank = 0, firstCheck.quantileAtRatio = 1.37948219828486, firstCheck.quantileAtRank = NaN, secondCheck.isCheckAbove = TRUE, secondCheck.GDIThreshold = 1.407, secondCheck.maxRatioBeyond = 0.02, secondCheck.maxRankBeyond = 0, secondCheck.fractionBeyond = 0.0323159784560144, secondCheck.thresholdRank = 0, secondCheck.quantileAtRatio = 1.43089123341141, secondCheck.quantileAtRank = NaN, thirdCheck.isCheckAbove = FALSE, thirdCheck.GDIThreshold = 1.5, thirdCheck.maxRatioBeyond = 0.01, thirdCheck.maxRankBeyond = 0, thirdCheck.fractionBeyond = 0.00179533213644524, thirdCheck.thresholdRank = 0, thirdCheck.quantileAtRatio = 1.44383613651627, thirdCheck.quantileAtRank = NaN, fourthCheck.isCheckAbove = FALSE, fourthCheck.GDIThreshold = 1.5, fourthCheck.maxRatioBeyond = NaN, fourthCheck.maxRankBeyond = 2, fourthCheck.fractionBeyond = NaN, fourthCheck.thresholdRank = 1, fourthCheck.quantileAtRatio = NaN, fourthCheck.quantileAtRank = 1.47612588512221, isUniform = TRUE, clusterSize = 313
cluster 01_0000 is uniform

* checking uniformity of cluster '1' of 4 clusters
Asked to drop 0 genes and 743 cells
COTAN dataset analysis: START
Asked to drop 51 genes and 0 cells
Genes/cells selection done: dropped [51] genes and [0] cells
Working on [549] genes and [257] cells
Dataset cleaning elapsed time: 0.981306552886963
Estimate `dispersion`: START
Effective number of cores used: 1
Executing 1 genes batches
Parallel dispersion Newton-Raphson: used up to 10 iterations
Total calculations elapsed time: 1.92154932022095
Estimate `dispersion`: DONE
Estimate `dispersion`: DONE
`dispersion` | min: -0.112503099391263 | max: 646.681464270838 | % negative: 40.8014571948998
Model parameter estimation elapsed time: 2.82557058334351
COTAN genes' COEX estimation: START
While trying to load the `torch` library Error in doTryCatch(return(expr), name, parentenv, handler): The `torch` library is installed but the required additional libraries are not available yet

Calculate genes' COEX (legacy): START
Retrieving expected genes' contingency table
calculating NN.. done
calculating NY..YN..YY..t().. done
Expected genes' contingency table elapsed time: 2.81561493873596
Calculating genes' COEX normalization factor
Calculate genes' normalization factor elapsed time: 0.00488710403442383
Retrieving observed genes' yes/yes contingency table
calculating YY.. done
Observed genes' contingency table elapsed time: 0.0279769897460938
Estimating genes' COEX
Calculate genes' COEX elapsed time: 0.898945331573486
Total calculations elapsed time: 3.74742436408997
Calculate genes' COEX (legacy): DONE
Only genes' COEX elapsed time: 4.6445415019989
Dataset analysis elapsed time: 8.45141863822937
COTAN dataset analysis: DONE
Checking uniformity for the cluster '01_0001' with 257 cells
Calculate GDI dataframe: START
Using S
Calculating S: START
Calculating S: DONE
Calculate `GDI`: START
Effective number of cores used: 1
Executing 1 genes batches
Total calculations elapsed time: 0.0270988941192627
Calculate `GDI`: DONE
Total calculations elapsed time: 2.93986010551453
Calculate GDI dataframe: DONE
Clean plots: START
Total calculations elapsed time: 0.0387370586395264
Clean plots: DONE
GDI plot
Removed 1 low GDI genes (such as the fully-expressed) in GDI plot
Cluster 01_0001, with size 257, is uniform
Cluster 01_0001's shift to uniformity: -0.0466523594846431
class = AdvancedGDIUniformityCheck, firstCheck.isCheckAbove = FALSE, firstCheck.GDIThreshold = 1.397, firstCheck.maxRatioBeyond = 0.05, firstCheck.maxRankBeyond = 0, firstCheck.fractionBeyond = 0.00910746812386157, firstCheck.thresholdRank = 0, firstCheck.quantileAtRatio = 1.35034764051536, firstCheck.quantileAtRank = NaN, secondCheck.isCheckAbove = TRUE, secondCheck.GDIThreshold = 1.407, secondCheck.maxRatioBeyond = 0.02, secondCheck.maxRankBeyond = 0, secondCheck.fractionBeyond = 0.00728597449908925, secondCheck.thresholdRank = 0, secondCheck.quantileAtRatio = 1.37278730407697, secondCheck.quantileAtRank = NaN, thirdCheck.isCheckAbove = FALSE, thirdCheck.GDIThreshold = 1.5, thirdCheck.maxRatioBeyond = 0.01, thirdCheck.maxRankBeyond = 0, thirdCheck.fractionBeyond = 0, thirdCheck.thresholdRank = 0, thirdCheck.quantileAtRatio = 1.38664163146849, thirdCheck.quantileAtRank = NaN, fourthCheck.isCheckAbove = FALSE, fourthCheck.GDIThreshold = 1.5, fourthCheck.maxRatioBeyond = NaN, fourthCheck.maxRankBeyond = 2, fourthCheck.fractionBeyond = NaN, fourthCheck.thresholdRank = 0, fourthCheck.quantileAtRatio = NaN, fourthCheck.quantileAtRank = 1.45240567481124, isUniform = TRUE, clusterSize = 257
cluster 01_0001 is uniform

* checking uniformity of cluster '2' of 4 clusters
Asked to drop 0 genes and 758 cells
COTAN dataset analysis: START
Asked to drop 77 genes and 0 cells
Genes/cells selection done: dropped [77] genes and [0] cells
Working on [523] genes and [242] cells
Dataset cleaning elapsed time: 0.944247961044312
Estimate `dispersion`: START
Effective number of cores used: 1
Executing 1 genes batches
Parallel dispersion Newton-Raphson: used up to 7 iterations
Total calculations elapsed time: 2.02960991859436
Estimate `dispersion`: DONE
Estimate `dispersion`: DONE
`dispersion` | min: -0.166254045792573 | max: 224.924342782861 | % negative: 42.6386233269598
Model parameter estimation elapsed time: 3.03541803359985
COTAN genes' COEX estimation: START
While trying to load the `torch` library Error in doTryCatch(return(expr), name, parentenv, handler): The `torch` library is installed but the required additional libraries are not available yet

Calculate genes' COEX (legacy): START
Retrieving expected genes' contingency table
calculating NN.. done
calculating NY..YN..YY..t().. done
Expected genes' contingency table elapsed time: 3.14127111434937
Calculating genes' COEX normalization factor
Calculate genes' normalization factor elapsed time: 0.00522541999816895
Retrieving observed genes' yes/yes contingency table
calculating YY.. done
Observed genes' contingency table elapsed time: 0.0263302326202393
Estimating genes' COEX
Calculate genes' COEX elapsed time: 0.929147481918335
Total calculations elapsed time: 4.10197424888611
Calculate genes' COEX (legacy): DONE
Only genes' COEX elapsed time: 5.13705849647522
Dataset analysis elapsed time: 9.11672449111938
COTAN dataset analysis: DONE
Checking uniformity for the cluster '01_0002' with 242 cells
Calculate GDI dataframe: START
Using S
Calculating S: START
Calculating S: DONE
Calculate `GDI`: START
Effective number of cores used: 1
Executing 1 genes batches
Total calculations elapsed time: 0.0252683162689209
Calculate `GDI`: DONE
Total calculations elapsed time: 3.18333721160889
Calculate GDI dataframe: DONE
Clean plots: START
Total calculations elapsed time: 0.0394077301025391
Clean plots: DONE
GDI plot
Removed 2 low GDI genes (such as the fully-expressed) in GDI plot
Cluster 01_0002, with size 242, is uniform
Cluster 01_0002's shift to uniformity: -0.0473527936300242
class = AdvancedGDIUniformityCheck, firstCheck.isCheckAbove = FALSE, firstCheck.GDIThreshold = 1.397, firstCheck.maxRatioBeyond = 0.05, firstCheck.maxRankBeyond = 0, firstCheck.fractionBeyond = 0.00764818355640535, firstCheck.thresholdRank = 0, firstCheck.quantileAtRatio = 1.34964720636998, firstCheck.quantileAtRank = NaN, secondCheck.isCheckAbove = TRUE, secondCheck.GDIThreshold = 1.407, secondCheck.maxRatioBeyond = 0.02, secondCheck.maxRankBeyond = 0, secondCheck.fractionBeyond = 0.00764818355640535, secondCheck.thresholdRank = 0, secondCheck.quantileAtRatio = 1.37472946305404, secondCheck.quantileAtRank = NaN, thirdCheck.isCheckAbove = FALSE, thirdCheck.GDIThreshold = 1.5, thirdCheck.maxRatioBeyond = 0.01, thirdCheck.maxRankBeyond = 0, thirdCheck.fractionBeyond = 0, thirdCheck.thresholdRank = 0, thirdCheck.quantileAtRatio = 1.38771313919654, thirdCheck.quantileAtRank = NaN, fourthCheck.isCheckAbove = FALSE, fourthCheck.GDIThreshold = 1.5, fourthCheck.maxRatioBeyond = NaN, fourthCheck.maxRankBeyond = 2, fourthCheck.fractionBeyond = NaN, fourthCheck.thresholdRank = 0, fourthCheck.quantileAtRatio = NaN, fourthCheck.quantileAtRank = 1.43097703442027, isUniform = TRUE, clusterSize = 242
cluster 01_0002 is uniform

* checking uniformity of cluster '3' of 4 clusters
Asked to drop 0 genes and 812 cells
COTAN dataset analysis: START
Asked to drop 79 genes and 0 cells
Genes/cells selection done: dropped [79] genes and [0] cells
Working on [521] genes and [188] cells
Dataset cleaning elapsed time: 1.06839871406555
Estimate `dispersion`: START
Effective number of cores used: 1
Executing 1 genes batches
Parallel dispersion Newton-Raphson: used up to 6 iterations
Total calculations elapsed time: 2.23776936531067
Estimate `dispersion`: DONE
Estimate `dispersion`: DONE
`dispersion` | min: -0.210007411487223 | max: 67.8701314818728 | % negative: 45.6813819577735
Model parameter estimation elapsed time: 3.15918517112732
COTAN genes' COEX estimation: START
While trying to load the `torch` library Error in doTryCatch(return(expr), name, parentenv, handler): The `torch` library is installed but the required additional libraries are not available yet

Calculate genes' COEX (legacy): START
Retrieving expected genes' contingency table
calculating NN.. done
calculating NY..YN..YY..t().. done
Expected genes' contingency table elapsed time: 3.00565624237061
Calculating genes' COEX normalization factor
Calculate genes' normalization factor elapsed time: 0.0046389102935791
Retrieving observed genes' yes/yes contingency table
calculating YY.. done
Observed genes' contingency table elapsed time: 0.0230965614318848
Estimating genes' COEX
Calculate genes' COEX elapsed time: 0.956790447235107
Total calculations elapsed time: 3.99018216133118
Calculate genes' COEX (legacy): DONE
Only genes' COEX elapsed time: 4.94859671592712
Dataset analysis elapsed time: 9.17618060112
COTAN dataset analysis: DONE
Checking uniformity for the cluster '01_0003' with 188 cells
Calculate GDI dataframe: START
Using S
Calculating S: START
Calculating S: DONE
Calculate `GDI`: START
Effective number of cores used: 1
Executing 1 genes batches
Total calculations elapsed time: 0.025949239730835
Calculate `GDI`: DONE
Total calculations elapsed time: 3.1288378238678
Calculate GDI dataframe: DONE
Clean plots: START
Total calculations elapsed time: 0.0380938053131104
Clean plots: DONE
GDI plot
Removed 4 low GDI genes (such as the fully-expressed) in GDI plot
Cluster 01_0003, with size 188, is uniform
Cluster 01_0003's shift to uniformity: -0.0672912272435866
class = AdvancedGDIUniformityCheck, firstCheck.isCheckAbove = FALSE, firstCheck.GDIThreshold = 1.397, firstCheck.maxRatioBeyond = 0.05, firstCheck.maxRankBeyond = 0, firstCheck.fractionBeyond = 0.00383877159309021, firstCheck.thresholdRank = 0, firstCheck.quantileAtRatio = 1.32970877275641, firstCheck.quantileAtRank = NaN, secondCheck.isCheckAbove = TRUE, secondCheck.GDIThreshold = 1.407, secondCheck.maxRatioBeyond = 0.02, secondCheck.maxRankBeyond = 0, secondCheck.fractionBeyond = 0.00191938579654511, secondCheck.thresholdRank = 0, secondCheck.quantileAtRatio = 1.35752445041521, secondCheck.quantileAtRank = NaN, thirdCheck.isCheckAbove = FALSE, thirdCheck.GDIThreshold = 1.5, thirdCheck.maxRatioBeyond = 0.01, thirdCheck.maxRankBeyond = 0, thirdCheck.fractionBeyond = 0, thirdCheck.thresholdRank = 0, thirdCheck.quantileAtRatio = 1.37495297633956, thirdCheck.quantileAtRank = NaN, fourthCheck.isCheckAbove = FALSE, fourthCheck.GDIThreshold = 1.5, fourthCheck.maxRatioBeyond = NaN, fourthCheck.maxRankBeyond = 2, fourthCheck.fractionBeyond = NaN, fourthCheck.thresholdRank = 0, fourthCheck.quantileAtRatio = NaN, fourthCheck.quantileAtRank = 1.4014884302523, isUniform = TRUE, clusterSize = 188
cluster 01_0003 is uniform


Found 4 uniform and  0 non-uniform clusters
Stopping: too few cells left to cluster
Unclustered cell left: 0
The final raw clusterization contains [ 4 ] different clusters: 01_0000, 01_0001, 01_0002, 01_0003
Differential Expression Analysis - START
* DEA on cluster '1' with 313 cells
* DEA on cluster '2' with 257 cells
* DEA on cluster '3' with 242 cells
* DEA on cluster '4' with 188 cells

Total calculations elapsed time: 0.0577132701873779
Differential Expression Analysis - DONE
Applied reordering to clusterization is:
1  ->  3, 2  ->  1, 3  ->  2, 4  ->  4
Total calculations elapsed time: 80.9723658561707
Creating cells' uniform clustering: DONE
Applied reordering to clusterization is:
1  ->  1, 2  ->  2, 3  ->  3, 4  ->  4
Asked to drop 0 genes and 812 cells
COTAN dataset analysis: START
Asked to drop 79 genes and 0 cells
Genes/cells selection done: dropped [79] genes and [0] cells
Working on [521] genes and [188] cells
Dataset cleaning elapsed time: 0.948820114135742
Estimate `dispersion`: START
Effective number of cores used: 1
Executing 1 genes batches
Parallel dispersion Newton-Raphson: used up to 6 iterations
Total calculations elapsed time: 1.89896535873413
Estimate `dispersion`: DONE
Estimate `dispersion`: DONE
`dispersion` | min: -0.210007411487223 | max: 67.8701314818728 | % negative: 45.6813819577735
Model parameter estimation elapsed time: 2.88294792175293
COTAN genes' COEX estimation: START
While trying to load the `torch` library Error in doTryCatch(return(expr), name, parentenv, handler): The `torch` library is installed but the required additional libraries are not available yet

Calculate genes' COEX (legacy): START
Retrieving expected genes' contingency table
calculating NN.. done
calculating NY..YN..YY..t().. done
Expected genes' contingency table elapsed time: 2.87991070747375
Calculating genes' COEX normalization factor
Calculate genes' normalization factor elapsed time: 0.00465869903564453
Retrieving observed genes' yes/yes contingency table
calculating YY.. done
Observed genes' contingency table elapsed time: 0.0237348079681396
Estimating genes' COEX
Calculate genes' COEX elapsed time: 0.867862224578857
Total calculations elapsed time: 3.7761664390564
Calculate genes' COEX (legacy): DONE
Only genes' COEX elapsed time: 4.70021796226501
Dataset analysis elapsed time: 8.53198599815369
COTAN dataset analysis: DONE
Checking uniformity for the cluster 'Cluster_4' with 188 cells
Calculate GDI dataframe: START
Using S
Calculating S: START
Calculating S: DONE
Calculate `GDI`: START
Effective number of cores used: 1
Executing 1 genes batches
Total calculations elapsed time: 0.0250046253204346
Calculate `GDI`: DONE
Total calculations elapsed time: 2.79899215698242
Calculate GDI dataframe: DONE
Clean plots: START
Total calculations elapsed time: 0.0355596542358398
Clean plots: DONE
GDI plot
Removed 4 low GDI genes (such as the fully-expressed) in GDI plot
Cluster Cluster_4, with size 188, is uniform
Cluster Cluster_4's shift to uniformity: -0.0672912272435866
class = AdvancedGDIUniformityCheck, firstCheck.isCheckAbove = FALSE, firstCheck.GDIThreshold = 1.397, firstCheck.maxRatioBeyond = 0.05, firstCheck.maxRankBeyond = 0, firstCheck.fractionBeyond = 0.00383877159309021, firstCheck.thresholdRank = 0, firstCheck.quantileAtRatio = 1.32970877275641, firstCheck.quantileAtRank = NaN, secondCheck.isCheckAbove = TRUE, secondCheck.GDIThreshold = 1.407, secondCheck.maxRatioBeyond = 0.02, secondCheck.maxRankBeyond = 0, secondCheck.fractionBeyond = 0.00191938579654511, secondCheck.thresholdRank = 0, secondCheck.quantileAtRatio = 1.35752445041521, secondCheck.quantileAtRank = NaN, thirdCheck.isCheckAbove = FALSE, thirdCheck.GDIThreshold = 1.5, thirdCheck.maxRatioBeyond = 0.01, thirdCheck.maxRankBeyond = 0, thirdCheck.fractionBeyond = 0, thirdCheck.thresholdRank = 0, thirdCheck.quantileAtRatio = 1.37495297633956, thirdCheck.quantileAtRank = NaN, fourthCheck.isCheckAbove = FALSE, fourthCheck.GDIThreshold = 1.5, fourthCheck.maxRatioBeyond = NaN, fourthCheck.maxRankBeyond = 2, fourthCheck.fractionBeyond = NaN, fourthCheck.thresholdRank = 0, fourthCheck.quantileAtRatio = NaN, fourthCheck.quantileAtRank = 1.4014884302523, isUniform = TRUE, clusterSize = 188
Differential Expression Analysis - START
* DEA on cluster '-1' with 50 cells
* DEA on cluster '1' with 257 cells
* DEA on cluster '2' with 242 cells
* DEA on cluster '3' with 280 cells
* DEA on cluster '4' with 171 cells

Total calculations elapsed time: 0.0303893089294434
Differential Expression Analysis - DONE
Applied reordering to clusterization is:
1  ->  4, 2  ->  3, 3  ->  2, 4  ->  1, -1  ->  -1
Applied reordering to clusterization is:
1  ->  1, 2  ->  2, 3  ->  3, 4  ->  4, -1  ->  -1
Creating cells' uniform clustering: START
In iteration 1 the number of cells to re-cluster is 1000 cells belonging to 0 clusters
Asked to drop no genes or cells
Creating new clusterization: START
Elaborating Reduced dimensionality Data Matrix - START
Running genes' selection: START
Normalizing layer: counts
Performing log-normalization
0%   10   20   30   40   50   60   70   80   90   100%
[----|----|----|----|----|----|----|----|----|----|
**************************************************|
Finding variable features for layer counts
Calculating gene variances
0%   10   20   30   40   50   60   70   80   90   100%
[----|----|----|----|----|----|----|----|----|----|
**************************************************|
Calculating feature variances of standardized and clipped values
0%   10   20   30   40   50   60   70   80   90   100%
[----|----|----|----|----|----|----|----|----|----|
**************************************************|
Selected 600 genes using HVG_Seurat selector
Running genes' selection: DONE
Elaborating PCA - START
Elaborating PCA - DONE
Total calculations elapsed time: 3.38160562515259
Elaborating Reduced dimensionality Data Matrix - DONE
Computing nearest neighbor graph
Computing SNN
Modularity Optimizer version 1.3.0 by Ludo Waltman and Nees Jan van Eck

Number of nodes: 1000
Number of edges: 67288

Running Louvain algorithm with multilevel refinement...
0%   10   20   30   40   50   60   70   80   90   100%
[----|----|----|----|----|----|----|----|----|----|
**************************************************|
Maximum modularity in 10 random starts: 0.3650
Number of communities: 5
Elapsed time: 0 seconds
Used resolution for Seurat clusterization is: 1.3
Total calculations elapsed time: 4.35924458503723
Creating new clusterization: DONE
Using passed in clusterization
Creating PDF UMAP in file:  /tmp/Rtmp1DhBnB/test/reclustering/pdf_umap_1.pdf
UMAP plot: START
Calculating UMAP: START
22:40:16 UMAP embedding parameters a = 0.9922 b = 1.112
22:40:16 Read 1000 rows and found 40 numeric columns
22:40:16 Using Annoy for neighbor search, n_neighbors = 30
22:40:16 Building Annoy index with metric = cosine, n_trees = 50
0%   10   20   30   40   50   60   70   80   90   100%
[----|----|----|----|----|----|----|----|----|----|
**************************************************|
22:40:16 Writing NN index file to temp file /tmp/Rtmp1DhBnB/file31d83448ce0d1f
22:40:16 Searching Annoy index using 1 thread, search_k = 3000
22:40:17 Annoy recall = 100%
22:40:18 Commencing smooth kNN distance calibration using 1 thread with target n_neighbors = 30
22:40:20 Found 2 connected components, falling back to 'spca' initialization with init_sdev = 1
22:40:20 Using 'irlba' for PCA
22:40:20 PCA: 2 components explained 36.15% variance
22:40:20 Scaling init to sdev = 1
22:40:20 Commencing optimization for 500 epochs, with 41630 positive edges
22:40:20 Using rng type: pcg
Using method 'umap'
0%   10   20   30   40   50   60   70   80   90   100%
[----|----|----|----|----|----|----|----|----|----|
**************************************************|
22:40:22 Optimization finished
Calculating UMAP: DONE
Total calculations elapsed time: 5.94721150398254
UMAP plot: DONE
UMAP plot: START
Calculating UMAP: START
22:40:22 UMAP embedding parameters a = 0.9922 b = 1.112
22:40:22 Read 1000 rows and found 40 numeric columns
22:40:22 Using Annoy for neighbor search, n_neighbors = 30
22:40:22 Building Annoy index with metric = cosine, n_trees = 50
0%   10   20   30   40   50   60   70   80   90   100%
[----|----|----|----|----|----|----|----|----|----|
**************************************************|
22:40:23 Writing NN index file to temp file /tmp/Rtmp1DhBnB/file31d8343cdd8919
22:40:23 Searching Annoy index using 1 thread, search_k = 3000
22:40:23 Annoy recall = 100%
22:40:24 Commencing smooth kNN distance calibration using 1 thread with target n_neighbors = 30
22:40:26 Found 2 connected components, falling back to 'spca' initialization with init_sdev = 1
22:40:26 Using 'irlba' for PCA
22:40:26 PCA: 2 components explained 36.15% variance
22:40:26 Scaling init to sdev = 1
22:40:26 Commencing optimization for 500 epochs, with 41630 positive edges
22:40:26 Using rng type: pcg
Using method 'umap'
0%   10   20   30   40   50   60   70   80   90   100%
[----|----|----|----|----|----|----|----|----|----|
**************************************************|
22:40:28 Optimization finished
Calculating UMAP: DONE
Total calculations elapsed time: 5.59454774856567
UMAP plot: DONE
* checking uniformity of cluster '1' of 2 clusters
Asked to drop 0 genes and 500 cells
COTAN dataset analysis: START
Asked to drop 38 genes and 0 cells
Genes/cells selection done: dropped [38] genes and [0] cells
Working on [562] genes and [500] cells
Dataset cleaning elapsed time: 0.899509906768799
Estimate `dispersion`: START
Effective number of cores used: 1
Executing 1 genes batches
Parallel dispersion Newton-Raphson: used up to 7 iterations
Total calculations elapsed time: 1.85901188850403
Estimate `dispersion`: DONE
Estimate `dispersion`: DONE
`dispersion` | min: -0.108871643378045 | max: 295.971778839086 | % negative: 35.0533807829181
Model parameter estimation elapsed time: 2.73609852790833
COTAN genes' COEX estimation: START
While trying to load the `torch` library Error in doTryCatch(return(expr), name, parentenv, handler): The `torch` library is installed but the required additional libraries are not available yet

Calculate genes' COEX (legacy): START
Retrieving expected genes' contingency table
calculating NN.. done
calculating NY..YN..YY..t().. done
Expected genes' contingency table elapsed time: 3.03911566734314
Calculating genes' COEX normalization factor
Calculate genes' normalization factor elapsed time: 0.00756478309631348
Retrieving observed genes' yes/yes contingency table
calculating YY.. done
Observed genes' contingency table elapsed time: 0.0396344661712646
Estimating genes' COEX
Calculate genes' COEX elapsed time: 1.02871656417847
Total calculations elapsed time: 4.11503148078918
Calculate genes' COEX (legacy): DONE
Only genes' COEX elapsed time: 5.11858224868774
Dataset analysis elapsed time: 8.75419068336487
COTAN dataset analysis: DONE
Checking uniformity for the cluster '01_0001' with 500 cells
Calculate GDI dataframe: START
Using S
Calculating S: START
Calculating S: DONE
Calculate `GDI`: START
Effective number of cores used: 1
Executing 1 genes batches
Total calculations elapsed time: 0.0302078723907471
Calculate `GDI`: DONE
Total calculations elapsed time: 3.48235940933228
Calculate GDI dataframe: DONE
Clean plots: START
Total calculations elapsed time: 0.037771463394165
Clean plots: DONE
GDI plot
Removed 2 low GDI genes (such as the fully-expressed) in GDI plot
Cluster 01_0001, with size 500, is uniform
Cluster 01_0001's shift to uniformity: -0.041730199066494
class = AdvancedGDIUniformityCheck, firstCheck.isCheckAbove = FALSE, firstCheck.GDIThreshold = 1.397, firstCheck.maxRatioBeyond = 0.05, firstCheck.maxRankBeyond = 0, firstCheck.fractionBeyond = 0.0124555160142349, firstCheck.thresholdRank = 0, firstCheck.quantileAtRatio = 1.35526980093351, firstCheck.quantileAtRank = NaN, secondCheck.isCheckAbove = TRUE, secondCheck.GDIThreshold = 1.407, secondCheck.maxRatioBeyond = 0.02, secondCheck.maxRankBeyond = 0, secondCheck.fractionBeyond = 0.00889679715302491, secondCheck.thresholdRank = 0, secondCheck.quantileAtRatio = 1.38536328181495, secondCheck.quantileAtRank = NaN, thirdCheck.isCheckAbove = FALSE, thirdCheck.GDIThreshold = 1.5, thirdCheck.maxRatioBeyond = 0.01, thirdCheck.maxRankBeyond = 0, thirdCheck.fractionBeyond = 0, thirdCheck.thresholdRank = 0, thirdCheck.quantileAtRatio = 1.40346106115492, thirdCheck.quantileAtRank = NaN, fourthCheck.isCheckAbove = FALSE, fourthCheck.GDIThreshold = 1.5, fourthCheck.maxRatioBeyond = NaN, fourthCheck.maxRankBeyond = 2, fourthCheck.fractionBeyond = NaN, fourthCheck.thresholdRank = 0, fourthCheck.quantileAtRatio = NaN, fourthCheck.quantileAtRank = 1.42565794715045, isUniform = TRUE, clusterSize = 500
cluster 01_0001 is uniform

* checking uniformity of cluster '2' of 2 clusters
Asked to drop 0 genes and 500 cells
COTAN dataset analysis: START
Asked to drop 44 genes and 0 cells
Genes/cells selection done: dropped [44] genes and [0] cells
Working on [556] genes and [500] cells
Dataset cleaning elapsed time: 1.17828917503357
Estimate `dispersion`: START
Effective number of cores used: 1
Executing 1 genes batches
Parallel dispersion Newton-Raphson: used up to 7 iterations
Total calculations elapsed time: 2.50245189666748
Estimate `dispersion`: DONE
Estimate `dispersion`: DONE
`dispersion` | min: -0.0636486786621688 | max: 141.389145035675 | % negative: 36.1510791366906
Model parameter estimation elapsed time: 3.79833269119263
COTAN genes' COEX estimation: START
While trying to load the `torch` library Error in doTryCatch(return(expr), name, parentenv, handler): The `torch` library is installed but the required additional libraries are not available yet

Calculate genes' COEX (legacy): START
Retrieving expected genes' contingency table
calculating NN.. done
calculating NY..YN..YY..t().. done
Expected genes' contingency table elapsed time: 3.08195090293884
Calculating genes' COEX normalization factor
Calculate genes' normalization factor elapsed time: 0.00489091873168945
Retrieving observed genes' yes/yes contingency table
calculating YY.. done
Observed genes' contingency table elapsed time: 0.0373389720916748
Estimating genes' COEX
Calculate genes' COEX elapsed time: 0.82588005065918
Total calculations elapsed time: 3.95006084442139
Calculate genes' COEX (legacy): DONE
Only genes' COEX elapsed time: 4.78774690628052
Dataset analysis elapsed time: 9.76436877250671
COTAN dataset analysis: DONE
Checking uniformity for the cluster '01_0002' with 500 cells
Calculate GDI dataframe: START
Using S
Calculating S: START
Calculating S: DONE
Calculate `GDI`: START
Effective number of cores used: 1
Executing 1 genes batches
Total calculations elapsed time: 0.0285167694091797
Calculate `GDI`: DONE
Total calculations elapsed time: 2.91746997833252
Calculate GDI dataframe: DONE
Clean plots: START
Total calculations elapsed time: 0.0354118347167969
Clean plots: DONE
GDI plot
Removed 2 low GDI genes (such as the fully-expressed) in GDI plot
Cluster 01_0002, with size 500, is uniform
Cluster 01_0002's shift to uniformity: -0.0413872276843505
class = AdvancedGDIUniformityCheck, firstCheck.isCheckAbove = FALSE, firstCheck.GDIThreshold = 1.397, firstCheck.maxRatioBeyond = 0.05, firstCheck.maxRankBeyond = 0, firstCheck.fractionBeyond = 0.00719424460431655, firstCheck.thresholdRank = 0, firstCheck.quantileAtRatio = 1.35561277231565, firstCheck.quantileAtRank = NaN, secondCheck.isCheckAbove = TRUE, secondCheck.GDIThreshold = 1.407, secondCheck.maxRatioBeyond = 0.02, secondCheck.maxRankBeyond = 0, secondCheck.fractionBeyond = 0.00359712230215827, secondCheck.thresholdRank = 0, secondCheck.quantileAtRatio = 1.37204026755188, secondCheck.quantileAtRank = NaN, thirdCheck.isCheckAbove = FALSE, thirdCheck.GDIThreshold = 1.5, thirdCheck.maxRatioBeyond = 0.01, thirdCheck.maxRankBeyond = 0, thirdCheck.fractionBeyond = 0, thirdCheck.thresholdRank = 0, thirdCheck.quantileAtRatio = 1.38757136821537, thirdCheck.quantileAtRank = NaN, fourthCheck.isCheckAbove = FALSE, fourthCheck.GDIThreshold = 1.5, fourthCheck.maxRatioBeyond = NaN, fourthCheck.maxRankBeyond = 2, fourthCheck.fractionBeyond = NaN, fourthCheck.thresholdRank = 0, fourthCheck.quantileAtRatio = NaN, fourthCheck.quantileAtRank = 1.40876953414106, isUniform = TRUE, clusterSize = 500
cluster 01_0002 is uniform


Found 2 uniform and  0 non-uniform clusters
Stopping: too few cells left to cluster
Unclustered cell left: 0
The final raw clusterization contains [ 2 ] different clusters: 01_0001, 01_0002
Differential Expression Analysis - START
* DEA on cluster '1' with 500 cells
* DEA on cluster '2' with 500 cells

Total calculations elapsed time: 0.0351009368896484
Differential Expression Analysis - DONE
Applied reordering to clusterization is:
1  ->  1, 2  ->  2
Total calculations elapsed time: 50.5133790969849
Creating cells' uniform clustering: DONE
findClustersMarkers - START
Log Fold Change Analysis - START
* Analysis of cluster: '1'
* Analysis of cluster: '2'
* Analysis of cluster: '3'
* Analysis of cluster: '4'

Total calculations elapsed time: 4.56795120239258
Log Fold Change Analysis - DONE
Total calculations elapsed time: 4.58076024055481
findClustersMarkers - DONE
findClustersMarkers - START
Log Fold Change Analysis - START
* Analysis of cluster: '1'
* Analysis of cluster: '2'
* Analysis of cluster: '3'
* Analysis of cluster: '4'

Total calculations elapsed time: 4.20634198188782
Log Fold Change Analysis - DONE
Total calculations elapsed time: 4.2168071269989
findClustersMarkers - DONE
findClustersMarkers - START
Differential Expression Analysis - START
* DEA on cluster '1' with 257 cells
* DEA on cluster '2' with 242 cells
* DEA on cluster '3' with 313 cells
* DEA on cluster '4' with 188 cells

Total calculations elapsed time: 0.0291750431060791
Differential Expression Analysis - DONE
Log Fold Change Analysis - START
* Analysis of cluster: '1'
* Analysis of cluster: '2'
* Analysis of cluster: '3'
* Analysis of cluster: '4'

Total calculations elapsed time: 3.96190810203552
Log Fold Change Analysis - DONE
Total calculations elapsed time: 3.99996447563171
findClustersMarkers - DONE
[1] "Tested cluster: 1"
Asked to drop 0 genes and 743 cells
COTAN dataset analysis: START
Asked to drop 51 genes and 0 cells
Genes/cells selection done: dropped [51] genes and [0] cells
Working on [549] genes and [257] cells
Dataset cleaning elapsed time: 1.0621280670166
Estimate `dispersion`: START
Effective number of cores used: 1
Executing 1 genes batches
Parallel dispersion Newton-Raphson: used up to 10 iterations
Total calculations elapsed time: 1.95864939689636
Estimate `dispersion`: DONE
Estimate `dispersion`: DONE
`dispersion` | min: -0.112503099391263 | max: 646.681464270838 | % negative: 40.8014571948998
Model parameter estimation elapsed time: 2.93468308448792
COTAN genes' COEX estimation: START
While trying to load the `torch` library Error in doTryCatch(return(expr), name, parentenv, handler): The `torch` library is installed but the required additional libraries are not available yet

Calculate genes' COEX (legacy): START
Retrieving expected genes' contingency table
calculating NN.. done
calculating NY..YN..YY..t().. done
Expected genes' contingency table elapsed time: 3.30715274810791
Calculating genes' COEX normalization factor
Calculate genes' normalization factor elapsed time: 0.00530171394348145
Retrieving observed genes' yes/yes contingency table
calculating YY.. done
Observed genes' contingency table elapsed time: 0.0284123420715332
Estimating genes' COEX
Calculate genes' COEX elapsed time: 0.977543115615845
Total calculations elapsed time: 4.31840991973877
Calculate genes' COEX (legacy): DONE
Only genes' COEX elapsed time: 5.36202788352966
Dataset analysis elapsed time: 9.35883903503418
COTAN dataset analysis: DONE
Calculate GDI dataframe: START
Using S
Calculating S: START
Calculating S: DONE
Calculate `GDI`: START
Effective number of cores used: 1
Executing 1 genes batches
Total calculations elapsed time: 0.0285511016845703
Calculate `GDI`: DONE
Total calculations elapsed time: 3.26521396636963
Calculate GDI dataframe: DONE
Genes/cells selection done: dropped [0] genes and [0] cells
Working on [10] genes and [20] cells
Initializing `COTAN` meta-data
Genes/cells selection done: dropped [0] genes and [0] cells
Working on [600] genes and [1000] cells
Estimate `dispersion`: START
Effective number of cores used: 1
Executing 1 genes batches
Parallel dispersion Newton-Raphson: used up to 7 iterations
Total calculations elapsed time: 1.98311114311218
Estimate `dispersion`: DONE
Estimate `dispersion`: DONE
`dispersion` | min: -0.0529252975916502 | max: 462.908586418992 | % negative: 17.3333333333333
Initializing `COTAN` meta-data
COTAN dataset analysis: START
Genes/cells selection done: dropped [0] genes and [0] cells
Working on [600] genes and [1000] cells
Dataset cleaning elapsed time: 0.868318557739258
Estimate `dispersion`: START
Effective number of cores used: 1
Executing 1 genes batches
Parallel dispersion Newton-Raphson: used up to 7 iterations
Total calculations elapsed time: 2.07978534698486
Estimate `dispersion`: DONE
Estimate `dispersion`: DONE
`dispersion` | min: -0.0529252975916502 | max: 462.908586418992 | % negative: 17.3333333333333
Model parameter estimation elapsed time: 3.02066850662231
COTAN genes' COEX estimation not requested
Only genes' COEX elapsed time: 0.954975605010986
Dataset analysis elapsed time: 4.84396266937256
COTAN dataset analysis: DONE
Normalizing layer: counts
Performing log-normalization
0%   10   20   30   40   50   60   70   80   90   100%
[----|----|----|----|----|----|----|----|----|----|
**************************************************|
Finding variable features for layer counts
Calculating gene variances
0%   10   20   30   40   50   60   70   80   90   100%
[----|----|----|----|----|----|----|----|----|----|
**************************************************|
Calculating feature variances of standardized and clipped values
0%   10   20   30   40   50   60   70   80   90   100%
[----|----|----|----|----|----|----|----|----|----|
**************************************************|
Centering and scaling data matrix

  |                                                                            
  |                                                                      |   0%
  |                                                                            
  |======================================================================| 100%
PC_ 1 
Positive:  g-000397, g-000525, g-000460, g-000458, g-000535, g-000217, g-000194, g-000497, g-000432, g-000383 
	   g-000318, g-000486, g-000464, g-000588, g-000549, g-000368, g-000252, g-000151, g-000209, g-000538 
	   g-000325, g-000514, g-000524, g-000244, g-000320, g-000201, g-000499, g-000309, g-000290, g-000483 
Negative:  g-000415, g-000506, g-000496, g-000579, g-000572, g-000421, g-000455, g-000328, g-000178, g-000567 
	   g-000405, g-000296, g-000387, g-000501, g-000493, g-000481, g-000343, g-000528, g-000551, g-000414 
	   g-000367, g-000594, g-000159, g-000517, g-000574, g-000229, g-000222, g-000533, g-000243, g-000306 
PC_ 2 
Positive:  g-000141, g-000093, g-000089, g-000033, g-000123, g-000557, g-000330, g-000156, g-000142, g-000095 
	   g-000061, g-000235, g-000032, g-000186, g-000056, g-000259, g-000027, g-000041, g-000333, g-000386 
	   g-000009, g-000395, g-000048, g-000116, g-000340, g-000418, g-000035, g-000332, g-000086, g-000040 
Negative:  g-000088, g-000158, g-000255, g-000115, g-000054, g-000472, g-000554, g-000391, g-000253, g-000226 
	   g-000051, g-000147, g-000541, g-000077, g-000224, g-000194, g-000290, g-000293, g-000313, g-000118 
	   g-000121, g-000220, g-000467, g-000500, g-000341, g-000039, g-000091, g-000249, g-000426, g-000288 
PC_ 3 
Positive:  g-000126, g-000083, g-000086, g-000117, g-000130, g-000010, g-000498, g-000333, g-000047, g-000179 
	   g-000340, g-000035, g-000531, g-000140, g-000527, g-000049, g-000316, g-000031, g-000014, g-000073 
	   g-000218, g-000445, g-000129, g-000175, g-000105, g-000581, g-000404, g-000025, g-000266, g-000354 
Negative:  g-000096, g-000575, g-000370, g-000337, g-000319, g-000364, g-000308, g-000293, g-000147, g-000307 
	   g-000038, g-000492, g-000541, g-000185, g-000008, g-000482, g-000562, g-000097, g-000222, g-000084 
	   g-000141, g-000377, g-000224, g-000223, g-000136, g-000434, g-000277, g-000426, g-000139, g-000093 
PC_ 4 
Positive:  g-000006, g-000043, g-000462, g-000279, g-000180, g-000576, g-000087, g-000584, g-000498, g-000333 
	   g-000189, g-000088, g-000451, g-000059, g-000135, g-000281, g-000106, g-000429, g-000316, g-000578 
	   g-000303, g-000031, g-000581, g-000026, g-000122, g-000561, g-000546, g-000164, g-000353, g-000300 
Negative:  g-000072, g-000012, g-000129, g-000052, g-000097, g-000262, g-000080, g-000056, g-000025, g-000092 
	   g-000354, g-000334, g-000423, g-000228, g-000002, g-000010, g-000086, g-000147, g-000185, g-000172 
	   g-000124, g-000009, g-000077, g-000476, g-000126, g-000145, g-000065, g-000268, g-000152, g-000348 
PC_ 5 
Positive:  g-000105, g-000037, g-000110, g-000054, g-000090, g-000389, g-000022, g-000578, g-000289, g-000147 
	   g-000547, g-000011, g-000477, g-000433, g-000200, g-000348, g-000404, g-000003, g-000250, g-000109 
	   g-000402, g-000241, g-000595, g-000341, g-000560, g-000385, g-000413, g-000352, g-000573, g-000265 
Negative:  g-000051, g-000150, g-000088, g-000476, g-000344, g-000116, g-000428, g-000012, g-000523, g-000394 
	   g-000101, g-000127, g-000069, g-000214, g-000049, g-000357, g-000075, g-000081, g-000576, g-000342 
	   g-000439, g-000018, g-000070, g-000079, g-000015, g-000550, g-000600, g-000247, g-000218, g-000331 
Computing nearest neighbor graph
Computing SNN
Modularity Optimizer version 1.3.0 by Ludo Waltman and Nees Jan van Eck

Number of nodes: 1000
Number of edges: 68107

Running Louvain algorithm with multilevel refinement...
0%   10   20   30   40   50   60   70   80   90   100%
[----|----|----|----|----|----|----|----|----|----|
**************************************************|
Maximum modularity in 10 random starts: 0.5999
Number of communities: 2
Elapsed time: 0 seconds
Clusterizations found: RNA_snn_res.0.8, seurat_clusters
Conditions found: orig.ident
COTAN dataset analysis: START
Genes/cells selection done: dropped [0] genes and [0] cells
Working on [600] genes and [1000] cells
Dataset cleaning elapsed time: 0.931466102600098
Estimate `dispersion`: START
Effective number of cores used: 1
Executing 1 genes batches
Parallel dispersion Newton-Raphson: used up to 7 iterations
Total calculations elapsed time: 2.10901665687561
Estimate `dispersion`: DONE
Estimate `dispersion`: DONE
`dispersion` | min: -0.0529252975916502 | max: 462.908586418992 | % negative: 17.3333333333333
Model parameter estimation elapsed time: 3.03905701637268
COTAN genes' COEX estimation not requested
Only genes' COEX elapsed time: 0.951955795288086
Dataset analysis elapsed time: 4.92247891426086
COTAN dataset analysis: DONE
COTAN dataset analysis: START
Genes/cells selection done: dropped [0] genes and [0] cells
Working on [600] genes and [1000] cells
Dataset cleaning elapsed time: 1.19080448150635
Estimate `dispersion`: START
Effective number of cores used: 1
Executing 1 genes batches
Parallel dispersion Newton-Raphson: used up to 7 iterations
Total calculations elapsed time: 2.18007373809814
Estimate `dispersion`: DONE
Estimate `dispersion`: DONE
`dispersion` | min: -0.0529252975916502 | max: 462.908586418992 | % negative: 17.3333333333333
Model parameter estimation elapsed time: 3.12333154678345
COTAN genes' COEX estimation: START
While trying to load the `torch` library Error in doTryCatch(return(expr), name, parentenv, handler): The `torch` library is installed but the required additional libraries are not available yet

Calculate genes' COEX (legacy): START
Retrieving expected genes' contingency table
calculating NN.. done
calculating NY..YN..YY..t().. done
Expected genes' contingency table elapsed time: 3.26482582092285
Calculating genes' COEX normalization factor
Calculate genes' normalization factor elapsed time: 0.00570106506347656
Retrieving observed genes' yes/yes contingency table
calculating YY.. done
Observed genes' contingency table elapsed time: 0.064795970916748
Estimating genes' COEX
Calculate genes' COEX elapsed time: 0.933395624160767
Total calculations elapsed time: 4.26871848106384
Calculate genes' COEX (legacy): DONE
Only genes' COEX elapsed time: 5.23399710655212
Dataset analysis elapsed time: 9.54813313484192
COTAN dataset analysis: DONE
Calculating gene co-expression space - START
Using S
Calculating S: START
Calculating S: DONE
calculating PValues: START
Get p-values on a set of genes on columns and genome wide on rows
Total calculations elapsed time: 0.00482869148254395
calculating PValues: DONE
Number of selected secondary markers: 6
Calculating S: START
Calculating S: DONE
Calculate `GDI`: START
Effective number of cores used: 1
Executing 1 genes batches
Total calculations elapsed time: 0.00820064544677734
Calculate `GDI`: DONE
Number of columns (V set - secondary markers): 6
Number of rows (U set): 60
Total calculations elapsed time: 0.914897918701172
Calculating gene co-expression space - DONE
Calculating gene co-expression space - START
Using S
Calculating S: START
Calculating S: DONE
calculating PValues: START
Get p-values on a set of genes on columns and genome wide on rows
Total calculations elapsed time: 0.00634956359863281
calculating PValues: DONE
Number of selected secondary markers: 98
Calculating S: START
Calculating S: DONE
Calculate `GDI`: START
Effective number of cores used: 1
Executing 1 genes batches
Total calculations elapsed time: 0.00777578353881836
Calculate `GDI`: DONE
Number of columns (V set - secondary markers): 98
Number of rows (U set): 60
Total calculations elapsed time: 0.935709714889526
Calculating gene co-expression space - DONE
Establishing gene clusters - START
Calculating gene co-expression space - START
Using S
Calculating S: START
Calculating S: DONE
calculating PValues: START
Get p-values on a set of genes on columns and genome wide on rows
Total calculations elapsed time: 0.00617146492004395
calculating PValues: DONE
Number of selected secondary markers: 98
Calculating S: START
Calculating S: DONE
Calculate `GDI`: START
Effective number of cores used: 1
Executing 1 genes batches
Total calculations elapsed time: 0.00778651237487793
Calculate `GDI`: DONE
Number of columns (V set - secondary markers): 98
Number of rows (U set): 60
Total calculations elapsed time: 0.86967134475708
Calculating gene co-expression space - DONE
Total calculations elapsed time: 0.932592868804932
Establishing gene clusters - DONE
Initializing `COTAN` meta-data
COTAN dataset analysis: START
Genes/cells selection done: dropped [0] genes and [0] cells
Working on [600] genes and [1000] cells
Dataset cleaning elapsed time: 0.878656387329102
Estimate `dispersion`: START
Effective number of cores used: 1
Executing 1 genes batches
Parallel dispersion Newton-Raphson: used up to 7 iterations
Total calculations elapsed time: 1.95270419120789
Estimate `dispersion`: DONE
Estimate `dispersion`: DONE
`dispersion` | min: -0.0529252975916502 | max: 462.908586418992 | % negative: 17.3333333333333
Model parameter estimation elapsed time: 2.86293745040894
COTAN genes' COEX estimation not requested
Only genes' COEX elapsed time: 0.86359691619873
Dataset analysis elapsed time: 4.60519075393677
COTAN dataset analysis: DONE
Differential Expression Analysis - START
* DEA on cluster '1' with 257 cells
* DEA on cluster '2' with 242 cells
* DEA on cluster '3' with 313 cells
* DEA on cluster '4' with 188 cells

Total calculations elapsed time: 0.0368776321411133
Differential Expression Analysis - DONE
Log Fold Change Analysis - START
* Analysis of cluster: '1'
* Analysis of cluster: '2'
* Analysis of cluster: '3'
* Analysis of cluster: '4'

Total calculations elapsed time: 3.51483416557312
Log Fold Change Analysis - DONE
clustersDeltaExpression - START
Handling cluster '1' with mean UDE 1.10997640736885
Handling cluster '2' with mean UDE 1.00770245700749
Handling cluster '3' with mean UDE 0.95940682189354
Handling cluster '4' with mean UDE 0.907328369455933
clustersDeltaExpression - DONE
In group G1 there are 3 detected over 3 genes
In group G2 there are 2 detected over 3 genes
In group G3 there are 5 detected over 5 genes
Merging cells' uniform clustering: START
The merge algorithm will use 2 passes
Start merging nearest clusters - the main threshold is: 1.297
Start merging nearest clusters: iteration 1
Differential Expression Analysis - START
* DEA on cluster '1' with 257 cells
* DEA on cluster '2' with 242 cells
* DEA on cluster '3' with 313 cells
* DEA on cluster '4' with 188 cells

Total calculations elapsed time: 0.0410406589508057
Differential Expression Analysis - DONE
Updating check results for the 0 already tested pairs to align to new checker
1 new clusters pairs to be tested for merging:
c("1", "2")
*1_2-merge
Asked to drop 0 genes and 501 cells
COTAN dataset analysis: START
Asked to drop 16 genes and 0 cells
Genes/cells selection done: dropped [16] genes and [0] cells
Working on [584] genes and [499] cells
Dataset cleaning elapsed time: 0.873262405395508
Estimate `dispersion`: START
Effective number of cores used: 1
Executing 1 genes batches
Parallel dispersion Newton-Raphson: used up to 10 iterations
Total calculations elapsed time: 1.82375383377075
Estimate `dispersion`: DONE
Estimate `dispersion`: DONE
`dispersion` | min: -0.0608154544840047 | max: 1260.06995351592 | % negative: 35.6164383561644
Model parameter estimation elapsed time: 2.66496968269348
COTAN genes' COEX estimation: START
While trying to load the `torch` library Error in doTryCatch(return(expr), name, parentenv, handler): The `torch` library is installed but the required additional libraries are not available yet

Calculate genes' COEX (legacy): START
Retrieving expected genes' contingency table
calculating NN.. done
calculating NY..YN..YY..t().. done
Expected genes' contingency table elapsed time: 2.77662301063538
Calculating genes' COEX normalization factor
Calculate genes' normalization factor elapsed time: 0.00699472427368164
Retrieving observed genes' yes/yes contingency table
calculating YY.. done
Observed genes' contingency table elapsed time: 0.0409712791442871
Estimating genes' COEX
Calculate genes' COEX elapsed time: 0.969906330108643
Total calculations elapsed time: 3.79449534416199
Calculate genes' COEX (legacy): DONE
Only genes' COEX elapsed time: 4.74082446098328
Dataset analysis elapsed time: 8.27905654907227
COTAN dataset analysis: DONE
Checking uniformity for the cluster '1_2-merge' with 499 cells
Calculate GDI dataframe: START
Using S
Calculating S: START
Calculating S: DONE
Calculate `GDI`: START
Effective number of cores used: 1
Executing 1 genes batches
Total calculations elapsed time: 0.0310616493225098
Calculate `GDI`: DONE
Total calculations elapsed time: 3.03307223320007
Calculate GDI dataframe: DONE
Clean plots: START
Total calculations elapsed time: 0.0352883338928223
Clean plots: DONE
GDI plot
Removed 1 low GDI genes (such as the fully-expressed) in GDI plot
Cluster 1_2-merge, with size 499, is not uniform
Cluster 1_2-merge's shift to uniformity: 0.0566581136434114
class = AdvancedGDIUniformityCheck, firstCheck.isCheckAbove = FALSE, firstCheck.GDIThreshold = 1.297, firstCheck.maxRatioBeyond = 0.05, firstCheck.maxRankBeyond = 0, firstCheck.fractionBeyond = 0.178082191780822, firstCheck.thresholdRank = 0, firstCheck.quantileAtRatio = 1.35365811364341, firstCheck.quantileAtRank = NaN, secondCheck.isCheckAbove = TRUE, secondCheck.GDIThreshold = 1.307, secondCheck.maxRatioBeyond = 0.02, secondCheck.maxRankBeyond = 0, secondCheck.fractionBeyond = 0.148972602739726, secondCheck.thresholdRank = 0, secondCheck.quantileAtRatio = 1.37149326865972, secondCheck.quantileAtRank = NaN, thirdCheck.isCheckAbove = FALSE, thirdCheck.GDIThreshold = 1.4, thirdCheck.maxRatioBeyond = 0.01, thirdCheck.maxRankBeyond = 0, thirdCheck.fractionBeyond = 0.00513698630136986, thirdCheck.thresholdRank = 0, thirdCheck.quantileAtRatio = 1.38256306292787, thirdCheck.quantileAtRank = NaN, fourthCheck.isCheckAbove = FALSE, fourthCheck.GDIThreshold = 1.4, fourthCheck.maxRatioBeyond = NaN, fourthCheck.maxRankBeyond = 2, fourthCheck.fractionBeyond = NaN, fourthCheck.thresholdRank = 3, fourthCheck.quantileAtRatio = NaN, fourthCheck.quantileAtRank = 1.42111642638124, isUniform = FALSE, clusterSize = 499
Clusters 1 and 2 cannot be merged
Finished the first batch - no merges were executed
Loop calculations elapsed time: 16.1389830112457
Start merging nearest clusters: iteration 2
Differential Expression Analysis - START
* DEA on cluster '1' with 257 cells
* DEA on cluster '2' with 242 cells
* DEA on cluster '3' with 313 cells
* DEA on cluster '4' with 188 cells

Total calculations elapsed time: 0.028348445892334
Differential Expression Analysis - DONE
Updating check results for the 1 already tested pairs to align to new checker
1 new clusters pairs to be tested for merging:
c("3", "4")
*3_4-merge
Asked to drop 0 genes and 499 cells
COTAN dataset analysis: START
Asked to drop 37 genes and 0 cells
Genes/cells selection done: dropped [37] genes and [0] cells
Working on [563] genes and [501] cells
Dataset cleaning elapsed time: 0.97986912727356
Estimate `dispersion`: START
Effective number of cores used: 1
Executing 1 genes batches
Parallel dispersion Newton-Raphson: used up to 11 iterations
Total calculations elapsed time: 2.01646375656128
Estimate `dispersion`: DONE
Estimate `dispersion`: DONE
`dispersion` | min: -0.107568326617881 | max: 698.639334552754 | % negative: 32.1492007104796
Model parameter estimation elapsed time: 2.90065360069275
COTAN genes' COEX estimation: START
While trying to load the `torch` library Error in doTryCatch(return(expr), name, parentenv, handler): The `torch` library is installed but the required additional libraries are not available yet

Calculate genes' COEX (legacy): START
Retrieving expected genes' contingency table
calculating NN.. done
calculating NY..YN..YY..t().. done
Expected genes' contingency table elapsed time: 3.01784682273865
Calculating genes' COEX normalization factor
Calculate genes' normalization factor elapsed time: 0.00626349449157715
Retrieving observed genes' yes/yes contingency table
calculating YY.. done
Observed genes' contingency table elapsed time: 0.0392410755157471
Estimating genes' COEX
Calculate genes' COEX elapsed time: 1.02403426170349
Total calculations elapsed time: 4.08738565444946
Calculate genes' COEX (legacy): DONE
Only genes' COEX elapsed time: 5.21349883079529
Dataset analysis elapsed time: 9.0940215587616
COTAN dataset analysis: DONE
Checking uniformity for the cluster '3_4-merge' with 501 cells
Calculate GDI dataframe: START
Using S
Calculating S: START
Calculating S: DONE
Calculate `GDI`: START
Effective number of cores used: 1
Executing 1 genes batches
Total calculations elapsed time: 0.0300240516662598
Calculate `GDI`: DONE
Total calculations elapsed time: 3.06697940826416
Calculate GDI dataframe: DONE
Clean plots: START
Total calculations elapsed time: 0.0350921154022217
Clean plots: DONE
GDI plot
Removed 0 low GDI genes (such as the fully-expressed) in GDI plot
Cluster 3_4-merge, with size 501, is not uniform
Cluster 3_4-merge's shift to uniformity: 0.0813107504723223
class = AdvancedGDIUniformityCheck, firstCheck.isCheckAbove = FALSE, firstCheck.GDIThreshold = 1.297, firstCheck.maxRatioBeyond = 0.05, firstCheck.maxRankBeyond = 0, firstCheck.fractionBeyond = 0.259325044404973, firstCheck.thresholdRank = 0, firstCheck.quantileAtRatio = 1.37831075047232, firstCheck.quantileAtRank = NaN, secondCheck.isCheckAbove = TRUE, secondCheck.GDIThreshold = 1.307, secondCheck.maxRatioBeyond = 0.02, secondCheck.maxRankBeyond = 0, secondCheck.fractionBeyond = 0.216696269982238, secondCheck.thresholdRank = 0, secondCheck.quantileAtRatio = 1.41473792188166, secondCheck.quantileAtRank = NaN, thirdCheck.isCheckAbove = FALSE, thirdCheck.GDIThreshold = 1.4, thirdCheck.maxRatioBeyond = 0.01, thirdCheck.maxRankBeyond = 0, thirdCheck.fractionBeyond = 0.0301953818827709, thirdCheck.thresholdRank = 0, thirdCheck.quantileAtRatio = 1.43341610223243, thirdCheck.quantileAtRank = NaN, fourthCheck.isCheckAbove = FALSE, fourthCheck.GDIThreshold = 1.4, fourthCheck.maxRatioBeyond = NaN, fourthCheck.maxRankBeyond = 2, fourthCheck.fractionBeyond = NaN, fourthCheck.thresholdRank = 17, fourthCheck.quantileAtRatio = NaN, fourthCheck.quantileAtRank = 1.46173948790285, isUniform = FALSE, clusterSize = 501
Clusters 3 and 4 cannot be merged
No clusters will be merged
None of the remaining tested cluster pairs could be merged
Executed all merges for threshold 1.297 out of 2 checks
Start merging nearest clusters - the main threshold is: 1.397
Start merging nearest clusters: iteration 3
Differential Expression Analysis - START
* DEA on cluster '1' with 257 cells
* DEA on cluster '2' with 242 cells
* DEA on cluster '3' with 313 cells
* DEA on cluster '4' with 188 cells

Total calculations elapsed time: 0.0313644409179688
Differential Expression Analysis - DONE
Updating check results for the 2 already tested pairs to align to new checker
1 new clusters pairs to be tested for merging:
c("2", "4")
*2_4-merge
Asked to drop 0 genes and 570 cells
COTAN dataset analysis: START
Asked to drop 9 genes and 0 cells
Genes/cells selection done: dropped [9] genes and [0] cells
Working on [591] genes and [430] cells
Dataset cleaning elapsed time: 1.01340913772583
Estimate `dispersion`: START
Effective number of cores used: 1
Executing 1 genes batches
Parallel dispersion Newton-Raphson: used up to 7 iterations
Total calculations elapsed time: 2.12740015983582
Estimate `dispersion`: DONE
Estimate `dispersion`: DONE
`dispersion` | min: -0.0739592351622374 | max: 400.051960722894 | % negative: 25.7191201353638
Model parameter estimation elapsed time: 3.1386034488678
COTAN genes' COEX estimation: START
While trying to load the `torch` library Error in doTryCatch(return(expr), name, parentenv, handler): The `torch` library is installed but the required additional libraries are not available yet

Calculate genes' COEX (legacy): START
Retrieving expected genes' contingency table
calculating NN.. done
calculating NY..YN..YY..t().. done
Expected genes' contingency table elapsed time: 3.57422399520874
Calculating genes' COEX normalization factor
Calculate genes' normalization factor elapsed time: 0.00716471672058105
Retrieving observed genes' yes/yes contingency table
calculating YY.. done
Observed genes' contingency table elapsed time: 0.0402798652648926
Estimating genes' COEX
Calculate genes' COEX elapsed time: 1.08731985092163
Total calculations elapsed time: 4.70898842811584
Calculate genes' COEX (legacy): DONE
Only genes' COEX elapsed time: 5.78977036476135
Dataset analysis elapsed time: 9.94178295135498
COTAN dataset analysis: DONE
Checking uniformity for the cluster '2_4-merge' with 430 cells
Calculate GDI dataframe: START
Using S
Calculating S: START
Calculating S: DONE
Calculate `GDI`: START
Effective number of cores used: 1
Executing 1 genes batches
Total calculations elapsed time: 0.031348705291748
Calculate `GDI`: DONE
Total calculations elapsed time: 3.16846561431885
Calculate GDI dataframe: DONE
Clean plots: START
Total calculations elapsed time: 0.0359303951263428
Clean plots: DONE
GDI plot
Removed 0 low GDI genes (such as the fully-expressed) in GDI plot
Cluster 2_4-merge, with size 430, is not uniform
Cluster 2_4-merge's shift to uniformity: 3.07228472969514
class = AdvancedGDIUniformityCheck, firstCheck.isCheckAbove = FALSE, firstCheck.GDIThreshold = 1.397, firstCheck.maxRatioBeyond = 0.05, firstCheck.maxRankBeyond = 0, firstCheck.fractionBeyond = 0.583756345177665, firstCheck.thresholdRank = 0, firstCheck.quantileAtRatio = 3.7954982715656, firstCheck.quantileAtRank = NaN, secondCheck.isCheckAbove = TRUE, secondCheck.GDIThreshold = 1.407, secondCheck.maxRatioBeyond = 0.02, secondCheck.maxRankBeyond = 0, secondCheck.fractionBeyond = 0.576988155668359, secondCheck.thresholdRank = 0, secondCheck.quantileAtRatio = 4.08354952912925, secondCheck.quantileAtRank = NaN, thirdCheck.isCheckAbove = FALSE, thirdCheck.GDIThreshold = 1.5, thirdCheck.maxRatioBeyond = 0.01, thirdCheck.maxRankBeyond = 0, thirdCheck.fractionBeyond = 0.524534686971235, thirdCheck.thresholdRank = 0, thirdCheck.quantileAtRatio = 4.42722016730736, thirdCheck.quantileAtRank = NaN, fourthCheck.isCheckAbove = FALSE, fourthCheck.GDIThreshold = 1.5, fourthCheck.maxRatioBeyond = NaN, fourthCheck.maxRankBeyond = 2, fourthCheck.fractionBeyond = NaN, fourthCheck.thresholdRank = 310, fourthCheck.quantileAtRatio = NaN, fourthCheck.quantileAtRank = 4.57228472969514, isUniform = FALSE, clusterSize = 430
Clusters 2 and 4 cannot be merged
Clusters 1 and 2 will be merged
Clusters 4 and 3 will be merged
Executed 2 merges
Loop calculations elapsed time: 18.1788551807404
Start merging nearest clusters: iteration 4
Differential Expression Analysis - START
* DEA on cluster '1_2-merge' with 499 cells
* DEA on cluster '3_4-merge' with 501 cells

Total calculations elapsed time: 0.0261650085449219
Differential Expression Analysis - DONE
Updating check results for the 3 already tested pairs to align to new checker
1 new clusters pairs to be tested for merging:
c("1_2-merge", "3_4-merge")
*1_2-merge_3_4-merge-merge
Asked to drop no genes or cells
COTAN dataset analysis: START
Genes/cells selection done: dropped [0] genes and [0] cells
Working on [600] genes and [1000] cells
Dataset cleaning elapsed time: 0.990864038467407
Estimate `dispersion`: START
Effective number of cores used: 1
Executing 1 genes batches
Parallel dispersion Newton-Raphson: used up to 7 iterations
Total calculations elapsed time: 2.14534258842468
Estimate `dispersion`: DONE
Estimate `dispersion`: DONE
`dispersion` | min: -0.0529252975916502 | max: 462.908586418992 | % negative: 17.3333333333333
Model parameter estimation elapsed time: 3.04306840896606
COTAN genes' COEX estimation: START
While trying to load the `torch` library Error in doTryCatch(return(expr), name, parentenv, handler): The `torch` library is installed but the required additional libraries are not available yet

Calculate genes' COEX (legacy): START
Retrieving expected genes' contingency table
calculating NN.. done
calculating NY..YN..YY..t().. done
Expected genes' contingency table elapsed time: 3.13697409629822
Calculating genes' COEX normalization factor
Calculate genes' normalization factor elapsed time: 0.00587582588195801
Retrieving observed genes' yes/yes contingency table
calculating YY.. done
Observed genes' contingency table elapsed time: 0.0619504451751709
Estimating genes' COEX
Calculate genes' COEX elapsed time: 0.960782051086426
Total calculations elapsed time: 4.16558241844177
Calculate genes' COEX (legacy): DONE
Only genes' COEX elapsed time: 5.16410827636719
Dataset analysis elapsed time: 9.19804072380066
COTAN dataset analysis: DONE
Checking uniformity for the cluster '1_2-merge_3_4-merge-merge' with 1000 cells
Calculate GDI dataframe: START
Using S
Calculating S: START
Calculating S: DONE
Calculate `GDI`: START
Effective number of cores used: 1
Executing 1 genes batches
Total calculations elapsed time: 0.0327332019805908
Calculate `GDI`: DONE
Total calculations elapsed time: 2.92689776420593
Calculate GDI dataframe: DONE
Clean plots: START
Total calculations elapsed time: 0.0363190174102783
Clean plots: DONE
GDI plot
Removed 0 low GDI genes (such as the fully-expressed) in GDI plot
Cluster 1_2-merge_3_4-merge-merge, with size 1000, is not uniform
Cluster 1_2-merge_3_4-merge-merge's shift to uniformity: 3.86988385120409
class = AdvancedGDIUniformityCheck, firstCheck.isCheckAbove = FALSE, firstCheck.GDIThreshold = 1.397, firstCheck.maxRatioBeyond = 0.05, firstCheck.maxRankBeyond = 0, firstCheck.fractionBeyond = 0.69, firstCheck.thresholdRank = 0, firstCheck.quantileAtRatio = 4.54596809454193, firstCheck.quantileAtRank = NaN, secondCheck.isCheckAbove = TRUE, secondCheck.GDIThreshold = 1.407, secondCheck.maxRatioBeyond = 0.02, secondCheck.maxRankBeyond = 0, secondCheck.fractionBeyond = 0.678333333333333, secondCheck.thresholdRank = 0, secondCheck.quantileAtRatio = 4.93144728766684, secondCheck.quantileAtRank = NaN, thirdCheck.isCheckAbove = FALSE, thirdCheck.GDIThreshold = 1.5, thirdCheck.maxRatioBeyond = 0.01, thirdCheck.maxRankBeyond = 0, thirdCheck.fractionBeyond = 0.593333333333333, thirdCheck.thresholdRank = 0, thirdCheck.quantileAtRatio = 5.2532296852478, thirdCheck.quantileAtRank = NaN, fourthCheck.isCheckAbove = FALSE, fourthCheck.GDIThreshold = 1.5, fourthCheck.maxRatioBeyond = NaN, fourthCheck.maxRankBeyond = 2, fourthCheck.fractionBeyond = NaN, fourthCheck.thresholdRank = 356, fourthCheck.quantileAtRatio = NaN, fourthCheck.quantileAtRank = 5.36988385120409, isUniform = FALSE, clusterSize = 1000
Clusters 1_2-merge and 3_4-merge cannot be merged
No clusters will be merged
None of the remaining tested cluster pairs could be merged
Executed all merges for threshold 1.397 out of 4 checks
The final merged clusterization contains [2] different clusters: 1_2-merge, 3_4-merge
Differential Expression Analysis - START
* DEA on cluster '1' with 499 cells
* DEA on cluster '2' with 501 cells

Total calculations elapsed time: 0.0274181365966797
Differential Expression Analysis - DONE
Applied reordering to clusterization is:
1  ->  1, 2  ->  2
Total calculations elapsed time: 68.914651632309
Merging cells' uniform clustering: DONE
Applied reordering to clusterization is:
1  ->  1, 2  ->  2
Log Fold Change Analysis - START
* Analysis of cluster: '1'
* Analysis of cluster: '2'

Total calculations elapsed time: 1.79723644256592
Log Fold Change Analysis - DONE
[1] "Tested cluster: 1"
Asked to drop 0 genes and 501 cells
COTAN dataset analysis: START
Asked to drop 16 genes and 0 cells
Genes/cells selection done: dropped [16] genes and [0] cells
Working on [584] genes and [499] cells
Dataset cleaning elapsed time: 0.918249368667603
Estimate `dispersion`: START
Effective number of cores used: 1
Executing 1 genes batches
Parallel dispersion Newton-Raphson: used up to 10 iterations
Total calculations elapsed time: 1.94368767738342
Estimate `dispersion`: DONE
Estimate `dispersion`: DONE
`dispersion` | min: -0.0608154544840047 | max: 1260.06995351592 | % negative: 35.6164383561644
Model parameter estimation elapsed time: 2.94480204582214
COTAN genes' COEX estimation: START
While trying to load the `torch` library Error in doTryCatch(return(expr), name, parentenv, handler): The `torch` library is installed but the required additional libraries are not available yet

Calculate genes' COEX (legacy): START
Retrieving expected genes' contingency table
calculating NN.. done
calculating NY..YN..YY..t().. done
Expected genes' contingency table elapsed time: 3.8190758228302
Calculating genes' COEX normalization factor
Calculate genes' normalization factor elapsed time: 0.00792932510375977
Retrieving observed genes' yes/yes contingency table
calculating YY.. done
Observed genes' contingency table elapsed time: 0.0393586158752441
Estimating genes' COEX
Calculate genes' COEX elapsed time: 1.37789344787598
Total calculations elapsed time: 5.24425721168518
Calculate genes' COEX (legacy): DONE
Only genes' COEX elapsed time: 6.74973678588867
Dataset analysis elapsed time: 10.6127882003784
COTAN dataset analysis: DONE
Calculate GDI dataframe: START
Using S
Calculating S: START
Calculating S: DONE
Calculate `GDI`: START
Effective number of cores used: 1
Executing 1 genes batches
Total calculations elapsed time: 0.0352034568786621
Calculate `GDI`: DONE
Total calculations elapsed time: 3.70464873313904
Calculate GDI dataframe: DONE
Dispersion bisection: straddling used 2 iterations
Dispersion bisection: used 8 iterations
Dispersion bisection: straddling used 1 iterations
Dispersion bisection: used 9 iterations
Dispersion Newton-Raphson: used up to 4 iterations
Dispersion Newton-Raphson: used up to 4 iterations
parallel dispersion bisection: straddling used up to 2 iterations
Parallel dispersion bisection: used up to 9 iterations
Parallel dispersion Newton-Raphson: used up to 4 iterations
[ FAIL 0 | WARN 3 | SKIP 0 | PASS 572 ]

[ FAIL 0 | WARN 3 | SKIP 0 | PASS 572 ]
> 
> proc.time()
   user  system elapsed 
674.455   3.871 674.545 

Example timings

COTAN.Rcheck/COTAN-Ex.timings

nameusersystemelapsed
COTAN_Legacy0.0010.0000.001
COTAN_ObjectCreation9.3080.1179.146
CalculatingCOEX53.497 0.52152.966
ClustersList0.0080.0000.008
Conversions4.5740.0444.619
GenesStatistics10.572 0.04810.335
HandleMetaData0.0350.0000.036
HandlingClusterizations40.317 0.23940.277
HandlingConditions0.0720.0010.073
HeatmapPlots29.520 0.48529.255
Installing_torch0.0000.0000.001
LoggingFunctions0.0010.0000.002
ParametersEstimations20.941 0.24221.168
RawDataCleaning4.5780.0114.537
RawDataGetters0.0360.0010.038
UniformClusters68.837 0.34968.410
getColorsVector0.0010.0000.001