| Back to Multiple platform build/check report for BioC 3.21: simplified long | 
 | 
This page was generated on 2025-08-18 11:41 -0400 (Mon, 18 Aug 2025).
| Hostname | OS | Arch (*) | R version | Installed pkgs | 
|---|---|---|---|---|
| nebbiolo1 | Linux (Ubuntu 24.04.3 LTS) | x86_64 | 4.5.1 (2025-06-13) -- "Great Square Root" | 4824 | 
| palomino7 | Windows Server 2022 Datacenter | x64 | 4.5.1 (2025-06-13 ucrt) -- "Great Square Root" | 4566 | 
| merida1 | macOS 12.7.5 Monterey | x86_64 | 4.5.1 RC (2025-06-05 r88288) -- "Great Square Root" | 4604 | 
| kjohnson1 | macOS 13.6.6 Ventura | arm64 | 4.5.1 Patched (2025-06-14 r88325) -- "Great Square Root" | 4545 | 
| kunpeng2 | Linux (openEuler 24.03 LTS) | aarch64 | R Under development (unstable) (2025-02-19 r87757) -- "Unsuffered Consequences" | 4579 | 
| Click on any hostname to see more info about the system (e.g. compilers) (*) as reported by 'uname -p', except on Windows and Mac OS X | ||||
| Package 406/2341 | Hostname | OS / Arch | INSTALL | BUILD | CHECK | BUILD BIN | ||||||||
| CNVRanger 1.24.2  (landing page) Ludwig Geistlinger 
 | nebbiolo1 | Linux (Ubuntu 24.04.3 LTS) / x86_64 | OK | OK | OK |  | ||||||||
| palomino7 | Windows Server 2022 Datacenter / x64 | OK | OK | OK | OK |  | ||||||||
| merida1 | macOS 12.7.5 Monterey / x86_64 | OK | OK | OK | OK |  | ||||||||
| kjohnson1 | macOS 13.6.6 Ventura / arm64 | OK | OK | OK | OK |  | ||||||||
| kunpeng2 | Linux (openEuler 24.03 LTS) / aarch64 | OK | OK | OK | ||||||||||
| To the developers/maintainers of the CNVRanger package: - Allow up to 24 hours (and sometimes 48 hours) for your latest push to git@git.bioconductor.org:packages/CNVRanger.git to reflect on this report. See Troubleshooting Build Report for more information. - Use the following Renviron settings to reproduce errors and warnings. - If 'R CMD check' started to fail recently on the Linux builder(s) over a missing dependency, add the missing dependency to 'Suggests:' in your DESCRIPTION file. See Renviron.bioc for more information. | 
| Package: CNVRanger | 
| Version: 1.24.2 | 
| Command: E:\biocbuild\bbs-3.21-bioc\R\bin\R.exe CMD check --no-multiarch --install=check:CNVRanger.install-out.txt --library=E:\biocbuild\bbs-3.21-bioc\R\library --no-vignettes --timings CNVRanger_1.24.2.tar.gz | 
| StartedAt: 2025-08-15 00:46:28 -0400 (Fri, 15 Aug 2025) | 
| EndedAt: 2025-08-15 00:51:02 -0400 (Fri, 15 Aug 2025) | 
| EllapsedTime: 274.7 seconds | 
| RetCode: 0 | 
| Status: OK | 
| CheckDir: CNVRanger.Rcheck | 
| Warnings: 0 | 
##############################################################################
##############################################################################
###
### Running command:
###
###   E:\biocbuild\bbs-3.21-bioc\R\bin\R.exe CMD check --no-multiarch --install=check:CNVRanger.install-out.txt --library=E:\biocbuild\bbs-3.21-bioc\R\library --no-vignettes --timings CNVRanger_1.24.2.tar.gz
###
##############################################################################
##############################################################################
* using log directory 'E:/biocbuild/bbs-3.21-bioc/meat/CNVRanger.Rcheck'
* using R version 4.5.1 (2025-06-13 ucrt)
* using platform: x86_64-w64-mingw32
* R was compiled by
    gcc.exe (GCC) 14.2.0
    GNU Fortran (GCC) 14.2.0
* running under: Windows Server 2022 x64 (build 20348)
* using session charset: UTF-8
* using option '--no-vignettes'
* checking for file 'CNVRanger/DESCRIPTION' ... OK
* this is package 'CNVRanger' version '1.24.2'
* package encoding: UTF-8
* checking package namespace information ... OK
* checking package dependencies ... OK
* checking if this is a source package ... OK
* checking if there is a namespace ... OK
* checking for hidden files and directories ... OK
* checking for portable file names ... OK
* checking whether package 'CNVRanger' can be installed ... OK
* checking installed package size ... OK
* checking package directory ... OK
* checking 'build' directory ... OK
* checking DESCRIPTION meta-information ... OK
* checking top-level files ... OK
* checking for left-over files ... OK
* checking index information ... OK
* checking package subdirectories ... OK
* checking code files for non-ASCII characters ... OK
* checking R files for syntax errors ... OK
* checking whether the package can be loaded ... OK
* checking whether the package can be loaded with stated dependencies ... OK
* checking whether the package can be unloaded cleanly ... OK
* checking whether the namespace can be loaded with stated dependencies ... OK
* checking whether the namespace can be unloaded cleanly ... OK
* checking dependencies in R code ... NOTE
Unexported object imported by a ':::' call: 'rappdirs:::get_os'
  See the note in ?`:::` about the use of this operator.
* checking S3 generic/method consistency ... OK
* checking replacement functions ... OK
* checking foreign function calls ... OK
* checking R code for possible problems ... NOTE
plotRecurrentRegions: no visible binding for global variable 'type'
plotRecurrentRegions: no visible binding for global variable 'pvalue'
Undefined global functions or variables:
  pvalue type
* checking Rd files ... OK
* checking Rd metadata ... OK
* checking Rd cross-references ... NOTE
Found the following Rd file(s) with Rd \link{} targets missing package
anchors:
  cnvEQTL.Rd: GRanges-class, GRangesList-class, RaggedExperiment-class,
    RangedSummarizedExperiment-class, qreduceAssay, filterByExpr,
    DataFrame-class, findOverlaps, glmQLFit, glmQLFTest
  cnvOncoPrint.Rd: GRangesList-class, RaggedExperiment-class,
    GRanges-class, qreduceAssay
  plotEQTL.Rd: GRanges-class
  plotManhattan.Rd: GRanges-class
  plotRecurrentRegions.Rd: GRanges-class
  populationRanges.Rd: GRangesList-class, GRanges-class, findOverlaps
  setupCnvGWAS.Rd: RaggedExperiment-class, GRangesList-class
Please provide package anchors for all Rd \link{} targets not in the
package itself and the base packages.
* checking for missing documentation entries ... OK
* checking for code/documentation mismatches ... OK
* checking Rd \usage sections ... OK
* checking Rd contents ... OK
* checking for unstated dependencies in examples ... OK
* checking files in 'vignettes' ... OK
* checking examples ... OK
Examples with CPU (user + system) or elapsed time > 5s
                      user system elapsed
plotEQTL             23.27   1.05   27.50
plotRecurrentRegions 19.72   0.17   22.65
plotManhattan         8.13   0.14    8.38
cnvGWAS               7.06   0.17    7.34
* checking for unstated dependencies in vignettes ... OK
* checking package vignettes ... OK
* checking running R code from vignettes ... SKIPPED
* checking re-building of vignette outputs ... SKIPPED
* checking PDF version of manual ... OK
* DONE
Status: 3 NOTEs
See
  'E:/biocbuild/bbs-3.21-bioc/meat/CNVRanger.Rcheck/00check.log'
for details.
CNVRanger.Rcheck/00install.out
############################################################################## ############################################################################## ### ### Running command: ### ### E:\biocbuild\bbs-3.21-bioc\R\bin\R.exe CMD INSTALL CNVRanger ### ############################################################################## ############################################################################## * installing to library 'E:/biocbuild/bbs-3.21-bioc/R/library' * installing *source* package 'CNVRanger' ... ** this is package 'CNVRanger' version '1.24.2' ** using staged installation ** R ** inst ** byte-compile and prepare package for lazy loading ** help *** installing help indices *** copying figures ** building package indices ** installing vignettes ** testing if installed package can be loaded from temporary location ** testing if installed package can be loaded from final location ** testing if installed package keeps a record of temporary installation path * DONE (CNVRanger)
CNVRanger.Rcheck/CNVRanger-Ex.timings
| name | user | system | elapsed | |
| cnvEQTL | 2.33 | 0.16 | 2.48 | |
| cnvGWAS | 7.06 | 0.17 | 7.34 | |
| cnvOncoPrint | 2.20 | 0.62 | 2.05 | |
| generateGDS | 1.72 | 0.05 | 1.72 | |
| importLrrBaf | 0.81 | 0.00 | 1.23 | |
| plotEQTL | 23.27 | 1.05 | 27.50 | |
| plotManhattan | 8.13 | 0.14 | 8.38 | |
| plotRecurrentRegions | 19.72 | 0.17 | 22.65 | |
| populationRanges | 1.68 | 0.02 | 1.70 | |
| setupCnvGWAS | 0.02 | 0.00 | 0.02 | |