Back to Multiple platform build/check report for BioC 3.22:   simplified   long
AB[C]DEFGHIJKLMNOPQRSTUVWXYZ

This page was generated on 2025-11-07 12:00 -0500 (Fri, 07 Nov 2025).

HostnameOSArch (*)R versionInstalled pkgs
nebbiolo2Linux (Ubuntu 24.04.3 LTS)x86_644.5.1 Patched (2025-08-23 r88802) -- "Great Square Root" 4902
kjohnson3macOS 13.7.7 Venturaarm644.5.1 Patched (2025-09-10 r88807) -- "Great Square Root" 4638
Click on any hostname to see more info about the system (e.g. compilers)      (*) as reported by 'uname -p', except on Windows and Mac OS X

Package 273/2361HostnameOS / ArchINSTALLBUILDCHECKBUILD BIN
CAGEr 2.16.0  (landing page)
Charles Plessy
Snapshot Date: 2025-11-06 13:45 -0500 (Thu, 06 Nov 2025)
git_url: https://git.bioconductor.org/packages/CAGEr
git_branch: RELEASE_3_22
git_last_commit: b717389
git_last_commit_date: 2025-10-29 10:13:45 -0500 (Wed, 29 Oct 2025)
nebbiolo2Linux (Ubuntu 24.04.3 LTS) / x86_64  OK    OK    OK  UNNEEDED, same version is already published
kjohnson3macOS 13.7.7 Ventura / arm64  OK    OK    OK    OK  UNNEEDED, same version is already published


CHECK results for CAGEr on nebbiolo2

To the developers/maintainers of the CAGEr package:
- Allow up to 24 hours (and sometimes 48 hours) for your latest push to git@git.bioconductor.org:packages/CAGEr.git to reflect on this report. See Troubleshooting Build Report for more information.
- Use the following Renviron settings to reproduce errors and warnings.
- If 'R CMD check' started to fail recently on the Linux builder(s) over a missing dependency, add the missing dependency to 'Suggests:' in your DESCRIPTION file. See Renviron.bioc for more information.

raw results


Summary

Package: CAGEr
Version: 2.16.0
Command: /home/biocbuild/bbs-3.22-bioc/R/bin/R CMD check --install=check:CAGEr.install-out.txt --library=/home/biocbuild/bbs-3.22-bioc/R/site-library --timings CAGEr_2.16.0.tar.gz
StartedAt: 2025-11-06 21:42:59 -0500 (Thu, 06 Nov 2025)
EndedAt: 2025-11-06 21:55:35 -0500 (Thu, 06 Nov 2025)
EllapsedTime: 756.8 seconds
RetCode: 0
Status:   OK  
CheckDir: CAGEr.Rcheck
Warnings: 0

Command output

##############################################################################
##############################################################################
###
### Running command:
###
###   /home/biocbuild/bbs-3.22-bioc/R/bin/R CMD check --install=check:CAGEr.install-out.txt --library=/home/biocbuild/bbs-3.22-bioc/R/site-library --timings CAGEr_2.16.0.tar.gz
###
##############################################################################
##############################################################################


* using log directory ‘/home/biocbuild/bbs-3.22-bioc/meat/CAGEr.Rcheck’
* using R version 4.5.1 Patched (2025-08-23 r88802)
* using platform: x86_64-pc-linux-gnu
* R was compiled by
    gcc (Ubuntu 13.3.0-6ubuntu2~24.04) 13.3.0
    GNU Fortran (Ubuntu 13.3.0-6ubuntu2~24.04) 13.3.0
* running under: Ubuntu 24.04.3 LTS
* using session charset: UTF-8
* checking for file ‘CAGEr/DESCRIPTION’ ... OK
* this is package ‘CAGEr’ version ‘2.16.0’
* package encoding: UTF-8
* checking package namespace information ... OK
* checking package dependencies ... INFO
Imports includes 30 non-default packages.
Importing from so many packages makes the package vulnerable to any of
them becoming unavailable.  Move as many as possible to Suggests and
use conditionally.
* checking if this is a source package ... OK
* checking if there is a namespace ... OK
* checking for hidden files and directories ... OK
* checking for portable file names ... OK
* checking for sufficient/correct file permissions ... OK
* checking whether package ‘CAGEr’ can be installed ... OK
* checking installed package size ... OK
* checking package directory ... OK
* checking ‘build’ directory ... OK
* checking DESCRIPTION meta-information ... OK
* checking top-level files ... OK
* checking for left-over files ... OK
* checking index information ... OK
* checking package subdirectories ... OK
* checking code files for non-ASCII characters ... OK
* checking R files for syntax errors ... OK
* checking whether the package can be loaded ... OK
* checking whether the package can be loaded with stated dependencies ... OK
* checking whether the package can be unloaded cleanly ... OK
* checking whether the namespace can be loaded with stated dependencies ... OK
* checking whether the namespace can be unloaded cleanly ... OK
* checking loading without being on the library search path ... OK
* checking dependencies in R code ... OK
* checking S3 generic/method consistency ... OK
* checking replacement functions ... OK
* checking foreign function calls ... OK
* checking R code for possible problems ... OK
* checking Rd files ... OK
* checking Rd metadata ... OK
* checking Rd cross-references ... OK
* checking for missing documentation entries ... OK
* checking for code/documentation mismatches ... OK
* checking Rd \usage sections ... OK
* checking Rd contents ... OK
* checking for unstated dependencies in examples ... OK
* checking contents of ‘data’ directory ... OK
* checking data for non-ASCII characters ... OK
* checking LazyData ... OK
* checking data for ASCII and uncompressed saves ... OK
* checking files in ‘vignettes’ ... OK
* checking examples ... OK
Examples with CPU (user + system) or elapsed time > 5s
                         user system elapsed
paraclu                43.100  0.346  43.461
exportToTrack          36.081  0.026  36.110
scoreShift             22.154  0.160  22.313
aggregateTagClusters   20.063  0.225  20.291
annotateCTSS           12.511  0.068  12.579
quantilePositions      12.322  0.006  12.329
distclu                10.428  0.146  10.578
plotExpressionProfiles  8.196  0.103   8.298
* checking for unstated dependencies in vignettes ... OK
* checking package vignettes ... OK
* checking re-building of vignette outputs ... OK
* checking PDF version of manual ... OK
* DONE

Status: OK


Installation output

CAGEr.Rcheck/00install.out

##############################################################################
##############################################################################
###
### Running command:
###
###   /home/biocbuild/bbs-3.22-bioc/R/bin/R CMD INSTALL CAGEr
###
##############################################################################
##############################################################################


* installing to library ‘/home/biocbuild/bbs-3.22-bioc/R/site-library’
* installing *source* package ‘CAGEr’ ...
** this is package ‘CAGEr’ version ‘2.16.0’
** using staged installation
** R
** data
*** moving datasets to lazyload DB
** inst
** byte-compile and prepare package for lazy loading
** help
*** installing help indices
** building package indices
** installing vignettes
** testing if installed package can be loaded from temporary location
** testing if installed package can be loaded from final location
** testing if installed package keeps a record of temporary installation path
* DONE (CAGEr)

Tests output


Example timings

CAGEr.Rcheck/CAGEr-Ex.timings

nameusersystemelapsed
CAGEexp-class2.6550.1082.765
CAGEr_Multicore3.3960.0983.494
CTSS-class0.2480.0000.248
CTSScoordinates0.0770.0010.079
CTSSnormalizedTpm0.7100.0150.724
CTSStagCount0.6340.1170.750
CTSStoGenes0.3970.0620.458
CustomConsensusClusters4.8410.0914.932
GeneExpDESeq20.4870.0160.503
GeneExpSE0.0030.0000.004
QuantileWidthFunctions0.1310.0030.134
TSSlogo2.6810.0792.765
aggregateTagClusters20.063 0.22520.291
annotateCTSS12.511 0.06812.579
byCtss0.0170.0000.016
consensusClusters0.1770.0010.178
consensusClustersDESeq22.0590.0012.060
consensusClustersTpm0.0050.0010.006
cumulativeCTSSdistribution3.6930.0463.738
distclu10.428 0.14610.578
dot-ctss_summary_for_clusters0.8260.0020.828
exampleCAGEexp000
exportToTrack36.081 0.02636.110
expressionClasses1.8600.0011.861
filteredCTSSidx0.0090.0000.008
flagLowExpCTSS0.0310.0010.032
genomeName0.0010.0000.000
getCTSS0.8680.0050.874
getExpressionProfiles4.9380.0154.952
getShiftingPromoters1.9600.0291.989
hanabi0.2250.0020.228
hanabiPlot0.2740.0200.295
import.CAGEscanMolecule000
import.CTSS0.0810.0000.080
import.bam000
import.bedCTSS000
import.bedScore000
import.bedmolecule000
import.bigwig0.3330.0020.336
importPublicData000
inputFiles0.0010.0000.002
inputFilesType0.0010.0000.001
librarySizes0.0010.0000.001
mapStats0.0880.0000.088
mergeCAGEsets2.0950.0302.125
mergeSamples0.4300.0030.433
moleculesGR2CTSS0.1240.0080.132
normalizeTagCount0.5110.0100.500
paraclu43.100 0.34643.461
parseCAGEscanBlocksToGrangeTSS0.0200.0010.021
plotAnnot3.3540.0393.394
plotCorrelation0.2460.0070.254
plotExpressionProfiles8.1960.1038.298
plotInterquantileWidth2.3990.0052.404
plotReverseCumulatives2.7790.0052.719
quantilePositions12.322 0.00612.329
quickEnhancers000
ranges2annot0.3300.0020.331
ranges2genes0.0570.0000.056
ranges2names0.0550.0000.054
resetCAGEexp0.3050.0000.304
rowSums.RleDataFrame0.0200.0000.021
rowsum.RleDataFrame0.0240.0000.025
sampleLabels0.0040.0000.004
scoreShift22.154 0.16022.313
seqNameTotalsSE0.0040.0000.003
setColors0.3100.0010.310
strandInvaders0.6040.0340.624
summariseChrExpr0.3880.0010.389
tagClusters0.3730.0040.377