Back to Multiple platform build/check report for BioC 3.21:   simplified   long
AB[C]DEFGHIJKLMNOPQRSTUVWXYZ

This page was generated on 2025-09-29 11:41 -0400 (Mon, 29 Sep 2025).

HostnameOSArch (*)R versionInstalled pkgs
nebbiolo1Linux (Ubuntu 24.04.3 LTS)x86_644.5.1 (2025-06-13) -- "Great Square Root" 4827
merida1macOS 12.7.5 Montereyx86_644.5.1 RC (2025-06-05 r88288) -- "Great Square Root" 4608
kjohnson1macOS 13.6.6 Venturaarm644.5.1 Patched (2025-06-14 r88325) -- "Great Square Root" 4549
kunpeng2Linux (openEuler 24.03 LTS)aarch64R Under development (unstable) (2025-02-19 r87757) -- "Unsuffered Consequences" 4580
Click on any hostname to see more info about the system (e.g. compilers)      (*) as reported by 'uname -p', except on Windows and Mac OS X

Package 268/2341HostnameOS / ArchINSTALLBUILDCHECKBUILD BIN
CAGEr 2.14.0  (landing page)
Charles Plessy
Snapshot Date: 2025-09-25 13:40 -0400 (Thu, 25 Sep 2025)
git_url: https://git.bioconductor.org/packages/CAGEr
git_branch: RELEASE_3_21
git_last_commit: 446e1ca
git_last_commit_date: 2025-04-15 10:18:00 -0400 (Tue, 15 Apr 2025)
nebbiolo1Linux (Ubuntu 24.04.3 LTS) / x86_64  OK    OK    OK  UNNEEDED, same version is already published
merida1macOS 12.7.5 Monterey / x86_64  OK    OK    OK    OK  UNNEEDED, same version is already published
kjohnson1macOS 13.6.6 Ventura / arm64  OK    OK    OK    OK  UNNEEDED, same version is already published
kunpeng2Linux (openEuler 24.03 LTS) / aarch64  OK    OK    OK  


CHECK results for CAGEr on kunpeng2

To the developers/maintainers of the CAGEr package:
- Allow up to 24 hours (and sometimes 48 hours) for your latest push to git@git.bioconductor.org:packages/CAGEr.git to reflect on this report. See Troubleshooting Build Report for more information.
- Use the following Renviron settings to reproduce errors and warnings.
- If 'R CMD check' started to fail recently on the Linux builder(s) over a missing dependency, add the missing dependency to 'Suggests:' in your DESCRIPTION file. See Renviron.bioc for more information.
- See Martin Grigorov's blog post for how to debug Linux ARM64 related issues on a x86_64 host.

raw results


Summary

Package: CAGEr
Version: 2.14.0
Command: /home/biocbuild/R/R/bin/R CMD check --install=check:CAGEr.install-out.txt --library=/home/biocbuild/R/R/site-library --no-vignettes --timings CAGEr_2.14.0.tar.gz
StartedAt: 2025-09-26 08:44:28 -0000 (Fri, 26 Sep 2025)
EndedAt: 2025-09-26 08:58:23 -0000 (Fri, 26 Sep 2025)
EllapsedTime: 834.6 seconds
RetCode: 0
Status:   OK  
CheckDir: CAGEr.Rcheck
Warnings: 0

Command output

##############################################################################
##############################################################################
###
### Running command:
###
###   /home/biocbuild/R/R/bin/R CMD check --install=check:CAGEr.install-out.txt --library=/home/biocbuild/R/R/site-library --no-vignettes --timings CAGEr_2.14.0.tar.gz
###
##############################################################################
##############################################################################


* using log directory ‘/home/biocbuild/bbs-3.21-bioc/meat/CAGEr.Rcheck’
* using R Under development (unstable) (2025-02-19 r87757)
* using platform: aarch64-unknown-linux-gnu
* R was compiled by
    aarch64-unknown-linux-gnu-gcc (GCC) 14.2.0
    GNU Fortran (GCC) 14.2.0
* running under: openEuler 24.03 (LTS-SP1)
* using session charset: UTF-8
* using option ‘--no-vignettes’
* checking for file ‘CAGEr/DESCRIPTION’ ... OK
* this is package ‘CAGEr’ version ‘2.14.0’
* package encoding: UTF-8
* checking package namespace information ... OK
* checking package dependencies ... INFO
Imports includes 29 non-default packages.
Importing from so many packages makes the package vulnerable to any of
them becoming unavailable.  Move as many as possible to Suggests and
use conditionally.
* checking if this is a source package ... OK
* checking if there is a namespace ... OK
* checking for hidden files and directories ... OK
* checking for portable file names ... OK
* checking for sufficient/correct file permissions ... OK
* checking whether package ‘CAGEr’ can be installed ... OK
* checking installed package size ... OK
* checking package directory ... OK
* checking ‘build’ directory ... OK
* checking DESCRIPTION meta-information ... OK
* checking top-level files ... OK
* checking for left-over files ... OK
* checking index information ... OK
* checking package subdirectories ... OK
* checking code files for non-ASCII characters ... OK
* checking R files for syntax errors ... OK
* checking whether the package can be loaded ... OK
* checking whether the package can be loaded with stated dependencies ... OK
* checking whether the package can be unloaded cleanly ... OK
* checking whether the namespace can be loaded with stated dependencies ... OK
* checking whether the namespace can be unloaded cleanly ... OK
* checking loading without being on the library search path ... OK
* checking dependencies in R code ... OK
* checking S3 generic/method consistency ... OK
* checking replacement functions ... OK
* checking foreign function calls ... OK
* checking R code for possible problems ... OK
* checking Rd files ... OK
* checking Rd metadata ... OK
* checking Rd cross-references ... NOTE
Found the following Rd file(s) with Rd \link{} targets missing package
anchors:
  CAGEexp-class.Rd: MultiAssayExperiment, DataFrame, Rle
  CAGEr-class.Rd: MultiAssayExperiment
  CTSStagCount.Rd: DataFrame, Rle, RangedSummarizedExperiment
  CTSStoGenes.Rd: SummarizedExperiment
  CustomConsensusClusters.Rd: GRanges, RangedSummarizedExperiment
  TSSlogo.Rd: BSgenome
  aggregateTagClusters.Rd: RangedSummarizedExperiment
  annotateCTSS.Rd: GRanges, TxDb
  bam2CTSS.Rd: GRanges
  byCtss.Rd: data.table
  consensusClusters.Rd: GRanges, SummarizedExperiment
  distclu.Rd: GRangesList
  dot-ctss_summary_for_clusters.Rd: GRanges
  expressionClasses.Rd: Rle
  flagLowExpCTSS.Rd: Rle
  getCTSS.Rd: RangedSummarizedExperiment
  import.CAGEscanMolecule.Rd: GRanges
  import.CTSS.Rd: GPos
  loadFileIntoGPos.Rd: GPos
  moleculesGR2CTSS.Rd: GRanges
  paraclu.Rd: RangedSummarizedExperiment, GRangesList
  plotCorrelation.Rd: SummarizedExperiment, DataFrame
  quantilePositions.Rd: RangedSummarizedExperiment
  ranges2annot.Rd: rowRanges, Rle
  ranges2names.Rd: Rle
  strandInvaders.Rd: Rle
Please provide package anchors for all Rd \link{} targets not in the
package itself and the base packages.
* checking for missing documentation entries ... OK
* checking for code/documentation mismatches ... OK
* checking Rd \usage sections ... OK
* checking Rd contents ... OK
* checking for unstated dependencies in examples ... OK
* checking contents of ‘data’ directory ... OK
* checking data for non-ASCII characters ... OK
* checking LazyData ... OK
* checking data for ASCII and uncompressed saves ... OK
* checking files in ‘vignettes’ ... OK
* checking examples ... OK
Examples with CPU (user + system) or elapsed time > 5s
                             user system elapsed
paraclu                    69.296  0.267  69.764
exportToTrack              57.583  0.578  58.325
aggregateTagClusters       31.566  0.579  32.218
scoreShift                 27.666  0.339  28.084
annotateCTSS               19.817  1.049  20.919
quantilePositions          19.489  0.044  19.590
distclu                    14.870  0.224  15.137
plotExpressionProfiles     10.945  0.128  11.105
getExpressionProfiles       7.600  0.104   7.727
CustomConsensusClusters     7.506  0.192   7.721
cumulativeCTSSdistribution  5.688  0.199   5.906
* checking for unstated dependencies in vignettes ... OK
* checking package vignettes ... OK
* checking running R code from vignettes ... SKIPPED
* checking re-building of vignette outputs ... SKIPPED
* checking PDF version of manual ... OK
* DONE

Status: 1 NOTE
See
  ‘/home/biocbuild/bbs-3.21-bioc/meat/CAGEr.Rcheck/00check.log’
for details.


Installation output

CAGEr.Rcheck/00install.out

##############################################################################
##############################################################################
###
### Running command:
###
###   /home/biocbuild/R/R/bin/R CMD INSTALL CAGEr
###
##############################################################################
##############################################################################


* installing to library ‘/home/biocbuild/R/R-devel_2025-02-19/site-library’
* installing *source* package ‘CAGEr’ ...
** this is package ‘CAGEr’ version ‘2.14.0’
** using staged installation
** R
** data
*** moving datasets to lazyload DB
** inst
** byte-compile and prepare package for lazy loading
** help
*** installing help indices
** building package indices
** installing vignettes
** testing if installed package can be loaded from temporary location
** testing if installed package can be loaded from final location
** testing if installed package keeps a record of temporary installation path
* DONE (CAGEr)

Tests output


Example timings

CAGEr.Rcheck/CAGEr-Ex.timings

nameusersystemelapsed
CAGEexp-class4.1330.2714.467
CAGEr_Multicore4.1900.1844.382
CTSS-class0.3900.0040.395
CTSScoordinates0.1150.0040.119
CTSSnormalizedTpm1.0250.0841.113
CTSStagCount0.9970.0551.056
CTSStoGenes0.5430.0480.593
CustomConsensusClusters7.5060.1927.721
GeneExpDESeq20.6960.0390.738
GeneExpSE0.0010.0040.005
QuantileWidthFunctions0.1960.0040.200
TSSlogo3.9530.0834.063
aggregateTagClusters31.566 0.57932.218
annotateCTSS19.817 1.04920.919
byCtss0.0160.0080.024
consensusClusters0.2350.0040.240
consensusClustersDESeq23.3200.1163.446
consensusClustersTpm0.0080.0000.009
cumulativeCTSSdistribution5.6880.1995.906
distclu14.870 0.22415.137
dot-ctss_summary_for_clusters1.2730.0001.277
exampleCAGEexp0.0010.0000.000
exportToTrack57.583 0.57858.325
expressionClasses2.9360.0042.948
filteredCTSSidx0.0130.0000.012
flagLowExpCTSS0.0470.0000.048
genomeName0.0000.0000.001
getCTSS1.3500.0401.394
getExpressionProfiles7.6000.1047.727
getShiftingPromoters3.0700.0243.104
hanabi0.3250.0080.334
hanabiPlot0.4190.0280.448
import.CAGEscanMolecule000
import.CTSS0.1170.0000.117
import.bam000
import.bedCTSS000
import.bedScore000
import.bedmolecule000
importPublicData0.0000.0000.001
inputFiles0.0010.0000.002
inputFilesType0.0010.0000.002
librarySizes0.0010.0000.001
mapStats0.0740.0040.078
mergeCAGEsets3.0320.0433.086
mergeSamples0.6460.0000.648
moleculesGR2CTSS0.1810.0070.189
normalizeTagCount0.7020.0080.708
paraclu69.296 0.26769.764
parseCAGEscanBlocksToGrangeTSS0.0340.0000.035
plotAnnot3.3590.0643.432
plotCorrelation0.3510.0080.360
plotExpressionProfiles10.945 0.12811.105
plotInterquantileWidth2.9960.0323.035
plotReverseCumulatives3.4350.0513.485
quantilePositions19.489 0.04419.590
quickEnhancers000
ranges2annot0.5100.0000.512
ranges2genes0.0840.0000.084
ranges2names0.0830.0000.083
resetCAGEexp0.4640.0040.470
rowSums.RleDataFrame0.0290.0000.030
rowsum.RleDataFrame0.0320.0030.035
sampleLabels0.0060.0000.005
scoreShift27.666 0.33928.084
seqNameTotalsSE0.0050.0000.005
setColors0.4540.0000.454
strandInvaders0.8440.0200.863
summariseChrExpr0.5470.0000.549
tagClusters0.5550.0040.561