Back to Multiple platform build/check report for BioC 3.22:   simplified   long
AB[C]DEFGHIJKLMNOPQRSTUVWXYZ

This page was generated on 2025-11-20 12:07 -0500 (Thu, 20 Nov 2025).

HostnameOSArch (*)R versionInstalled pkgs
nebbiolo2Linux (Ubuntu 24.04.3 LTS)x86_644.5.2 (2025-10-31) -- "[Not] Part in a Rumble" 4615
merida1macOS 12.7.6 Montereyx86_644.5.2 Patched (2025-11-05 r88990) -- "[Not] Part in a Rumble" 4610
kjohnson1macOS 13.7.5 Venturaarm644.5.2 Patched (2025-11-04 r88984) -- "[Not] Part in a Rumble" 4598
taishanLinux (openEuler 24.03 LTS)aarch644.5.0 (2025-04-11) -- "How About a Twenty-Six" 4668
Click on any hostname to see more info about the system (e.g. compilers)      (*) as reported by 'uname -p', except on Windows and Mac OS X

Package 271/2361HostnameOS / ArchINSTALLBUILDCHECKBUILD BIN
CAGEfightR 1.30.0  (landing page)
Malte Thodberg
Snapshot Date: 2025-11-17 13:45 -0500 (Mon, 17 Nov 2025)
git_url: https://git.bioconductor.org/packages/CAGEfightR
git_branch: RELEASE_3_22
git_last_commit: eda75c3
git_last_commit_date: 2025-10-29 10:45:17 -0500 (Wed, 29 Oct 2025)
nebbiolo2Linux (Ubuntu 24.04.3 LTS) / x86_64  OK    OK    OK  UNNEEDED, same version is already published
merida1macOS 12.7.6 Monterey / x86_64  OK    OK    OK    OK  UNNEEDED, same version is already published
kjohnson1macOS 13.7.5 Ventura / arm64  OK    OK    OK    OK  UNNEEDED, same version is already published
taishanLinux (openEuler 24.03 LTS) / aarch64  OK    OK    OK  


CHECK results for CAGEfightR on taishan

To the developers/maintainers of the CAGEfightR package:
- Allow up to 24 hours (and sometimes 48 hours) for your latest push to git@git.bioconductor.org:packages/CAGEfightR.git to reflect on this report. See Troubleshooting Build Report for more information.
- Use the following Renviron settings to reproduce errors and warnings.
- If 'R CMD check' started to fail recently on the Linux builder(s) over a missing dependency, add the missing dependency to 'Suggests:' in your DESCRIPTION file. See Renviron.bioc for more information.
- See Martin Grigorov's blog post for how to debug Linux ARM64 related issues on a x86_64 host.

raw results


Summary

Package: CAGEfightR
Version: 1.30.0
Command: /home/biocbuild/R/R/bin/R CMD check --install=check:CAGEfightR.install-out.txt --library=/home/biocbuild/R/R/site-library --no-vignettes --timings CAGEfightR_1.30.0.tar.gz
StartedAt: 2025-11-18 07:51:22 -0000 (Tue, 18 Nov 2025)
EndedAt: 2025-11-18 07:59:37 -0000 (Tue, 18 Nov 2025)
EllapsedTime: 495.3 seconds
RetCode: 0
Status:   OK  
CheckDir: CAGEfightR.Rcheck
Warnings: 0

Command output

##############################################################################
##############################################################################
###
### Running command:
###
###   /home/biocbuild/R/R/bin/R CMD check --install=check:CAGEfightR.install-out.txt --library=/home/biocbuild/R/R/site-library --no-vignettes --timings CAGEfightR_1.30.0.tar.gz
###
##############################################################################
##############################################################################


* using log directory ‘/home/biocbuild/bbs-3.22-bioc/meat/CAGEfightR.Rcheck’
* using R version 4.5.0 (2025-04-11)
* using platform: aarch64-unknown-linux-gnu
* R was compiled by
    aarch64-unknown-linux-gnu-gcc (GCC) 14.2.0
    GNU Fortran (GCC) 14.2.0
* running under: openEuler 24.03 (LTS)
* using session charset: UTF-8
* using option ‘--no-vignettes’
* checking for file ‘CAGEfightR/DESCRIPTION’ ... OK
* checking extension type ... Package
* this is package ‘CAGEfightR’ version ‘1.30.0’
* package encoding: UTF-8
* checking package namespace information ... OK
* checking package dependencies ... OK
* checking if this is a source package ... OK
* checking if there is a namespace ... OK
* checking for hidden files and directories ... OK
* checking for portable file names ... OK
* checking for sufficient/correct file permissions ... OK
* checking whether package ‘CAGEfightR’ can be installed ... OK
* checking installed package size ... OK
* checking package directory ... OK
* checking ‘build’ directory ... OK
* checking DESCRIPTION meta-information ... OK
* checking top-level files ... OK
* checking for left-over files ... OK
* checking index information ... OK
* checking package subdirectories ... OK
* checking code files for non-ASCII characters ... OK
* checking R files for syntax errors ... OK
* checking whether the package can be loaded ... OK
* checking whether the package can be loaded with stated dependencies ... OK
* checking whether the package can be unloaded cleanly ... OK
* checking whether the namespace can be loaded with stated dependencies ... OK
* checking whether the namespace can be unloaded cleanly ... OK
* checking loading without being on the library search path ... OK
* checking whether startup messages can be suppressed ... OK
* checking dependencies in R code ... OK
* checking S3 generic/method consistency ... OK
* checking replacement functions ... OK
* checking foreign function calls ... OK
* checking R code for possible problems ... OK
* checking Rd files ... OK
* checking Rd metadata ... OK
* checking Rd cross-references ... OK
* checking for missing documentation entries ... OK
* checking for code/documentation mismatches ... OK
* checking Rd \usage sections ... OK
* checking Rd contents ... OK
* checking for unstated dependencies in examples ... OK
* checking contents of ‘data’ directory ... OK
* checking data for non-ASCII characters ... OK
* checking LazyData ... OK
* checking data for ASCII and uncompressed saves ... OK
* checking files in ‘vignettes’ ... OK
* checking examples ... OK
Examples with CPU (user + system) or elapsed time > 5s
           user system elapsed
findLinks 6.193  0.958   6.487
* checking for unstated dependencies in vignettes ... OK
* checking package vignettes ... OK
* checking running R code from vignettes ... SKIPPED
* checking re-building of vignette outputs ... SKIPPED
* checking PDF version of manual ... OK
* DONE

Status: OK


Installation output

CAGEfightR.Rcheck/00install.out

##############################################################################
##############################################################################
###
### Running command:
###
###   /home/biocbuild/R/R/bin/R CMD INSTALL CAGEfightR
###
##############################################################################
##############################################################################


* installing to library ‘/home/biocbuild/R/R-4.5.0/site-library’
* installing *source* package ‘CAGEfightR’ ...
** this is package ‘CAGEfightR’ version ‘1.30.0’
** using staged installation
** R
** data
*** moving datasets to lazyload DB
** inst
** byte-compile and prepare package for lazy loading
** help
*** installing help indices
** building package indices
** installing vignettes
** testing if installed package can be loaded from temporary location
** testing if installed package can be loaded from final location
** testing if installed package keeps a record of temporary installation path
* DONE (CAGEfightR)

Tests output


Example timings

CAGEfightR.Rcheck/CAGEfightR-Ex.timings

nameusersystemelapsed
assignGeneID4.1850.0804.299
assignMissingID1.2560.0001.262
assignTxID1.0840.0161.103
assignTxType0.0000.0000.001
balanceBC0.0010.0000.001
balanceD0.0010.0000.001
bwCommonGenome0.0460.0000.052
bwGenomeCompatibility0.0190.0040.023
bwValid0.0070.0040.011
calcBidirectionality0.5710.0000.573
calcComposition1.6500.0041.660
calcPooled0.1180.0040.121
calcShape3.4310.0563.498
calcSupport0.1280.0120.141
calcTPM0.1500.0080.159
calcTotalTags0.0710.0040.076
checkCTSSs0.3310.0000.335
checkPeaked0.0770.0040.081
checkPooled0.1130.0040.117
clusterBidirectionally000
clusterUnidirectionally2.2370.0042.249
combineClusters1.0980.0001.101
convertBAM2BigWig000
convertBED2BigWig0.0010.0000.000
convertGRanges2GPos0.1110.0000.111
exampleDesign0.0030.0020.005
findLinks6.1930.9586.487
findStretches0.4800.0880.569
quantifyCTSSs000
quantifyCTSSs20.0010.0000.000
quantifyClusters0.4400.0720.512
quantifyGenes1.4880.1201.612
quickEnhancers000
quickGenes000
quickTSSs000
shapeEntropy0.0000.0010.000
shapeIQR0.0000.0010.000
shapeMean0.0000.0010.001
shapeMultimodality000
subsetByBidirectionality0.5400.0420.583
subsetByComposition1.4880.0121.504
subsetBySupport0.0890.0040.093
swapRanges0.2100.0000.211
swapScores0.1190.0000.119
trackBalance000
trackCTSS3.8140.3354.161
trackClusters2.5200.2362.764
trackLinks1.2530.6031.507
trimToPeak1.1710.1831.358
trimToPercentiles3.2190.2393.469
tuneTagClustering000
utilsAggregateRows0.3100.1160.426
utilsDeStrand0.1910.0080.199
utilsScoreOverlaps0.0980.0040.103
utilsSimplifyTxDb0.0000.0000.001