Back to Multiple platform build/check report for BioC 3.22:   simplified   long
A[B]CDEFGHIJKLMNOPQRSTUVWXYZ

This page was generated on 2025-11-07 11:59 -0500 (Fri, 07 Nov 2025).

HostnameOSArch (*)R versionInstalled pkgs
nebbiolo2Linux (Ubuntu 24.04.3 LTS)x86_644.5.1 Patched (2025-08-23 r88802) -- "Great Square Root" 4902
kjohnson3macOS 13.7.7 Venturaarm644.5.1 Patched (2025-09-10 r88807) -- "Great Square Root" 4638
Click on any hostname to see more info about the system (e.g. compilers)      (*) as reported by 'uname -p', except on Windows and Mac OS X

All results for package BiocStyle


To the developers/maintainers of the BiocStyle package:
- Allow up to 24 hours (and sometimes 48 hours) for your latest push to git@git.bioconductor.org:packages/BiocStyle.git to reflect on this report. See Troubleshooting Build Report for more information.
- Use the following Renviron settings to reproduce errors and warnings.
- If 'R CMD check' started to fail recently on the Linux builder(s) over a missing dependency, add the missing dependency to 'Suggests:' in your DESCRIPTION file. See Renviron.bioc for more information.

raw results

Package 204/2361HostnameOS / ArchINSTALLBUILDCHECKBUILD BIN
BiocStyle 2.38.0  (landing page)
Bioconductor Package Maintainer
Snapshot Date: 2025-11-06 13:45 -0500 (Thu, 06 Nov 2025)
git_url: https://git.bioconductor.org/packages/BiocStyle
git_branch: RELEASE_3_22
git_last_commit: 15483c4
git_last_commit_date: 2025-10-29 10:15:25 -0500 (Wed, 29 Oct 2025)
nebbiolo2Linux (Ubuntu 24.04.3 LTS) / x86_64  OK    OK    OK  UNNEEDED, same version is already published
kjohnson3macOS 13.7.7 Ventura / arm64  OK    OK    OK    OK  UNNEEDED, same version is already published



Results for Bioconductor software packages that depend directly on package BiocStyle

QUICK STATSOS / ArchINSTALLBUILDCHECKBUILD BIN
nebbiolo2Linux (Ubuntu 24.04.3 LTS) / x86_64
0240
0339
02928
kjohnson3macOS 13.7.7 Ventura / arm64
0240
0339
03927
0039
Package 1/42HostnameOS / ArchINSTALLBUILDCHECKBUILD BIN
abseqR 1.28.0  (landing page)
JiaHong Fong
git_last_commit: 79e7852
git_last_commit_date: 2025-10-29 10:48:45 -0500
nebbiolo2Linux (Ubuntu 24.04.3 LTS) / x86_64  OK    OK    OK  UNNEEDED, same version is already published
kjohnson3macOS 13.7.7 Ventura / arm64  OK    OK    OK    OK  UNNEEDED, same version is already published
Package 2/42HostnameOS / ArchINSTALLBUILDCHECKBUILD BIN
ASpli 2.20.0  (landing page)
Ariel Chernomoretz
git_last_commit: 3c6d496
git_last_commit_date: 2025-10-29 10:33:32 -0500
nebbiolo2Linux (Ubuntu 24.04.3 LTS) / x86_64  OK    OK    WARNINGS  UNNEEDED, same version is already published
kjohnson3macOS 13.7.7 Ventura / arm64  OK    OK    WARNINGS    OK  UNNEEDED, same version is already published
Package 3/42HostnameOS / ArchINSTALLBUILDCHECKBUILD BIN
bandle 1.14.0  (landing page)
Oliver M. Crook
git_last_commit: 9a9a1bc
git_last_commit_date: 2025-10-29 11:16:12 -0500
nebbiolo2Linux (Ubuntu 24.04.3 LTS) / x86_64  OK    OK    WARNINGS  UNNEEDED, same version is already published
kjohnson3macOS 13.7.7 Ventura / arm64  OK    OK    WARNINGS    OK  UNNEEDED, same version is already published
Package 4/42HostnameOS / ArchINSTALLBUILDCHECKBUILD BIN
BiocWorkflowTools 1.36.0  (landing page)
Mike Smith
git_last_commit: 49b903f
git_last_commit_date: 2025-10-29 10:34:19 -0500
nebbiolo2Linux (Ubuntu 24.04.3 LTS) / x86_64  OK    OK    OK  UNNEEDED, same version is already published
kjohnson3macOS 13.7.7 Ventura / arm64  OK    OK    OK    OK  UNNEEDED, same version is already published
Package 5/42HostnameOS / ArchINSTALLBUILDCHECKBUILD BIN
BioGA 1.4.0  (landing page)
Dany Mukesha
git_last_commit: d779378
git_last_commit_date: 2025-10-29 11:30:53 -0500
nebbiolo2Linux (Ubuntu 24.04.3 LTS) / x86_64  OK    OK    OK  UNNEEDED, same version is already published
kjohnson3macOS 13.7.7 Ventura / arm64  OK    OK    OK    OK  UNNEEDED, same version is already published
Package 6/42HostnameOS / ArchINSTALLBUILDCHECKBUILD BIN
BPRMeth 1.36.0  (landing page)
Chantriolnt-Andreas Kapourani
git_last_commit: e6cdcc9
git_last_commit_date: 2025-10-29 10:35:38 -0500
nebbiolo2Linux (Ubuntu 24.04.3 LTS) / x86_64  OK    OK    ERROR  
kjohnson3macOS 13.7.7 Ventura / arm64  OK    OK    ERROR    OK  
Package 7/42HostnameOS / ArchINSTALLBUILDCHECKBUILD BIN
broadSeq 1.4.0  (landing page)
Rishi Das Roy
git_last_commit: f0b1505
git_last_commit_date: 2025-10-29 11:30:34 -0500
nebbiolo2Linux (Ubuntu 24.04.3 LTS) / x86_64  OK    OK    WARNINGS  NO, package depends on 'DELocal' which is not available
kjohnson3macOS 13.7.7 Ventura / arm64  OK    OK    WARNINGS    OK  NO, package depends on 'DELocal' which is not available
Package 8/42HostnameOS / ArchINSTALLBUILDCHECKBUILD BIN
BubbleTree 2.40.0  (landing page)
Todd Creasy , Wei Zhu
git_last_commit: cba34a7
git_last_commit_date: 2025-10-29 10:24:01 -0500
nebbiolo2Linux (Ubuntu 24.04.3 LTS) / x86_64  OK    ERROR  skipped
kjohnson3macOS 13.7.7 Ventura / arm64  OK    ERROR  skippedskipped
Package 9/42HostnameOS / ArchINSTALLBUILDCHECKBUILD BIN
chimeraviz 1.36.0  (landing page)
Stian Lågstad
git_last_commit: 36b8261
git_last_commit_date: 2025-10-29 10:35:50 -0500
nebbiolo2Linux (Ubuntu 24.04.3 LTS) / x86_64  OK    OK    OK  UNNEEDED, same version is already published
kjohnson3macOS 13.7.7 Ventura / arm64  OK    OK    OK    OK  UNNEEDED, same version is already published
Package 10/42HostnameOS / ArchINSTALLBUILDCHECKBUILD BIN
COMPASS 1.48.0  (landing page)
Greg Finak
git_last_commit: 70d9f7d
git_last_commit_date: 2025-10-29 10:18:03 -0500
nebbiolo2Linux (Ubuntu 24.04.3 LTS) / x86_64  OK    OK    OK  UNNEEDED, same version is already published
kjohnson3macOS 13.7.7 Ventura / arm64  OK    OK    OK    OK  UNNEEDED, same version is already published
Package 11/42HostnameOS / ArchINSTALLBUILDCHECKBUILD BIN
DiscoRhythm 1.26.0  (landing page)
Matthew Carlucci
git_last_commit: 30a30eb
git_last_commit_date: 2025-10-29 10:51:20 -0500
nebbiolo2Linux (Ubuntu 24.04.3 LTS) / x86_64  OK    OK    OK  UNNEEDED, same version is already published
kjohnson3macOS 13.7.7 Ventura / arm64  OK    OK    OK    OK  UNNEEDED, same version is already published
Package 12/42HostnameOS / ArchINSTALLBUILDCHECKBUILD BIN
EasyCellType 1.12.0  (landing page)
Ruoxing Li
git_last_commit: 27aa7b2
git_last_commit_date: 2025-10-29 11:18:20 -0500
nebbiolo2Linux (Ubuntu 24.04.3 LTS) / x86_64  OK    OK    OK  UNNEEDED, same version is already published
kjohnson3macOS 13.7.7 Ventura / arm64  OK    OK    OK    OK  UNNEEDED, same version is already published
Package 13/42HostnameOS / ArchINSTALLBUILDCHECKBUILD BIN
ExpressionAtlas 2.2.0  (landing page)
Anil Thanki
git_last_commit: 6dde6ba
git_last_commit_date: 2025-10-29 10:30:04 -0500
nebbiolo2Linux (Ubuntu 24.04.3 LTS) / x86_64  OK    OK    OK  UNNEEDED, same version is already published
kjohnson3macOS 13.7.7 Ventura / arm64  OK    OK    OK    OK  UNNEEDED, same version is already published
Package 14/42HostnameOS / ArchINSTALLBUILDCHECKBUILD BIN
gDRstyle 1.8.0  (landing page)
Arkadiusz Gladki
git_last_commit: 72b76e8
git_last_commit_date: 2025-10-29 11:23:51 -0500
nebbiolo2Linux (Ubuntu 24.04.3 LTS) / x86_64  OK    OK    OK  UNNEEDED, same version is already published
kjohnson3macOS 13.7.7 Ventura / arm64  OK    OK    OK    OK  UNNEEDED, same version is already published
Package 15/42HostnameOS / ArchINSTALLBUILDCHECKBUILD BIN
geneXtendeR 1.36.0  (landing page)
Bohdan Khomtchouk
git_last_commit: d65d2af
git_last_commit_date: 2025-10-29 10:34:47 -0500
nebbiolo2Linux (Ubuntu 24.04.3 LTS) / x86_64  OK    OK    WARNINGS  UNNEEDED, same version is already published
kjohnson3macOS 13.7.7 Ventura / arm64  OK    OK    WARNINGS    OK  UNNEEDED, same version is already published
Package 16/42HostnameOS / ArchINSTALLBUILDCHECKBUILD BIN
geyser 1.2.0  (landing page)
David McGaughey
git_last_commit: 5cbf44a
git_last_commit_date: 2025-10-29 11:33:40 -0500
nebbiolo2Linux (Ubuntu 24.04.3 LTS) / x86_64  OK    OK    OK  UNNEEDED, same version is already published
kjohnson3macOS 13.7.7 Ventura / arm64  OK    OK    OK    OK  UNNEEDED, same version is already published
Package 17/42HostnameOS / ArchINSTALLBUILDCHECKBUILD BIN
hdxmsqc 1.6.0  (landing page)
Oliver M. Crook
git_last_commit: 5bbfc95
git_last_commit_date: 2025-10-29 11:29:31 -0500
nebbiolo2Linux (Ubuntu 24.04.3 LTS) / x86_64  OK    OK    OK  UNNEEDED, same version is already published
kjohnson3macOS 13.7.7 Ventura / arm64  OK    OK    OK    OK  UNNEEDED, same version is already published
Package 18/42HostnameOS / ArchINSTALLBUILDCHECKBUILD BIN
hypeR 2.8.0  (landing page)
Anthony Federico
git_last_commit: 7b0ec75
git_last_commit_date: 2025-10-29 10:50:26 -0500
nebbiolo2Linux (Ubuntu 24.04.3 LTS) / x86_64  ERROR    ERROR  skipped
kjohnson3macOS 13.7.7 Ventura / arm64  ERROR    ERROR  skippedskipped
Package 19/42HostnameOS / ArchINSTALLBUILDCHECKBUILD BIN
iNETgrate 1.8.0  (landing page)
Habil Zare
git_last_commit: 1ca2a7a
git_last_commit_date: 2025-10-29 11:23:49 -0500
nebbiolo2Linux (Ubuntu 24.04.3 LTS) / x86_64  OK    OK    OK  NO, package depends on 'Pigengene' which is not available
kjohnson3macOS 13.7.7 Ventura / arm64  OK    OK    OK    OK  NO, package depends on 'Pigengene' which is not available
Package 20/42HostnameOS / ArchINSTALLBUILDCHECKBUILD BIN
Melissa 1.26.0  (landing page)
C. A. Kapourani
git_last_commit: edad671
git_last_commit_date: 2025-10-29 10:49:49 -0500
nebbiolo2Linux (Ubuntu 24.04.3 LTS) / x86_64  OK    OK    OK  NO, package depends on 'BPRMeth' which is not available
kjohnson3macOS 13.7.7 Ventura / arm64  OK    OK    OK    OK  NO, package depends on 'BPRMeth' which is not available
Package 21/42HostnameOS / ArchINSTALLBUILDCHECKBUILD BIN
meshr 2.16.0  (landing page)
Koki Tsuyuzaki
git_last_commit: 43697db
git_last_commit_date: 2025-10-29 10:19:23 -0500
nebbiolo2Linux (Ubuntu 24.04.3 LTS) / x86_64  OK    OK    OK  UNNEEDED, same version is already published
kjohnson3macOS 13.7.7 Ventura / arm64  OK    OK    OK    OK  UNNEEDED, same version is already published
Package 22/42HostnameOS / ArchINSTALLBUILDCHECKBUILD BIN
methodical 1.6.0  (landing page)
Richard Heery
git_last_commit: ebf4ab4
git_last_commit_date: 2025-10-29 11:27:18 -0500
nebbiolo2Linux (Ubuntu 24.04.3 LTS) / x86_64  OK    OK    WARNINGS  UNNEEDED, same version is already published
kjohnson3macOS 13.7.7 Ventura / arm64  OK    OK    WARNINGS    OK  UNNEEDED, same version is already published
Package 23/42HostnameOS / ArchINSTALLBUILDCHECKBUILD BIN
MSnID 1.44.0  (landing page)
Vlad Petyuk
git_last_commit: 80a4b14
git_last_commit_date: 2025-10-29 10:21:36 -0500
nebbiolo2Linux (Ubuntu 24.04.3 LTS) / x86_64  OK    OK    OK  UNNEEDED, same version is already published
kjohnson3macOS 13.7.7 Ventura / arm64  OK    OK    ERROR    OK  
Package 24/42HostnameOS / ArchINSTALLBUILDCHECKBUILD BIN
netboost 2.18.0  (landing page)
Pascal Schlosser
git_last_commit: 76f8650
git_last_commit_date: 2025-10-29 10:52:20 -0500
nebbiolo2Linux (Ubuntu 24.04.3 LTS) / x86_64  OK    OK    WARNINGS  UNNEEDED, same version is already published
kjohnson3macOS 13.7.7 Ventura / arm64  OK    OK    WARNINGS    OK  UNNEEDED, same version is already published
Package 25/42HostnameOS / ArchINSTALLBUILDCHECKBUILD BIN
netresponse 1.70.0  (landing page)
Leo Lahti
git_last_commit: 2ffd016
git_last_commit_date: 2025-10-29 10:05:48 -0500
nebbiolo2Linux (Ubuntu 24.04.3 LTS) / x86_64  OK    OK    OK  UNNEEDED, same version is already published
kjohnson3macOS 13.7.7 Ventura / arm64  OK    OK    OK    OK  UNNEEDED, same version is already published
Package 26/42HostnameOS / ArchINSTALLBUILDCHECKBUILD BIN
partCNV 1.8.0  (landing page)
Ziyi Li
git_last_commit: d29e8a0
git_last_commit_date: 2025-10-29 11:23:33 -0500
nebbiolo2Linux (Ubuntu 24.04.3 LTS) / x86_64  OK    OK    OK  UNNEEDED, same version is already published
kjohnson3macOS 13.7.7 Ventura / arm64  OK    OK    OK    OK  UNNEEDED, same version is already published
Package 27/42HostnameOS / ArchINSTALLBUILDCHECKBUILD BIN
PathoStat 1.36.0  (landing page)
Solaiappan Manimaran
git_last_commit: a14c74c
git_last_commit_date: 2025-10-29 10:34:57 -0500
nebbiolo2Linux (Ubuntu 24.04.3 LTS) / x86_64  OK    OK    OK  UNNEEDED, same version is already published
kjohnson3macOS 13.7.7 Ventura / arm64  OK    OK    OK    OK  UNNEEDED, same version is already published
Package 28/42HostnameOS / ArchINSTALLBUILDCHECKBUILD BIN
PhyloProfile 2.2.1  (landing page)
Vinh Tran
git_last_commit: 0e73eed
git_last_commit_date: 2025-11-03 17:20:22 -0500
nebbiolo2Linux (Ubuntu 24.04.3 LTS) / x86_64  OK    OK    OK  UNNEEDED, same version is already published
kjohnson3macOS 13.7.7 Ventura / arm64  OK    OK    OK    OK  UNNEEDED, same version is already published
Package 29/42HostnameOS / ArchINSTALLBUILDCHECKBUILD BIN
Pigengene 1.36.0  (landing page)
Habil Zare
git_last_commit: 98253f3
git_last_commit_date: 2025-10-29 10:32:29 -0500
nebbiolo2Linux (Ubuntu 24.04.3 LTS) / x86_64  OK    OK    ERROR  
kjohnson3macOS 13.7.7 Ventura / arm64  OK    OK    ERROR    OK  
Package 30/42HostnameOS / ArchINSTALLBUILDCHECKBUILD BIN
PLSDAbatch 1.6.0  (landing page)
Yiwen (Eva) Wang
git_last_commit: 77783a7
git_last_commit_date: 2025-10-29 11:26:59 -0500
nebbiolo2Linux (Ubuntu 24.04.3 LTS) / x86_64  OK    OK    OK  UNNEEDED, same version is already published
kjohnson3macOS 13.7.7 Ventura / arm64  OK    OK    OK    OK  UNNEEDED, same version is already published
Package 31/42HostnameOS / ArchINSTALLBUILDCHECKBUILD BIN
rebook 1.20.0  (landing page)
Aaron Lun
git_last_commit: 0301643
git_last_commit_date: 2025-10-29 11:01:27 -0500
nebbiolo2Linux (Ubuntu 24.04.3 LTS) / x86_64  OK    OK    WARNINGS  UNNEEDED, same version is already published
kjohnson3macOS 13.7.7 Ventura / arm64  OK    OK    WARNINGS    OK  UNNEEDED, same version is already published
Package 32/42HostnameOS / ArchINSTALLBUILDCHECKBUILD BIN
RegEnrich 1.20.0  (landing page)
Weiyang Tao
git_last_commit: 4833032
git_last_commit_date: 2025-10-29 11:00:04 -0500
nebbiolo2Linux (Ubuntu 24.04.3 LTS) / x86_64  OK    OK    OK  UNNEEDED, same version is already published
kjohnson3macOS 13.7.7 Ventura / arm64  OK    OK    OK    OK  UNNEEDED, same version is already published
Package 33/42HostnameOS / ArchINSTALLBUILDCHECKBUILD BIN
RegionalST 1.8.0  (landing page)
Ziyi Li
git_last_commit: d77f4d3
git_last_commit_date: 2025-10-29 11:24:31 -0500
nebbiolo2Linux (Ubuntu 24.04.3 LTS) / x86_64  OK    OK    OK  UNNEEDED, same version is already published
kjohnson3macOS 13.7.7 Ventura / arm64  OK    OK    OK    OK  UNNEEDED, same version is already published
Package 34/42HostnameOS / ArchINSTALLBUILDCHECKBUILD BIN
regionReport 1.44.0  (landing page)
Leonardo Collado-Torres
git_last_commit: 0ae7ca5
git_last_commit_date: 2025-10-29 10:21:56 -0500
nebbiolo2Linux (Ubuntu 24.04.3 LTS) / x86_64  OK    OK    OK  UNNEEDED, same version is already published
kjohnson3macOS 13.7.7 Ventura / arm64  OK    OK    OK    OK  UNNEEDED, same version is already published
Package 35/42HostnameOS / ArchINSTALLBUILDCHECKBUILD BIN
Rmmquant 1.28.0  (landing page)
Zytnicki Matthias
git_last_commit: 60d48d5
git_last_commit_date: 2025-10-29 10:45:49 -0500
nebbiolo2Linux (Ubuntu 24.04.3 LTS) / x86_64  OK    OK    OK  UNNEEDED, same version is already published
kjohnson3macOS 13.7.7 Ventura / arm64  OK    OK    OK    OK  UNNEEDED, same version is already published
Package 36/42HostnameOS / ArchINSTALLBUILDCHECKBUILD BIN
RPA 1.66.0  (landing page)
Leo Lahti
git_last_commit: 38e23c1
git_last_commit_date: 2025-10-29 10:03:12 -0500
nebbiolo2Linux (Ubuntu 24.04.3 LTS) / x86_64  OK    OK    OK  UNNEEDED, same version is already published
kjohnson3macOS 13.7.7 Ventura / arm64  OK    OK    OK    OK  UNNEEDED, same version is already published
Package 37/42HostnameOS / ArchINSTALLBUILDCHECKBUILD BIN
Rqc 1.44.0  (landing page)
Welliton Souza
git_last_commit: e28c456
git_last_commit_date: 2025-10-29 10:22:46 -0500
nebbiolo2Linux (Ubuntu 24.04.3 LTS) / x86_64  OK    OK    OK  UNNEEDED, same version is already published
kjohnson3macOS 13.7.7 Ventura / arm64  OK    OK    OK    OK  UNNEEDED, same version is already published
Package 38/42HostnameOS / ArchINSTALLBUILDCHECKBUILD BIN
sangeranalyseR 1.20.0  (landing page)
Kuan-Hao Chao
git_last_commit: 7a09d8d
git_last_commit_date: 2025-10-29 10:59:40 -0500
nebbiolo2Linux (Ubuntu 24.04.3 LTS) / x86_64  ERROR    ERROR  skipped
kjohnson3macOS 13.7.7 Ventura / arm64  ERROR    ERROR  skippedskipped
Package 39/42HostnameOS / ArchINSTALLBUILDCHECKBUILD BIN
scMET 1.12.0  (landing page)
Andreas C. Kapourani
git_last_commit: df8d5cb
git_last_commit_date: 2025-10-29 11:17:57 -0500
nebbiolo2Linux (Ubuntu 24.04.3 LTS) / x86_64  OK    OK    OK  UNNEEDED, same version is already published
kjohnson3macOS 13.7.7 Ventura / arm64  OK    OK    OK    OK  UNNEEDED, same version is already published
Package 40/42HostnameOS / ArchINSTALLBUILDCHECKBUILD BIN
scTensor 2.20.0  (landing page)
Koki Tsuyuzaki
git_last_commit: 11f50bb
git_last_commit_date: 2025-10-29 10:49:00 -0500
nebbiolo2Linux (Ubuntu 24.04.3 LTS) / x86_64  OK    OK    WARNINGS  UNNEEDED, same version is already published
kjohnson3macOS 13.7.7 Ventura / arm64  OK    OK    WARNINGS    OK  UNNEEDED, same version is already published
Package 41/42HostnameOS / ArchINSTALLBUILDCHECKBUILD BIN
scTGIF 1.24.0  (landing page)
Koki Tsuyuzaki
git_last_commit: 30812b8
git_last_commit_date: 2025-10-29 10:55:37 -0500
nebbiolo2Linux (Ubuntu 24.04.3 LTS) / x86_64  OK    OK    OK  UNNEEDED, same version is already published
kjohnson3macOS 13.7.7 Ventura / arm64  OK    OK    OK    OK  UNNEEDED, same version is already published
Package 42/42HostnameOS / ArchINSTALLBUILDCHECKBUILD BIN
srnadiff 1.30.0  (landing page)
Zytnicki Matthias
git_last_commit: 809d1c9
git_last_commit_date: 2025-10-29 10:43:01 -0500
nebbiolo2Linux (Ubuntu 24.04.3 LTS) / x86_64  OK    OK    WARNINGS  UNNEEDED, same version is already published
kjohnson3macOS 13.7.7 Ventura / arm64  OK    OK    WARNINGS    OK  UNNEEDED, same version is already published