| Back to Multiple platform build/check report for BioC 3.22: simplified long |
|
This page was generated on 2025-11-07 12:00 -0500 (Fri, 07 Nov 2025).
| Hostname | OS | Arch (*) | R version | Installed pkgs |
|---|---|---|---|---|
| nebbiolo2 | Linux (Ubuntu 24.04.3 LTS) | x86_64 | 4.5.1 Patched (2025-08-23 r88802) -- "Great Square Root" | 4902 |
| kjohnson3 | macOS 13.7.7 Ventura | arm64 | 4.5.1 Patched (2025-09-10 r88807) -- "Great Square Root" | 4638 |
| Click on any hostname to see more info about the system (e.g. compilers) (*) as reported by 'uname -p', except on Windows and Mac OS X | ||||
| Package 221/2361 | Hostname | OS / Arch | INSTALL | BUILD | CHECK | BUILD BIN | ||||||||
| BioNAR 1.12.0 (landing page) Anatoly Sorokin
| nebbiolo2 | Linux (Ubuntu 24.04.3 LTS) / x86_64 | OK | OK | ERROR | |||||||||
| kjohnson3 | macOS 13.7.7 Ventura / arm64 | OK | OK | ERROR | OK | |||||||||
|
To the developers/maintainers of the BioNAR package: - Allow up to 24 hours (and sometimes 48 hours) for your latest push to git@git.bioconductor.org:packages/BioNAR.git to reflect on this report. See Troubleshooting Build Report for more information. - Use the following Renviron settings to reproduce errors and warnings. - If 'R CMD check' started to fail recently on the Linux builder(s) over a missing dependency, add the missing dependency to 'Suggests:' in your DESCRIPTION file. See Renviron.bioc for more information. |
| Package: BioNAR |
| Version: 1.12.0 |
| Command: /Library/Frameworks/R.framework/Resources/bin/R CMD check --install=check:BioNAR.install-out.txt --library=/Library/Frameworks/R.framework/Resources/library --no-vignettes --timings BioNAR_1.12.0.tar.gz |
| StartedAt: 2025-11-06 18:42:55 -0500 (Thu, 06 Nov 2025) |
| EndedAt: 2025-11-06 18:45:19 -0500 (Thu, 06 Nov 2025) |
| EllapsedTime: 144.7 seconds |
| RetCode: 1 |
| Status: ERROR |
| CheckDir: BioNAR.Rcheck |
| Warnings: NA |
##############################################################################
##############################################################################
###
### Running command:
###
### /Library/Frameworks/R.framework/Resources/bin/R CMD check --install=check:BioNAR.install-out.txt --library=/Library/Frameworks/R.framework/Resources/library --no-vignettes --timings BioNAR_1.12.0.tar.gz
###
##############################################################################
##############################################################################
* using log directory ‘/Users/biocbuild/bbs-3.22-bioc/meat/BioNAR.Rcheck’
* using R version 4.5.1 Patched (2025-09-10 r88807)
* using platform: aarch64-apple-darwin20
* R was compiled by
Apple clang version 16.0.0 (clang-1600.0.26.6)
GNU Fortran (GCC) 14.2.0
* running under: macOS Ventura 13.7.7
* using session charset: UTF-8
* using option ‘--no-vignettes’
* checking for file ‘BioNAR/DESCRIPTION’ ... OK
* this is package ‘BioNAR’ version ‘1.12.0’
* package encoding: UTF-8
* checking package namespace information ... OK
* checking package dependencies ... OK
* checking if this is a source package ... OK
* checking if there is a namespace ... OK
* checking for hidden files and directories ... OK
* checking for portable file names ... OK
* checking for sufficient/correct file permissions ... OK
* checking whether package ‘BioNAR’ can be installed ... OK
* checking installed package size ... INFO
installed size is 6.8Mb
sub-directories of 1Mb or more:
extdata 6.1Mb
* checking package directory ... OK
* checking ‘build’ directory ... OK
* checking DESCRIPTION meta-information ... OK
* checking top-level files ... OK
* checking for left-over files ... OK
* checking index information ... OK
* checking package subdirectories ... OK
* checking code files for non-ASCII characters ... OK
* checking R files for syntax errors ... OK
* checking whether the package can be loaded ... OK
* checking whether the package can be loaded with stated dependencies ... OK
* checking whether the package can be unloaded cleanly ... OK
* checking whether the namespace can be loaded with stated dependencies ... OK
* checking whether the namespace can be unloaded cleanly ... OK
* checking dependencies in R code ... NOTE
Package in Depends field not imported from: ‘Rdpack’
These packages need to be imported from (in the NAMESPACE file)
for when this namespace is loaded but not attached.
There are ::: calls to the package's namespace in its code. A package
almost never needs to use ::: for its own objects:
‘addNoise’ ‘gofs’ ‘highlightRate’ ‘plotSigmoid’
* checking S3 generic/method consistency ... OK
* checking replacement functions ... OK
* checking foreign function calls ... OK
* checking R code for possible problems ... OK
* checking Rd files ... OK
* checking Rd metadata ... OK
* checking Rd cross-references ... NOTE
Unknown package ‘clusterCons’ in Rd xrefs
* checking for missing documentation entries ... OK
* checking for code/documentation mismatches ... OK
* checking Rd \usage sections ... OK
* checking Rd contents ... OK
* checking for unstated dependencies in examples ... OK
* checking contents of ‘data’ directory ... OK
* checking data for non-ASCII characters ... OK
* checking LazyData ... OK
* checking data for ASCII and uncompressed saves ... OK
* checking files in ‘vignettes’ ... OK
* checking examples ... OK
* checking for unstated dependencies in ‘tests’ ... OK
* checking tests ...
Running ‘testthat.R’
ERROR
Running the tests in ‘tests/testthat.R’ failed.
Last 13 lines of output:
[ FAIL 1 | WARN 0 | SKIP 2 | PASS 124 ]
══ Skipped tests (2) ═══════════════════════════════════════════════════════════
• On CRAN (2): 'test_bridgeness.R:38:5', 'test_bridgeness.R:81:5'
══ Failed tests ════════════════════════════════════════════════════════════════
── Failure ('test_bridgeness.R:101:5'): Norm Modularity ────────────────────────
`nm` (`actual`) not equal to 0.009390085 (`expected`).
`actual`: 0.0070
`expected`: 0.0094
[ FAIL 1 | WARN 0 | SKIP 2 | PASS 124 ]
Error: Test failures
Execution halted
* checking for unstated dependencies in vignettes ... OK
* checking package vignettes ... OK
* checking running R code from vignettes ... SKIPPED
* checking re-building of vignette outputs ... SKIPPED
* checking PDF version of manual ... OK
* DONE
Status: 1 ERROR, 2 NOTEs
See
‘/Users/biocbuild/bbs-3.22-bioc/meat/BioNAR.Rcheck/00check.log’
for details.
BioNAR.Rcheck/00install.out
############################################################################## ############################################################################## ### ### Running command: ### ### /Library/Frameworks/R.framework/Resources/bin/R CMD INSTALL BioNAR ### ############################################################################## ############################################################################## * installing to library ‘/Library/Frameworks/R.framework/Versions/4.5-arm64/Resources/library’ * installing *source* package ‘BioNAR’ ... ** this is package ‘BioNAR’ version ‘1.12.0’ ** using staged installation ** R ** data *** moving datasets to lazyload DB ** inst ** byte-compile and prepare package for lazy loading ** help *** installing help indices ** building package indices ** installing vignettes ** testing if installed package can be loaded from temporary location ** testing if installed package can be loaded from final location ** testing if installed package keeps a record of temporary installation path * DONE (BioNAR)
BioNAR.Rcheck/tests/testthat.Rout.fail
R version 4.5.1 Patched (2025-09-10 r88807) -- "Great Square Root"
Copyright (C) 2025 The R Foundation for Statistical Computing
Platform: aarch64-apple-darwin20
R is free software and comes with ABSOLUTELY NO WARRANTY.
You are welcome to redistribute it under certain conditions.
Type 'license()' or 'licence()' for distribution details.
R is a collaborative project with many contributors.
Type 'contributors()' for more information and
'citation()' on how to cite R or R packages in publications.
Type 'demo()' for some demos, 'help()' for on-line help, or
'help.start()' for an HTML browser interface to help.
Type 'q()' to quit R.
> library(testthat)
> library(BioNAR)
Loading required package: igraph
Attaching package: 'igraph'
The following object is masked from 'package:testthat':
compare
The following objects are masked from 'package:stats':
decompose, spectrum
The following object is masked from 'package:base':
union
Loading required package: poweRlaw
Loading required package: latex2exp
Loading required package: RSpectra
Loading required package: Rdpack
Attaching package: 'BioNAR'
The following object is masked from 'package:igraph':
permute
>
> test_check("BioNAR")
[ FAIL 1 | WARN 0 | SKIP 2 | PASS 124 ]
══ Skipped tests (2) ═══════════════════════════════════════════════════════════
• On CRAN (2): 'test_bridgeness.R:38:5', 'test_bridgeness.R:81:5'
══ Failed tests ════════════════════════════════════════════════════════════════
── Failure ('test_bridgeness.R:101:5'): Norm Modularity ────────────────────────
`nm` (`actual`) not equal to 0.009390085 (`expected`).
`actual`: 0.0070
`expected`: 0.0094
[ FAIL 1 | WARN 0 | SKIP 2 | PASS 124 ]
Error: Test failures
Execution halted
BioNAR.Rcheck/BioNAR-Ex.timings
| name | user | system | elapsed | |
| FitDegree | 0.335 | 0.018 | 1.871 | |
| addEdgeAtts | 3.581 | 1.049 | 4.669 | |
| annotateGOont | 1.927 | 0.306 | 2.253 | |
| annotateGeneNames | 0.086 | 0.005 | 0.092 | |
| annotateGoBP | 1.434 | 0.308 | 1.753 | |
| annotateGoCC | 1.031 | 0.201 | 1.236 | |
| annotateGoMF | 1.238 | 0.281 | 1.529 | |
| annotatePresynaptic | 0.434 | 0.163 | 0.599 | |
| annotateSCHanno | 1.965 | 0.451 | 2.425 | |
| annotateTopOntoOVG | 3.024 | 0.523 | 3.552 | |
| annotateVertex | 0.001 | 0.000 | 0.001 | |
| applpMatrixToGraph | 0 | 0 | 0 | |
| buildNetwork | 0.001 | 0.000 | 0.002 | |
| calcAllClustering | 1.700 | 0.004 | 1.707 | |
| calcBridgeness | 0.021 | 0.001 | 0.021 | |
| calcCentrality | 0.028 | 0.001 | 0.030 | |
| calcCentralityExternalDistances | 0.166 | 0.014 | 0.180 | |
| calcCentralityInternalDistances | 0.143 | 0.004 | 0.148 | |
| calcClustering | 0.002 | 0.000 | 0.001 | |
| calcDiseasePairs | 0.211 | 0.009 | 0.226 | |
| calcEntropy | 3.670 | 0.859 | 4.537 | |
| calcMembership | 0.001 | 0.000 | 0.002 | |
| calcReclusterMatrix | 0.01 | 0.00 | 0.01 | |
| calcSparsness | 1.539 | 0.463 | 2.024 | |
| clusterORA | 0.104 | 0.007 | 0.112 | |
| clusteringSummary | 3.930 | 0.004 | 3.934 | |
| degreeBinnedGDAs | 0.101 | 0.009 | 0.111 | |
| escapeAnnotation | 0.000 | 0.000 | 0.001 | |
| evalCentralitySignificance | 0.150 | 0.007 | 0.156 | |
| findLCC | 0.001 | 0.000 | 0.002 | |
| getAnnotationList | 0.019 | 0.002 | 0.021 | |
| getAnnotationVertexList | 0.023 | 0.004 | 0.027 | |
| getBridgeness | 0.019 | 0.003 | 0.023 | |
| getCentralityMatrix | 2.781 | 0.413 | 3.200 | |
| getClusterSubgraphByID | 0.007 | 0.000 | 0.008 | |
| getClustering | 0.007 | 0.000 | 0.007 | |
| getCommunityGraph | 0.007 | 0.001 | 0.008 | |
| getDType | 0 | 0 | 0 | |
| getDYNAMO | 0.011 | 0.000 | 0.012 | |
| getDiseases | 0 | 0 | 0 | |
| getEntropy | 3.423 | 0.782 | 4.237 | |
| getEntropyRate | 0.002 | 0.000 | 0.002 | |
| getGNP | 0.006 | 0.000 | 0.006 | |
| getGraphCentralityECDF | 2.781 | 0.548 | 3.345 | |
| getPA | 0.005 | 0.001 | 0.006 | |
| getRandomGraphCentrality | 0.154 | 0.010 | 3.782 | |
| getRobustness | 0.145 | 0.009 | 0.155 | |
| layoutByCluster | 0.036 | 0.000 | 0.036 | |
| layoutByRecluster | 0.030 | 0.001 | 0.030 | |
| makeConsensusMatrix | 0.141 | 0.007 | 0.148 | |
| makeMembership | 0.000 | 0.000 | 0.001 | |
| metlMatrix | 0.003 | 0.000 | 0.004 | |
| normModularity | 1.890 | 0.468 | 2.383 | |
| permute | 0 | 0 | 0 | |
| plotBridgeness | 0.149 | 0.008 | 0.157 | |
| plotEntropy | 3.772 | 0.992 | 4.793 | |
| prepareGDA | 0.082 | 0.010 | 0.095 | |
| recluster | 0.011 | 0.002 | 0.014 | |
| removeVertexTerm | 0.002 | 0.001 | 0.002 | |
| runPermDisease | 2.678 | 0.120 | 2.803 | |
| sampleDegBinnedGDA | 0.130 | 0.010 | 0.142 | |
| sampleGraphClust | 0.009 | 0.000 | 0.009 | |
| unescapeAnnotation | 0 | 0 | 0 | |
| zeroNA | 0 | 0 | 0 | |