Back to Multiple platform build/check report for BioC 3.21:   simplified   long
A[B]CDEFGHIJKLMNOPQRSTUVWXYZ

This page was generated on 2025-10-16 11:36 -0400 (Thu, 16 Oct 2025).

HostnameOSArch (*)R versionInstalled pkgs
nebbiolo1Linux (Ubuntu 24.04.3 LTS)x86_644.5.1 (2025-06-13) -- "Great Square Root" 4833
merida1macOS 12.7.6 Montereyx86_644.5.1 RC (2025-06-05 r88288) -- "Great Square Root" 4614
kjohnson1macOS 13.7.5 Venturaarm644.5.1 Patched (2025-06-14 r88325) -- "Great Square Root" 4555
kunpeng2Linux (openEuler 24.03 LTS)aarch64R Under development (unstable) (2025-02-19 r87757) -- "Unsuffered Consequences" 4586
Click on any hostname to see more info about the system (e.g. compilers)      (*) as reported by 'uname -p', except on Windows and Mac OS X

All results for package BSgenome


To the developers/maintainers of the BSgenome package:
- Allow up to 24 hours (and sometimes 48 hours) for your latest push to git@git.bioconductor.org:packages/BSgenome.git to reflect on this report. See Troubleshooting Build Report for more information.
- Use the following Renviron settings to reproduce errors and warnings.
- If 'R CMD check' started to fail recently on the Linux builder(s) over a missing dependency, add the missing dependency to 'Suggests:' in your DESCRIPTION file. See Renviron.bioc for more information.

raw results

Package 248/2341HostnameOS / ArchINSTALLBUILDCHECKBUILD BIN
BSgenome 1.76.0  (landing page)
Hervé Pagès
Snapshot Date: 2025-10-13 13:40 -0400 (Mon, 13 Oct 2025)
git_url: https://git.bioconductor.org/packages/BSgenome
git_branch: RELEASE_3_21
git_last_commit: 93c0098
git_last_commit_date: 2025-04-15 09:38:32 -0400 (Tue, 15 Apr 2025)
nebbiolo1Linux (Ubuntu 24.04.3 LTS) / x86_64  OK    OK    WARNINGS  UNNEEDED, same version is already published
merida1macOS 12.7.6 Monterey / x86_64  OK    OK    WARNINGS    OK  UNNEEDED, same version is already published
kjohnson1macOS 13.7.5 Ventura / arm64  OK    OK    WARNINGS    OK  UNNEEDED, same version is already published
kunpeng2Linux (openEuler 24.03 LTS) / aarch64  OK    OK    WARNINGS  



Results for Bioconductor software packages that depend directly on package BSgenome

QUICK STATSOS / ArchINSTALLBUILDCHECKBUILD BIN
nebbiolo1Linux (Ubuntu 24.04.3 LTS) / x86_64
0496
0496
051477
merida1macOS 12.7.6 Monterey / x86_64
0397
1495
161474
0194
kjohnson1macOS 13.7.5 Ventura / arm64
0595
0694
161275
0193
kunpeng2Linux (openEuler 24.03 LTS) / aarch64
0496
4888
141163
Package 1/100HostnameOS / ArchINSTALLBUILDCHECKBUILD BIN
AllelicImbalance 1.46.1  (landing page)
Jesper R Gadin
git_last_commit: 96ed018
git_last_commit_date: 2025-05-08 12:23:21 -0400
nebbiolo1Linux (Ubuntu 24.04.3 LTS) / x86_64  OK    OK    OK  UNNEEDED, same version is already published
merida1macOS 12.7.6 Monterey / x86_64  OK    OK    OK    OK  UNNEEDED, same version is already published
kjohnson1macOS 13.7.5 Ventura / arm64  OK    OK    OK    OK  UNNEEDED, same version is already published
kunpeng2Linux (openEuler 24.03 LTS) / aarch64  OK    OK    OK  
Package 2/100HostnameOS / ArchINSTALLBUILDCHECKBUILD BIN
appreci8R 1.26.0  (landing page)
Sarah Sandmann
git_last_commit: f62d697
git_last_commit_date: 2025-04-15 11:35:15 -0400
nebbiolo1Linux (Ubuntu 24.04.3 LTS) / x86_64  OK    OK    OK  UNNEEDED, same version is already published
merida1macOS 12.7.6 Monterey / x86_64  OK    OK    OK    OK  UNNEEDED, same version is already published
kjohnson1macOS 13.7.5 Ventura / arm64  OK    OK    OK    OK  UNNEEDED, same version is already published
kunpeng2Linux (openEuler 24.03 LTS) / aarch64  OK    OK    OK  
Package 3/100HostnameOS / ArchINSTALLBUILDCHECKBUILD BIN
ATACseqQC 1.32.0  (landing page)
Jianhong Ou
git_last_commit: 87b9b51
git_last_commit_date: 2025-04-15 11:11:04 -0400
nebbiolo1Linux (Ubuntu 24.04.3 LTS) / x86_64  OK    OK    OK  UNNEEDED, same version is already published
merida1macOS 12.7.6 Monterey / x86_64  OK    OK    OK    OK  UNNEEDED, same version is already published
kjohnson1macOS 13.7.5 Ventura / arm64  OK    OK    OK    OK  UNNEEDED, same version is already published
kunpeng2Linux (openEuler 24.03 LTS) / aarch64  OK    OK    OK  
Package 4/100HostnameOS / ArchINSTALLBUILDCHECKBUILD BIN
atSNP 1.24.0  (landing page)
Sunyoung Shin
git_last_commit: d067523
git_last_commit_date: 2025-04-15 11:41:11 -0400
nebbiolo1Linux (Ubuntu 24.04.3 LTS) / x86_64  OK    OK    OK  UNNEEDED, same version is already published
merida1macOS 12.7.6 Monterey / x86_64  OK    OK    OK    OK  UNNEEDED, same version is already published
kjohnson1macOS 13.7.5 Ventura / arm64  OK    OK    OK    OK  UNNEEDED, same version is already published
kunpeng2Linux (openEuler 24.03 LTS) / aarch64  OK    OK    OK  
Package 5/100HostnameOS / ArchINSTALLBUILDCHECKBUILD BIN
bambu 3.10.1  (landing page)
Ying Chen
git_last_commit: 6647ed5
git_last_commit_date: 2025-06-12 21:57:42 -0400
nebbiolo1Linux (Ubuntu 24.04.3 LTS) / x86_64  OK    OK    OK  UNNEEDED, same version is already published
merida1macOS 12.7.6 Monterey / x86_64  OK    OK    OK    OK  UNNEEDED, same version is already published
kjohnson1macOS 13.7.5 Ventura / arm64  OK    OK    OK    OK  UNNEEDED, same version is already published
kunpeng2Linux (openEuler 24.03 LTS) / aarch64  OK    TIMEOUT  skipped
Package 6/100HostnameOS / ArchINSTALLBUILDCHECKBUILD BIN
BEAT 1.46.0  (landing page)
Kemal Akman
git_last_commit: e78cc42
git_last_commit_date: 2025-04-15 10:28:19 -0400
nebbiolo1Linux (Ubuntu 24.04.3 LTS) / x86_64  OK    OK    OK  UNNEEDED, same version is already published
merida1macOS 12.7.6 Monterey / x86_64  OK    OK    OK    OK  UNNEEDED, same version is already published
kjohnson1macOS 13.7.5 Ventura / arm64  OK    OK    OK    OK  UNNEEDED, same version is already published
kunpeng2Linux (openEuler 24.03 LTS) / aarch64  OK    OK    OK  
Package 7/100HostnameOS / ArchINSTALLBUILDCHECKBUILD BIN
BSgenomeForge 1.8.1  (landing page)
Hervé Pagès
git_last_commit: bdbef5a
git_last_commit_date: 2025-09-22 19:53:02 -0400
nebbiolo1Linux (Ubuntu 24.04.3 LTS) / x86_64  OK    OK    OK  UNNEEDED, same version is already published
merida1macOS 12.7.6 Monterey / x86_64  OK    OK    OK    OK  UNNEEDED, same version is already published
kjohnson1macOS 13.7.5 Ventura / arm64  OK    OK    OK    OK  UNNEEDED, same version is already published
kunpeng2Linux (openEuler 24.03 LTS) / aarch64  OK    OK    OK  
Package 8/100HostnameOS / ArchINSTALLBUILDCHECKBUILD BIN
bsseq 1.44.1  (landing page)
Kasper Daniel Hansen
git_last_commit: 03b21ff
git_last_commit_date: 2025-05-08 12:27:18 -0400
nebbiolo1Linux (Ubuntu 24.04.3 LTS) / x86_64  OK    OK    OK  UNNEEDED, same version is already published
merida1macOS 12.7.6 Monterey / x86_64  OK    OK    OK    OK  UNNEEDED, same version is already published
kjohnson1macOS 13.7.5 Ventura / arm64  OK    OK    OK    OK  UNNEEDED, same version is already published
kunpeng2Linux (openEuler 24.03 LTS) / aarch64  OK    OK    OK  
Package 9/100HostnameOS / ArchINSTALLBUILDCHECKBUILD BIN
BUSpaRse 1.22.2  (landing page)
Lambda Moses
git_last_commit: df371c4
git_last_commit_date: 2025-09-15 15:34:54 -0400
nebbiolo1Linux (Ubuntu 24.04.3 LTS) / x86_64  OK    ERROR  skipped
merida1macOS 12.7.6 Monterey / x86_64  OK    ERROR  skippedskipped
kjohnson1macOS 13.7.5 Ventura / arm64  OK    ERROR  skippedskipped
kunpeng2Linux (openEuler 24.03 LTS) / aarch64  OK    ERROR  skipped
Package 10/100HostnameOS / ArchINSTALLBUILDCHECKBUILD BIN
CAGEr 2.14.0  (landing page)
Charles Plessy
git_last_commit: 446e1ca
git_last_commit_date: 2025-04-15 10:18:00 -0400
nebbiolo1Linux (Ubuntu 24.04.3 LTS) / x86_64  OK    OK    OK  UNNEEDED, same version is already published
merida1macOS 12.7.6 Monterey / x86_64  OK    OK    OK    OK  UNNEEDED, same version is already published
kjohnson1macOS 13.7.5 Ventura / arm64  OK    OK    OK    OK  UNNEEDED, same version is already published
kunpeng2Linux (openEuler 24.03 LTS) / aarch64  OK    OK    OK  
Package 11/100HostnameOS / ArchINSTALLBUILDCHECKBUILD BIN
ChIPanalyser 1.30.0  (landing page)
Patrick C.N. Martin
git_last_commit: ffb291b
git_last_commit_date: 2025-04-15 11:13:58 -0400
nebbiolo1Linux (Ubuntu 24.04.3 LTS) / x86_64  OK    OK    OK  UNNEEDED, same version is already published
merida1macOS 12.7.6 Monterey / x86_64  OK    TIMEOUT  skippedskipped
kjohnson1macOS 13.7.5 Ventura / arm64  OK    OK    OK    OK  UNNEEDED, same version is already published
kunpeng2Linux (openEuler 24.03 LTS) / aarch64  OK    OK    OK  
Package 12/100HostnameOS / ArchINSTALLBUILDCHECKBUILD BIN
chromVAR 1.30.1  (landing page)
Alicia Schep
git_last_commit: c6c5a2c
git_last_commit_date: 2025-05-08 12:27:21 -0400
nebbiolo1Linux (Ubuntu 24.04.3 LTS) / x86_64  OK    OK    OK  UNNEEDED, same version is already published
merida1macOS 12.7.6 Monterey / x86_64  OK    OK    OK    OK  UNNEEDED, same version is already published
kjohnson1macOS 13.7.5 Ventura / arm64  OK    OK    OK    OK  UNNEEDED, same version is already published
kunpeng2Linux (openEuler 24.03 LTS) / aarch64  OK    OK    OK  
Package 13/100HostnameOS / ArchINSTALLBUILDCHECKBUILD BIN
circRNAprofiler 1.22.1  (landing page)
Simona Aufiero
git_last_commit: 9355431
git_last_commit_date: 2025-05-08 03:55:04 -0400
nebbiolo1Linux (Ubuntu 24.04.3 LTS) / x86_64  OK    OK    OK  UNNEEDED, same version is already published
merida1macOS 12.7.6 Monterey / x86_64  OK    OK    OK    OK  UNNEEDED, same version is already published
kjohnson1macOS 13.7.5 Ventura / arm64  OK    OK    OK    OK  UNNEEDED, same version is already published
kunpeng2Linux (openEuler 24.03 LTS) / aarch64  OK    OK    OK  
Package 14/100HostnameOS / ArchINSTALLBUILDCHECKBUILD BIN
cleanUpdTSeq 1.46.0  (landing page)
Jianhong Ou ; Lihua Julie Zhu
git_last_commit: 93f1add
git_last_commit_date: 2025-04-15 10:25:06 -0400
nebbiolo1Linux (Ubuntu 24.04.3 LTS) / x86_64  OK    OK    OK  UNNEEDED, same version is already published
merida1macOS 12.7.6 Monterey / x86_64  OK    OK    OK    OK  UNNEEDED, same version is already published
kjohnson1macOS 13.7.5 Ventura / arm64  OK    OK    OK    OK  UNNEEDED, same version is already published
kunpeng2Linux (openEuler 24.03 LTS) / aarch64  OK    OK    OK  
Package 15/100HostnameOS / ArchINSTALLBUILDCHECKBUILD BIN
CleanUpRNAseq 1.2.0  (landing page)
Haibo Liu
git_last_commit: f0b3b4b
git_last_commit_date: 2025-04-15 13:38:25 -0400
nebbiolo1Linux (Ubuntu 24.04.3 LTS) / x86_64  OK    OK    OK  UNNEEDED, same version is already published
merida1macOS 12.7.6 Monterey / x86_64  OK    OK    OK    OK  UNNEEDED, same version is already published
kjohnson1macOS 13.7.5 Ventura / arm64  OK    OK    OK    OK  UNNEEDED, same version is already published
kunpeng2Linux (openEuler 24.03 LTS) / aarch64  OK    OK    OK  
Package 16/100HostnameOS / ArchINSTALLBUILDCHECKBUILD BIN
cliProfiler 1.14.0  (landing page)
You Zhou
git_last_commit: f65f420
git_last_commit_date: 2025-04-15 12:40:26 -0400
nebbiolo1Linux (Ubuntu 24.04.3 LTS) / x86_64  OK    OK    OK  UNNEEDED, same version is already published
merida1macOS 12.7.6 Monterey / x86_64  OK    OK    OK    OK  UNNEEDED, same version is already published
kjohnson1macOS 13.7.5 Ventura / arm64  OK    OK    OK    OK  UNNEEDED, same version is already published
kunpeng2Linux (openEuler 24.03 LTS) / aarch64  OK    OK    OK  
Package 17/100HostnameOS / ArchINSTALLBUILDCHECKBUILD BIN
crisprBowtie 1.12.0  (landing page)
Jean-Philippe Fortin
git_last_commit: 0ce73a4
git_last_commit_date: 2025-04-15 12:46:10 -0400
nebbiolo1Linux (Ubuntu 24.04.3 LTS) / x86_64  OK    OK    OK  UNNEEDED, same version is already published
merida1macOS 12.7.6 Monterey / x86_64  OK    OK    OK    OK  UNNEEDED, same version is already published
kjohnson1macOS 13.7.5 Ventura / arm64  OK    OK    OK    OK  UNNEEDED, same version is already published
kunpeng2Linux (openEuler 24.03 LTS) / aarch64  OK    OK    OK  
Package 18/100HostnameOS / ArchINSTALLBUILDCHECKBUILD BIN
crisprBwa 1.12.0  (landing page)
Jean-Philippe Fortin
git_last_commit: f9b937a
git_last_commit_date: 2025-04-15 12:50:29 -0400
nebbiolo1Linux (Ubuntu 24.04.3 LTS) / x86_64  OK    OK    OK  UNNEEDED, same version is already published
merida1macOS 12.7.6 Monterey / x86_64  OK    OK    OK    OK  UNNEEDED, same version is already published
kjohnson1macOS 13.7.5 Ventura / arm64  OK    OK    OK    OK  UNNEEDED, same version is already published
kunpeng2Linux (openEuler 24.03 LTS) / aarch64  OK    OK    OK  
Package 19/100HostnameOS / ArchINSTALLBUILDCHECKBUILD BIN
crisprDesign 1.10.0  (landing page)
Jean-Philippe Fortin
git_last_commit: 30df11a
git_last_commit_date: 2025-04-15 12:53:58 -0400
nebbiolo1Linux (Ubuntu 24.04.3 LTS) / x86_64  OK    OK    OK  UNNEEDED, same version is already published
merida1macOS 12.7.6 Monterey / x86_64  OK    OK    OK    OK  UNNEEDED, same version is already published
kjohnson1macOS 13.7.5 Ventura / arm64  OK    OK    OK    OK  UNNEEDED, same version is already published
kunpeng2Linux (openEuler 24.03 LTS) / aarch64  OK    OK    OK  
Package 20/100HostnameOS / ArchINSTALLBUILDCHECKBUILD BIN
CRISPRseek 1.48.0  (landing page)
Lihua Julie Zhu
git_last_commit: d7b7729
git_last_commit_date: 2025-04-15 10:27:46 -0400
nebbiolo1Linux (Ubuntu 24.04.3 LTS) / x86_64  OK    OK    OK  UNNEEDED, same version is already published
merida1macOS 12.7.6 Monterey / x86_64  OK    OK    TIMEOUT    OK  
kjohnson1macOS 13.7.5 Ventura / arm64  OK    OK    TIMEOUT    OK  
kunpeng2Linux (openEuler 24.03 LTS) / aarch64  OK    OK    OK  
Package 21/100HostnameOS / ArchINSTALLBUILDCHECKBUILD BIN
crisprShiny 1.4.0  (landing page)
Jean-Philippe Fortin
git_last_commit: 6b13cd5
git_last_commit_date: 2025-04-15 13:29:06 -0400
nebbiolo1Linux (Ubuntu 24.04.3 LTS) / x86_64  OK    OK    OK  UNNEEDED, same version is already published
merida1macOS 12.7.6 Monterey / x86_64  OK    OK    OK    OK  UNNEEDED, same version is already published
kjohnson1macOS 13.7.5 Ventura / arm64  OK    OK    OK    OK  UNNEEDED, same version is already published
kunpeng2Linux (openEuler 24.03 LTS) / aarch64  OK    OK    OK  
Package 22/100HostnameOS / ArchINSTALLBUILDCHECKBUILD BIN
crisprViz 1.10.0  (landing page)
Jean-Philippe Fortin
git_last_commit: 66db027
git_last_commit_date: 2025-04-15 12:56:16 -0400
nebbiolo1Linux (Ubuntu 24.04.3 LTS) / x86_64  OK    OK    OK  UNNEEDED, same version is already published
merida1macOS 12.7.6 Monterey / x86_64  OK    OK    OK    OK  UNNEEDED, same version is already published
kjohnson1macOS 13.7.5 Ventura / arm64  OK    OK    OK    OK  UNNEEDED, same version is already published
kunpeng2Linux (openEuler 24.03 LTS) / aarch64  OK    OK    OK  
Package 23/100HostnameOS / ArchINSTALLBUILDCHECKBUILD BIN
diffHic 1.40.0  (landing page)
Aaron Lun , Gordon Smyth , Hannah Coughlin
git_last_commit: 013f5c9
git_last_commit_date: 2025-04-15 10:50:41 -0400
nebbiolo1Linux (Ubuntu 24.04.3 LTS) / x86_64  OK    OK    OK  UNNEEDED, same version is already published
merida1macOS 12.7.6 Monterey / x86_64  OK    OK    OK    OK  UNNEEDED, same version is already published
kjohnson1macOS 13.7.5 Ventura / arm64  OK    OK    OK    OK  UNNEEDED, same version is already published
kunpeng2Linux (openEuler 24.03 LTS) / aarch64  OK    OK    OK  
Package 24/100HostnameOS / ArchINSTALLBUILDCHECKBUILD BIN
enhancerHomologSearch 1.14.0  (landing page)
Jianhong Ou
git_last_commit: 8e1b942
git_last_commit_date: 2025-04-15 12:36:26 -0400
nebbiolo1Linux (Ubuntu 24.04.3 LTS) / x86_64  OK    OK    OK  UNNEEDED, same version is already published
merida1macOS 12.7.6 Monterey / x86_64  OK    OK    OK    OK  UNNEEDED, same version is already published
kjohnson1macOS 13.7.5 Ventura / arm64  OK    OK    OK    OK  UNNEEDED, same version is already published
kunpeng2Linux (openEuler 24.03 LTS) / aarch64  OK    OK    OK  
Package 25/100HostnameOS / ArchINSTALLBUILDCHECKBUILD BIN
esATAC 1.30.0  (landing page)
Zheng Wei
git_last_commit: b2a7f51
git_last_commit_date: 2025-04-15 11:16:14 -0400
nebbiolo1Linux (Ubuntu 24.04.3 LTS) / x86_64  OK    OK    OK  UNNEEDED, same version is already published
merida1macOS 12.7.6 Monterey / x86_64  OK    OK    OK    OK  UNNEEDED, same version is already published
kjohnson1macOS 13.7.5 Ventura / arm64  OK    OK    OK    OK  UNNEEDED, same version is already published
kunpeng2Linux (openEuler 24.03 LTS) / aarch64  OK    OK    OK  
Package 26/100HostnameOS / ArchINSTALLBUILDCHECKBUILD BIN
EventPointer 3.16.0  (landing page)
Juan A. Ferrer-Bonsoms
git_last_commit: 62fef6c
git_last_commit_date: 2025-07-15 03:51:34 -0400
nebbiolo1Linux (Ubuntu 24.04.3 LTS) / x86_64  OK    OK    OK  UNNEEDED, same version is already published
merida1macOS 12.7.6 Monterey / x86_64  OK    OK    OK    OK  UNNEEDED, same version is already published
kjohnson1macOS 13.7.5 Ventura / arm64  OK    OK    OK    OK  UNNEEDED, same version is already published
kunpeng2Linux (openEuler 24.03 LTS) / aarch64  OK    OK    OK  
Package 27/100HostnameOS / ArchINSTALLBUILDCHECKBUILD BIN
FRASER 2.4.3  (landing page)
Christian Mertes
git_last_commit: 9298168
git_last_commit_date: 2025-06-04 14:34:50 -0400
nebbiolo1Linux (Ubuntu 24.04.3 LTS) / x86_64  OK    OK    OK  UNNEEDED, same version is already published
merida1macOS 12.7.6 Monterey / x86_64  OK    OK    OK    OK  UNNEEDED, same version is already published
kjohnson1macOS 13.7.5 Ventura / arm64  OK    OK    OK    OK  UNNEEDED, same version is already published
kunpeng2Linux (openEuler 24.03 LTS) / aarch64  OK    OK    OK  
Package 28/100HostnameOS / ArchINSTALLBUILDCHECKBUILD BIN
gcapc 1.32.0  (landing page)
Mingxiang Teng
git_last_commit: bd66b5c
git_last_commit_date: 2025-04-15 11:07:27 -0400
nebbiolo1Linux (Ubuntu 24.04.3 LTS) / x86_64  OK    OK    OK  UNNEEDED, same version is already published
merida1macOS 12.7.6 Monterey / x86_64  OK    OK    OK    OK  UNNEEDED, same version is already published
kjohnson1macOS 13.7.5 Ventura / arm64  OK    OK    OK    OK  UNNEEDED, same version is already published
kunpeng2Linux (openEuler 24.03 LTS) / aarch64  OK    OK    OK  
Package 29/100HostnameOS / ArchINSTALLBUILDCHECKBUILD BIN
genomation 1.40.1  (landing page)
Altuna Akalin , Vedran Franke
git_last_commit: 63054f5
git_last_commit_date: 2025-05-08 12:27:56 -0400
nebbiolo1Linux (Ubuntu 24.04.3 LTS) / x86_64  OK    OK    WARNINGS  UNNEEDED, same version is already published
merida1macOS 12.7.6 Monterey / x86_64  OK    OK    WARNINGS    OK  UNNEEDED, same version is already published
kjohnson1macOS 13.7.5 Ventura / arm64  OK    OK    WARNINGS    OK  UNNEEDED, same version is already published
kunpeng2Linux (openEuler 24.03 LTS) / aarch64  OK    OK    WARNINGS  
Package 30/100HostnameOS / ArchINSTALLBUILDCHECKBUILD BIN
GenVisR 1.40.0  (landing page)
Zachary Skidmore
git_last_commit: 09d8b88
git_last_commit_date: 2025-04-15 10:57:51 -0400
nebbiolo1Linux (Ubuntu 24.04.3 LTS) / x86_64  OK    OK    ERROR  
merida1macOS 12.7.6 Monterey / x86_64  OK    OK    ERROR    OK  
kjohnson1macOS 13.7.5 Ventura / arm64  OK    OK    ERROR    OK  
kunpeng2Linux (openEuler 24.03 LTS) / aarch64  OK    OK    ERROR  
Package 31/100HostnameOS / ArchINSTALLBUILDCHECKBUILD BIN
ggbio 1.56.1  (landing page)
Michael Lawrence
git_last_commit: d2b165e
git_last_commit_date: 2025-10-01 17:40:59 -0400
nebbiolo1Linux (Ubuntu 24.04.3 LTS) / x86_64  OK    OK    WARNINGS  UNNEEDED, same version is already published
merida1macOS 12.7.6 Monterey / x86_64  OK    OK    WARNINGS    OK  UNNEEDED, same version is already published
kjohnson1macOS 13.7.5 Ventura / arm64  OK    OK    WARNINGS    OK  UNNEEDED, same version is already published
kunpeng2Linux (openEuler 24.03 LTS) / aarch64  OK    OK    WARNINGS  
Package 32/100HostnameOS / ArchINSTALLBUILDCHECKBUILD BIN
gmapR 1.50.0  (landing page)
Michael Lawrence
git_last_commit: 0b5ffd1
git_last_commit_date: 2025-04-15 10:14:37 -0400
nebbiolo1Linux (Ubuntu 24.04.3 LTS) / x86_64  OK    OK    WARNINGS  UNNEEDED, same version is already published
merida1macOS 12.7.6 Monterey / x86_64  OK    OK    WARNINGS    OK  UNNEEDED, same version is already published
kjohnson1macOS 13.7.5 Ventura / arm64  ERROR    ERROR  skippedskipped
kunpeng2Linux (openEuler 24.03 LTS) / aarch64  OK    OK    WARNINGS  
Package 33/100HostnameOS / ArchINSTALLBUILDCHECKBUILD BIN
GOTHiC 1.44.0  (landing page)
Borbala Mifsud
git_last_commit: 56a80df
git_last_commit_date: 2025-04-15 11:47:40 -0400
nebbiolo1Linux (Ubuntu 24.04.3 LTS) / x86_64  OK    OK    OK  UNNEEDED, same version is already published
merida1macOS 12.7.6 Monterey / x86_64  OK    OK    OK    OK  UNNEEDED, same version is already published
kjohnson1macOS 13.7.5 Ventura / arm64  OK    OK    OK    OK  UNNEEDED, same version is already published
kunpeng2Linux (openEuler 24.03 LTS) / aarch64  OK    OK    OK  
Package 34/100HostnameOS / ArchINSTALLBUILDCHECKBUILD BIN
GreyListChIP 1.40.0  (landing page)
Matt Eldridge
git_last_commit: 9700ac4
git_last_commit_date: 2025-04-15 10:37:43 -0400
nebbiolo1Linux (Ubuntu 24.04.3 LTS) / x86_64  OK    OK    OK  UNNEEDED, same version is already published
merida1macOS 12.7.6 Monterey / x86_64  OK    OK    OK    OK  UNNEEDED, same version is already published
kjohnson1macOS 13.7.5 Ventura / arm64  OK    OK    OK    OK  UNNEEDED, same version is already published
kunpeng2Linux (openEuler 24.03 LTS) / aarch64  OK    OK    OK  
Package 35/100HostnameOS / ArchINSTALLBUILDCHECKBUILD BIN
GUIDEseq 1.38.0  (landing page)
Lihua Julie Zhu
git_last_commit: 55716c1
git_last_commit_date: 2025-04-15 10:55:54 -0400
nebbiolo1Linux (Ubuntu 24.04.3 LTS) / x86_64  OK    OK    OK  UNNEEDED, same version is already published
merida1macOS 12.7.6 Monterey / x86_64  OK    OK    OK    OK  UNNEEDED, same version is already published
kjohnson1macOS 13.7.5 Ventura / arm64  OK    OK    OK    OK  UNNEEDED, same version is already published
kunpeng2Linux (openEuler 24.03 LTS) / aarch64  OK    OK    OK  
Package 36/100HostnameOS / ArchINSTALLBUILDCHECKBUILD BIN
Gviz 1.52.0  (landing page)
Robert Ivanek
git_last_commit: dbc5502
git_last_commit_date: 2025-04-15 10:12:34 -0400
nebbiolo1Linux (Ubuntu 24.04.3 LTS) / x86_64  OK    OK    OK  UNNEEDED, same version is already published
merida1macOS 12.7.6 Monterey / x86_64  OK    OK    OK    OK  UNNEEDED, same version is already published
kjohnson1macOS 13.7.5 Ventura / arm64  OK    OK    OK    OK  UNNEEDED, same version is already published
kunpeng2Linux (openEuler 24.03 LTS) / aarch64  OK    OK    OK  
Package 37/100HostnameOS / ArchINSTALLBUILDCHECKBUILD BIN
HelloRanges 1.34.0  (landing page)
Michael Lawrence
git_last_commit: 6927ba9
git_last_commit_date: 2025-04-15 11:06:27 -0400
nebbiolo1Linux (Ubuntu 24.04.3 LTS) / x86_64  OK    OK    OK  UNNEEDED, same version is already published
merida1macOS 12.7.6 Monterey / x86_64  OK    OK    OK    OK  UNNEEDED, same version is already published
kjohnson1macOS 13.7.5 Ventura / arm64  OK    OK    OK    OK  UNNEEDED, same version is already published
kunpeng2Linux (openEuler 24.03 LTS) / aarch64  OK    OK    OK  
Package 38/100HostnameOS / ArchINSTALLBUILDCHECKBUILD BIN
hiAnnotator 1.42.0  (landing page)
Nirav V Malani
git_last_commit: cbc1e10
git_last_commit_date: 2025-04-15 10:31:18 -0400
nebbiolo1Linux (Ubuntu 24.04.3 LTS) / x86_64  OK    OK    OK  UNNEEDED, same version is already published
merida1macOS 12.7.6 Monterey / x86_64  OK    OK    OK    OK  UNNEEDED, same version is already published
kjohnson1macOS 13.7.5 Ventura / arm64  OK    OK    OK    OK  UNNEEDED, same version is already published
kunpeng2Linux (openEuler 24.03 LTS) / aarch64  OK    OK    OK  
Package 39/100HostnameOS / ArchINSTALLBUILDCHECKBUILD BIN
HiCDCPlus 1.16.0  (landing page)
Merve Sahin
git_last_commit: 6bd0e86
git_last_commit_date: 2025-04-15 12:20:00 -0400
nebbiolo1Linux (Ubuntu 24.04.3 LTS) / x86_64  OK    OK    OK  UNNEEDED, same version is already published
merida1macOS 12.7.6 Monterey / x86_64  OK    OK    OK    OK  UNNEEDED, same version is already published
kjohnson1macOS 13.7.5 Ventura / arm64  OK    OK    OK    OK  UNNEEDED, same version is already published
kunpeng2Linux (openEuler 24.03 LTS) / aarch64  OK    OK    OK  
Package 40/100HostnameOS / ArchINSTALLBUILDCHECKBUILD BIN
InPAS 2.16.0  (landing page)
Jianhong Ou
git_last_commit: fe2aa02
git_last_commit_date: 2025-04-15 10:49:15 -0400
nebbiolo1Linux (Ubuntu 24.04.3 LTS) / x86_64  OK    OK    WARNINGS  UNNEEDED, same version is already published
merida1macOS 12.7.6 Monterey / x86_64  OK    OK    WARNINGS    OK  UNNEEDED, same version is already published
kjohnson1macOS 13.7.5 Ventura / arm64  OK    OK    WARNINGS    OK  UNNEEDED, same version is already published
kunpeng2Linux (openEuler 24.03 LTS) / aarch64  OK    OK    WARNINGS  
Package 41/100HostnameOS / ArchINSTALLBUILDCHECKBUILD BIN
IsoformSwitchAnalyzeR 2.8.0  (landing page)
Kristoffer Vitting-Seerup
git_last_commit: b2397a0
git_last_commit_date: 2025-04-15 11:11:37 -0400
nebbiolo1Linux (Ubuntu 24.04.3 LTS) / x86_64  OK    OK    OK  UNNEEDED, same version is already published
merida1macOS 12.7.6 Monterey / x86_64  OK    OK    OK    OK  UNNEEDED, same version is already published
kjohnson1macOS 13.7.5 Ventura / arm64  OK    OK    OK    OK  UNNEEDED, same version is already published
kunpeng2Linux (openEuler 24.03 LTS) / aarch64  OK    OK    OK  
Package 42/100HostnameOS / ArchINSTALLBUILDCHECKBUILD BIN
katdetectr 1.10.0  (landing page)
Daan Hazelaar
git_last_commit: 539f580
git_last_commit_date: 2025-04-15 12:52:46 -0400
nebbiolo1Linux (Ubuntu 24.04.3 LTS) / x86_64  OK    OK    OK  UNNEEDED, same version is already published
merida1macOS 12.7.6 Monterey / x86_64  OK    OK    OK    OK  UNNEEDED, same version is already published
kjohnson1macOS 13.7.5 Ventura / arm64  OK    OK    OK    OK  UNNEEDED, same version is already published
kunpeng2Linux (openEuler 24.03 LTS) / aarch64  OK    OK    OK  
Package 43/100HostnameOS / ArchINSTALLBUILDCHECKBUILD BIN
m6Aboost 1.14.0  (landing page)
You Zhou
git_last_commit: 29c076f
git_last_commit_date: 2025-04-15 12:33:41 -0400
nebbiolo1Linux (Ubuntu 24.04.3 LTS) / x86_64  OK    OK    OK  UNNEEDED, same version is already published
merida1macOS 12.7.6 Monterey / x86_64  OK    OK    OK    OK  UNNEEDED, same version is already published
kjohnson1macOS 13.7.5 Ventura / arm64  OK    OK    OK    OK  UNNEEDED, same version is already published
kunpeng2Linux (openEuler 24.03 LTS) / aarch64  OK    OK    OK  
Package 44/100HostnameOS / ArchINSTALLBUILDCHECKBUILD BIN
MADSEQ 1.34.0  (landing page)
Yu Kong
git_last_commit: 2ba7c5f
git_last_commit_date: 2025-04-15 11:02:30 -0400
nebbiolo1Linux (Ubuntu 24.04.3 LTS) / x86_64  OK    OK    OK  UNNEEDED, same version is already published
merida1macOS 12.7.6 Monterey / x86_64  OK    OK    OK    OK  UNNEEDED, same version is already published
kjohnson1macOS 13.7.5 Ventura / arm64  OK    OK    OK    OK  UNNEEDED, same version is already published
kunpeng2Linux (openEuler 24.03 LTS) / aarch64  ERROR    ERROR  skipped
Package 45/100HostnameOS / ArchINSTALLBUILDCHECKBUILD BIN
MEDIPS 1.60.0  (landing page)
Lukas Chavez
git_last_commit: 31eb178
git_last_commit_date: 2025-04-15 10:01:10 -0400
nebbiolo1Linux (Ubuntu 24.04.3 LTS) / x86_64  OK    OK    OK  UNNEEDED, same version is already published
merida1macOS 12.7.6 Monterey / x86_64  OK    OK    OK    OK  UNNEEDED, same version is already published
kjohnson1macOS 13.7.5 Ventura / arm64  OK    OK    OK    OK  UNNEEDED, same version is already published
kunpeng2Linux (openEuler 24.03 LTS) / aarch64  OK    OK    OK  
Package 46/100HostnameOS / ArchINSTALLBUILDCHECKBUILD BIN
methodical 1.4.1  (landing page)
Richard Heery
git_last_commit: 5bf3f7f
git_last_commit_date: 2025-10-13 04:48:03 -0400
nebbiolo1Linux (Ubuntu 24.04.3 LTS) / x86_64  OK    OK    ERROR  
merida1macOS 12.7.6 Monterey / x86_64  OK    OK    ERROR    OK  
kjohnson1macOS 13.7.5 Ventura / arm64  OK    OK    ERROR    OK  
kunpeng2Linux (openEuler 24.03 LTS) / aarch64  OK    TIMEOUT  skipped
Package 47/100HostnameOS / ArchINSTALLBUILDCHECKBUILD BIN
methrix 1.22.1  (landing page)
Anand Mayakonda
git_last_commit: 4c85392
git_last_commit_date: 2025-05-08 12:28:31 -0400
nebbiolo1Linux (Ubuntu 24.04.3 LTS) / x86_64  OK    OK    OK  UNNEEDED, same version is already published
merida1macOS 12.7.6 Monterey / x86_64  OK    OK    OK    OK  UNNEEDED, same version is already published
kjohnson1macOS 13.7.5 Ventura / arm64  OK    OK    OK    OK  UNNEEDED, same version is already published
kunpeng2Linux (openEuler 24.03 LTS) / aarch64  OK    OK    OK  
Package 48/100HostnameOS / ArchINSTALLBUILDCHECKBUILD BIN
MethylSeekR 1.48.0  (landing page)
Lukas Burger
git_last_commit: 6e4e7fe
git_last_commit_date: 2025-04-15 10:17:36 -0400
nebbiolo1Linux (Ubuntu 24.04.3 LTS) / x86_64  OK    OK    OK  UNNEEDED, same version is already published
merida1macOS 12.7.6 Monterey / x86_64  OK    OK    OK    OK  UNNEEDED, same version is already published
kjohnson1macOS 13.7.5 Ventura / arm64  OK    OK    OK    OK  UNNEEDED, same version is already published
kunpeng2Linux (openEuler 24.03 LTS) / aarch64  OK    OK    OK  
Package 49/100HostnameOS / ArchINSTALLBUILDCHECKBUILD BIN
MMDiff2 1.36.0  (landing page)
Gabriele Schweikert
git_last_commit: 646e110
git_last_commit_date: 2025-04-15 11:01:52 -0400
nebbiolo1Linux (Ubuntu 24.04.3 LTS) / x86_64  OK    OK    OK  UNNEEDED, same version is already published
merida1macOS 12.7.6 Monterey / x86_64  OK    OK    OK    OK  UNNEEDED, same version is already published
kjohnson1macOS 13.7.5 Ventura / arm64  OK    OK    OK    OK  UNNEEDED, same version is already published
kunpeng2Linux (openEuler 24.03 LTS) / aarch64  OK    OK    OK  
Package 50/100HostnameOS / ArchINSTALLBUILDCHECKBUILD BIN
monaLisa 1.14.1  (landing page)
Michael Stadler
git_last_commit: d208b44
git_last_commit_date: 2025-09-15 18:24:11 -0400
nebbiolo1Linux (Ubuntu 24.04.3 LTS) / x86_64  OK    OK    OK  UNNEEDED, same version is already published
merida1macOS 12.7.6 Monterey / x86_64  OK    OK    OK    OK  UNNEEDED, same version is already published
kjohnson1macOS 13.7.5 Ventura / arm64  OK    OK    OK    OK  UNNEEDED, same version is already published
kunpeng2Linux (openEuler 24.03 LTS) / aarch64  OK    OK    OK  
Package 51/100HostnameOS / ArchINSTALLBUILDCHECKBUILD BIN
Motif2Site 1.12.0  (landing page)
Peyman Zarrineh
git_last_commit: c927d28
git_last_commit_date: 2025-04-15 12:45:58 -0400
nebbiolo1Linux (Ubuntu 24.04.3 LTS) / x86_64  OK    OK    OK  UNNEEDED, same version is already published
merida1macOS 12.7.6 Monterey / x86_64  OK    OK    OK    OK  UNNEEDED, same version is already published
kjohnson1macOS 13.7.5 Ventura / arm64  OK    OK    OK    OK  UNNEEDED, same version is already published
kunpeng2Linux (openEuler 24.03 LTS) / aarch64  OK    OK    OK  
Package 52/100HostnameOS / ArchINSTALLBUILDCHECKBUILD BIN
motifbreakR 2.22.0  (landing page)
Simon Gert Coetzee
git_last_commit: f754fca
git_last_commit_date: 2025-04-15 10:53:23 -0400
nebbiolo1Linux (Ubuntu 24.04.3 LTS) / x86_64  OK    OK    WARNINGS  UNNEEDED, same version is already published
merida1macOS 12.7.6 Monterey / x86_64  OK    OK    WARNINGS    OK  UNNEEDED, same version is already published
kjohnson1macOS 13.7.5 Ventura / arm64  OK    OK    WARNINGS    OK  UNNEEDED, same version is already published
kunpeng2Linux (openEuler 24.03 LTS) / aarch64  OK    OK    WARNINGS  
Package 53/100HostnameOS / ArchINSTALLBUILDCHECKBUILD BIN
motifmatchr 1.30.0  (landing page)
Alicia Schep
git_last_commit: 662d824
git_last_commit_date: 2025-04-15 11:11:33 -0400
nebbiolo1Linux (Ubuntu 24.04.3 LTS) / x86_64  OK    OK    OK  UNNEEDED, same version is already published
merida1macOS 12.7.6 Monterey / x86_64  OK    OK    OK    OK  UNNEEDED, same version is already published
kjohnson1macOS 13.7.5 Ventura / arm64  OK    OK    OK    OK  UNNEEDED, same version is already published
kunpeng2Linux (openEuler 24.03 LTS) / aarch64  OK    OK    OK  
Package 54/100HostnameOS / ArchINSTALLBUILDCHECKBUILD BIN
MotifPeeker 1.0.0  (landing page)
Hiranyamaya Dash
git_last_commit: defac3c
git_last_commit_date: 2025-04-15 13:44:12 -0400
nebbiolo1Linux (Ubuntu 24.04.3 LTS) / x86_64  OK    OK    OK  UNNEEDED, same version is already published
merida1macOS 12.7.6 Monterey / x86_64  OK    OK    OK    OK  UNNEEDED, same version is already published
kjohnson1macOS 13.7.5 Ventura / arm64  OK    OK    OK    OK  UNNEEDED, same version is already published
kunpeng2Linux (openEuler 24.03 LTS) / aarch64  OK    OK    ERROR  
Package 55/100HostnameOS / ArchINSTALLBUILDCHECKBUILD BIN
msgbsR 1.32.0  (landing page)
Benjamin Mayne
git_last_commit: b76e4e2
git_last_commit_date: 2025-04-15 11:11:15 -0400
nebbiolo1Linux (Ubuntu 24.04.3 LTS) / x86_64  OK    OK    OK  UNNEEDED, same version is already published
merida1macOS 12.7.6 Monterey / x86_64  OK    OK    OK    OK  UNNEEDED, same version is already published
kjohnson1macOS 13.7.5 Ventura / arm64  OK    OK    OK    OK  UNNEEDED, same version is already published
kunpeng2Linux (openEuler 24.03 LTS) / aarch64  OK    OK    OK  
Package 56/100HostnameOS / ArchINSTALLBUILDCHECKBUILD BIN
multicrispr 1.18.0  (landing page)
Aditya Bhagwat
git_last_commit: a34c106
git_last_commit_date: 2025-04-15 11:59:40 -0400
nebbiolo1Linux (Ubuntu 24.04.3 LTS) / x86_64  OK    OK    OK  UNNEEDED, same version is already published
merida1macOS 12.7.6 Monterey / x86_64  OK    OK    OK    OK  UNNEEDED, same version is already published
kjohnson1macOS 13.7.5 Ventura / arm64  OK    OK    OK    OK  UNNEEDED, same version is already published
kunpeng2Linux (openEuler 24.03 LTS) / aarch64  OK    OK    OK  
Package 57/100HostnameOS / ArchINSTALLBUILDCHECKBUILD BIN
MungeSumstats 1.16.0  (landing page)
Alan Murphy
git_last_commit: e05f8e8
git_last_commit_date: 2025-04-15 12:26:47 -0400
nebbiolo1Linux (Ubuntu 24.04.3 LTS) / x86_64  OK    OK    OK  UNNEEDED, same version is already published
merida1macOS 12.7.6 Monterey / x86_64  OK    OK    OK    OK  UNNEEDED, same version is already published
kjohnson1macOS 13.7.5 Ventura / arm64  OK    OK    OK    OK  UNNEEDED, same version is already published
kunpeng2Linux (openEuler 24.03 LTS) / aarch64  OK    OK    OK  
Package 58/100HostnameOS / ArchINSTALLBUILDCHECKBUILD BIN
musicatk 2.2.2  (landing page)
Joshua D. Campbell
git_last_commit: 29f884e
git_last_commit_date: 2025-10-06 17:44:02 -0400
nebbiolo1Linux (Ubuntu 24.04.3 LTS) / x86_64  OK    OK    OK  UNNEEDED, same version is already published
merida1macOS 12.7.6 Monterey / x86_64  OK    OK    OK    OK  UNNEEDED, same version is already published
kjohnson1macOS 13.7.5 Ventura / arm64  OK    OK    OK    OK  UNNEEDED, same version is already published
kunpeng2Linux (openEuler 24.03 LTS) / aarch64  OK    ERROR  skipped
Package 59/100HostnameOS / ArchINSTALLBUILDCHECKBUILD BIN
MutationalPatterns 3.18.0  (landing page)
Mark van Roosmalen
git_last_commit: d19e340
git_last_commit_date: 2025-04-15 11:06:23 -0400
nebbiolo1Linux (Ubuntu 24.04.3 LTS) / x86_64  OK    OK    OK  UNNEEDED, same version is already published
merida1macOS 12.7.6 Monterey / x86_64  OK    ERROR  skippedskipped
kjohnson1macOS 13.7.5 Ventura / arm64  OK    ERROR  skippedskipped
kunpeng2Linux (openEuler 24.03 LTS) / aarch64  OK    OK    OK  
Package 60/100HostnameOS / ArchINSTALLBUILDCHECKBUILD BIN
ORFik 1.28.3  (landing page)
Haakon Tjeldnes
git_last_commit: 7cf3d1e
git_last_commit_date: 2025-09-22 04:08:21 -0400
nebbiolo1Linux (Ubuntu 24.04.3 LTS) / x86_64  OK    OK    OK  UNNEEDED, same version is already published
merida1macOS 12.7.6 Monterey / x86_64  OK    OK    OK    OK  UNNEEDED, same version is already published
kjohnson1macOS 13.7.5 Ventura / arm64  OK    OK    OK    OK  UNNEEDED, same version is already published
kunpeng2Linux (openEuler 24.03 LTS) / aarch64  OK    TIMEOUT  skipped
Package 61/100HostnameOS / ArchINSTALLBUILDCHECKBUILD BIN
periodicDNA 1.18.0  (landing page)
Jacques Serizay
git_last_commit: 1ba030b
git_last_commit_date: 2025-04-15 12:08:07 -0400
nebbiolo1Linux (Ubuntu 24.04.3 LTS) / x86_64  OK    OK    WARNINGS  UNNEEDED, same version is already published
merida1macOS 12.7.6 Monterey / x86_64  OK    OK    WARNINGS    OK  UNNEEDED, same version is already published
kjohnson1macOS 13.7.5 Ventura / arm64  OK    OK    WARNINGS    OK  UNNEEDED, same version is already published
kunpeng2Linux (openEuler 24.03 LTS) / aarch64  OK    OK    TIMEOUT  
Package 62/100HostnameOS / ArchINSTALLBUILDCHECKBUILD BIN
PING 2.52.0  (landing page)
Renan Sauteraud
git_last_commit: 0410358
git_last_commit_date: 2025-04-15 10:12:48 -0400
nebbiolo1Linux (Ubuntu 24.04.3 LTS) / x86_64  ERROR    OK    ERROR  
merida1macOS 12.7.6 Monterey / x86_64  ERROR    OK    ERROR    ERROR  
kjohnson1macOS 13.7.5 Ventura / arm64  ERROR    OK    ERROR    ERROR  
kunpeng2Linux (openEuler 24.03 LTS) / aarch64  ERROR    OK    ERROR  
Package 63/100HostnameOS / ArchINSTALLBUILDCHECKBUILD BIN
pipeFrame 1.24.0  (landing page)
Zheng Wei
git_last_commit: 3d58e74
git_last_commit_date: 2025-04-15 11:44:07 -0400
nebbiolo1Linux (Ubuntu 24.04.3 LTS) / x86_64  OK    OK    OK  UNNEEDED, same version is already published
merida1macOS 12.7.6 Monterey / x86_64  OK    OK    OK    OK  UNNEEDED, same version is already published
kjohnson1macOS 13.7.5 Ventura / arm64  OK    OK    OK    OK  UNNEEDED, same version is already published
kunpeng2Linux (openEuler 24.03 LTS) / aarch64  OK    OK    OK  
Package 64/100HostnameOS / ArchINSTALLBUILDCHECKBUILD BIN
podkat 1.40.0  (landing page)
Ulrich Bodenhofer
git_last_commit: ec98481
git_last_commit_date: 2025-04-15 10:49:34 -0400
nebbiolo1Linux (Ubuntu 24.04.3 LTS) / x86_64  OK    OK    OK  UNNEEDED, same version is already published
merida1macOS 12.7.6 Monterey / x86_64  OK    OK    OK    OK  UNNEEDED, same version is already published
kjohnson1macOS 13.7.5 Ventura / arm64  OK    OK    OK    OK  UNNEEDED, same version is already published
kunpeng2Linux (openEuler 24.03 LTS) / aarch64  OK    OK    OK  
Package 65/100HostnameOS / ArchINSTALLBUILDCHECKBUILD BIN
qsea 1.34.0  (landing page)
Matthias Lienhard
git_last_commit: d6318f9
git_last_commit_date: 2025-04-15 11:03:07 -0400
nebbiolo1Linux (Ubuntu 24.04.3 LTS) / x86_64  OK    OK    WARNINGS  UNNEEDED, same version is already published
merida1macOS 12.7.6 Monterey / x86_64  ERROR    ERROR  skippedskipped
kjohnson1macOS 13.7.5 Ventura / arm64  ERROR    ERROR  skippedskipped
kunpeng2Linux (openEuler 24.03 LTS) / aarch64  OK    OK    WARNINGS  
Package 66/100HostnameOS / ArchINSTALLBUILDCHECKBUILD BIN
QuasR 1.48.1  (landing page)
Michael Stadler
git_last_commit: 412e162
git_last_commit_date: 2025-06-21 05:41:10 -0400
nebbiolo1Linux (Ubuntu 24.04.3 LTS) / x86_64  OK    OK    WARNINGS  UNNEEDED, same version is already published
merida1macOS 12.7.6 Monterey / x86_64  OK    OK    WARNINGS    OK  UNNEEDED, same version is already published
kjohnson1macOS 13.7.5 Ventura / arm64  OK    OK    WARNINGS    OK  UNNEEDED, same version is already published
kunpeng2Linux (openEuler 24.03 LTS) / aarch64  OK    OK    WARNINGS  
Package 67/100HostnameOS / ArchINSTALLBUILDCHECKBUILD BIN
R453Plus1Toolbox 1.58.0  (landing page)
Hans-Ulrich Klein
git_last_commit: 3dce5fb
git_last_commit_date: 2025-04-15 10:00:59 -0400
nebbiolo1Linux (Ubuntu 24.04.3 LTS) / x86_64  OK    OK    OK  UNNEEDED, same version is already published
merida1macOS 12.7.6 Monterey / x86_64  OK    OK    OK    OK  UNNEEDED, same version is already published
kjohnson1macOS 13.7.5 Ventura / arm64  OK    OK    OK    OK  UNNEEDED, same version is already published
kunpeng2Linux (openEuler 24.03 LTS) / aarch64  OK    OK    OK  
Package 68/100HostnameOS / ArchINSTALLBUILDCHECKBUILD BIN
raer 1.6.0  (landing page)
Kent Riemondy
git_last_commit: 9c382c2
git_last_commit_date: 2025-04-15 13:23:25 -0400
nebbiolo1Linux (Ubuntu 24.04.3 LTS) / x86_64  OK    OK    OK  UNNEEDED, same version is already published
merida1macOS 12.7.6 Monterey / x86_64  OK    OK    OK    OK  UNNEEDED, same version is already published
kjohnson1macOS 13.7.5 Ventura / arm64  OK    OK    OK    OK  UNNEEDED, same version is already published
kunpeng2Linux (openEuler 24.03 LTS) / aarch64  OK    OK    OK  
Package 69/100HostnameOS / ArchINSTALLBUILDCHECKBUILD BIN
RAIDS 1.6.1  (landing page)
Pascal Belleau
git_last_commit: cf24404
git_last_commit_date: 2025-04-15 22:57:27 -0400
nebbiolo1Linux (Ubuntu 24.04.3 LTS) / x86_64  OK    OK    OK  UNNEEDED, same version is already published
merida1macOS 12.7.6 Monterey / x86_64  OK    OK    OK    OK  UNNEEDED, same version is already published
kjohnson1macOS 13.7.5 Ventura / arm64  OK    OK    OK    OK  UNNEEDED, same version is already published
kunpeng2Linux (openEuler 24.03 LTS) / aarch64  OK    OK    OK  
Package 70/100HostnameOS / ArchINSTALLBUILDCHECKBUILD BIN
RareVariantVis 2.36.0  (landing page)
Tomasz Stokowy
git_last_commit: c016332
git_last_commit_date: 2025-04-15 10:51:27 -0400
nebbiolo1Linux (Ubuntu 24.04.3 LTS) / x86_64  OK    OK    OK  UNNEEDED, same version is already published
merida1macOS 12.7.6 Monterey / x86_64  OK    OK    OK    OK  UNNEEDED, same version is already published
kjohnson1macOS 13.7.5 Ventura / arm64  OK    OK    OK    OK  UNNEEDED, same version is already published
kunpeng2Linux (openEuler 24.03 LTS) / aarch64  OK    OK    OK  
Package 71/100HostnameOS / ArchINSTALLBUILDCHECKBUILD BIN
RCAS 1.34.0  (landing page)
Bora Uyar
git_last_commit: a086294
git_last_commit_date: 2025-04-15 11:03:46 -0400
nebbiolo1Linux (Ubuntu 24.04.3 LTS) / x86_64  OK    OK    OK  UNNEEDED, same version is already published
merida1macOS 12.7.6 Monterey / x86_64  OK    OK    OK    OK  UNNEEDED, same version is already published
kjohnson1macOS 13.7.5 Ventura / arm64  OK    OK    OK    OK  UNNEEDED, same version is already published
kunpeng2Linux (openEuler 24.03 LTS) / aarch64  OK    OK    OK  
Package 72/100HostnameOS / ArchINSTALLBUILDCHECKBUILD BIN
REDseq 1.54.0  (landing page)
Lihua Julie Zhu
git_last_commit: a2bb79a
git_last_commit_date: 2025-04-15 10:08:33 -0400
nebbiolo1Linux (Ubuntu 24.04.3 LTS) / x86_64  OK    OK    OK  UNNEEDED, same version is already published
merida1macOS 12.7.6 Monterey / x86_64  OK    OK    OK    OK  UNNEEDED, same version is already published
kjohnson1macOS 13.7.5 Ventura / arm64  OK    OK    OK    OK  UNNEEDED, same version is already published
kunpeng2Linux (openEuler 24.03 LTS) / aarch64  OK    OK    OK  
Package 73/100HostnameOS / ArchINSTALLBUILDCHECKBUILD BIN
regioneR 1.40.1  (landing page)
Bernat Gel
git_last_commit: 9f9c28f
git_last_commit_date: 2025-05-27 09:10:41 -0400
nebbiolo1Linux (Ubuntu 24.04.3 LTS) / x86_64  OK    OK    OK  UNNEEDED, same version is already published
merida1macOS 12.7.6 Monterey / x86_64  OK    OK    OK    OK  UNNEEDED, same version is already published
kjohnson1macOS 13.7.5 Ventura / arm64  OK    OK    OK    OK  UNNEEDED, same version is already published
kunpeng2Linux (openEuler 24.03 LTS) / aarch64  OK    TIMEOUT  skipped
Package 74/100HostnameOS / ArchINSTALLBUILDCHECKBUILD BIN
REMP 1.32.1  (landing page)
Yinan Zheng
git_last_commit: 432f6f6
git_last_commit_date: 2025-05-08 12:29:50 -0400
nebbiolo1Linux (Ubuntu 24.04.3 LTS) / x86_64  OK    OK    OK  UNNEEDED, same version is already published
merida1macOS 12.7.6 Monterey / x86_64  OK    OK    OK    OK  UNNEEDED, same version is already published
kjohnson1macOS 13.7.5 Ventura / arm64  OK    OK    OK    OK  UNNEEDED, same version is already published
kunpeng2Linux (openEuler 24.03 LTS) / aarch64  OK    ERROR  skipped
Package 75/100HostnameOS / ArchINSTALLBUILDCHECKBUILD BIN
Repitools 1.54.0  (landing page)
Mark Robinson
git_last_commit: 5f0efc7
git_last_commit_date: 2025-04-15 10:09:01 -0400
nebbiolo1Linux (Ubuntu 24.04.3 LTS) / x86_64  ERROR    ERROR  skipped
merida1macOS 12.7.6 Monterey / x86_64  ERROR    ERROR  skippedskipped
kjohnson1macOS 13.7.5 Ventura / arm64  ERROR    ERROR  skippedskipped
kunpeng2Linux (openEuler 24.03 LTS) / aarch64  OK    OK    WARNINGS  
Package 76/100HostnameOS / ArchINSTALLBUILDCHECKBUILD BIN
RESOLVE 1.10.0  (landing page)
Luca De Sano
git_last_commit: a607a93
git_last_commit_date: 2025-04-15 12:58:04 -0400
nebbiolo1Linux (Ubuntu 24.04.3 LTS) / x86_64  OK    OK    OK  UNNEEDED, same version is already published
merida1macOS 12.7.6 Monterey / x86_64  OK    OK    OK    OK  UNNEEDED, same version is already published
kjohnson1macOS 13.7.5 Ventura / arm64  OK    OK    OK    OK  UNNEEDED, same version is already published
kunpeng2Linux (openEuler 24.03 LTS) / aarch64  OK    OK    OK  
Package 77/100HostnameOS / ArchINSTALLBUILDCHECKBUILD BIN
rGADEM 2.56.0  (landing page)
Arnaud Droit
git_last_commit: 84be722
git_last_commit_date: 2025-04-15 09:46:42 -0400
nebbiolo1Linux (Ubuntu 24.04.3 LTS) / x86_64  ERROR    ERROR  skipped
merida1macOS 12.7.6 Monterey / x86_64  OK    OK    ERROR    OK  
kjohnson1macOS 13.7.5 Ventura / arm64  OK    OK    WARNINGS    OK  UNNEEDED, same version is already published
kunpeng2Linux (openEuler 24.03 LTS) / aarch64  ERROR    ERROR  skipped
Package 78/100HostnameOS / ArchINSTALLBUILDCHECKBUILD BIN
ribosomeProfilingQC 1.20.0  (landing page)
Jianhong Ou
git_last_commit: b9c10b1
git_last_commit_date: 2025-04-15 11:54:58 -0400
nebbiolo1Linux (Ubuntu 24.04.3 LTS) / x86_64  OK    OK    OK  UNNEEDED, same version is already published
merida1macOS 12.7.6 Monterey / x86_64  OK    OK    OK    OK  UNNEEDED, same version is already published
kjohnson1macOS 13.7.5 Ventura / arm64  OK    OK    OK    OK  UNNEEDED, same version is already published
kunpeng2Linux (openEuler 24.03 LTS) / aarch64  OK    OK    OK  
Package 79/100HostnameOS / ArchINSTALLBUILDCHECKBUILD BIN
RNAmodR 1.22.0  (landing page)
Felix G.M. Ernst
git_last_commit: 6bb601d
git_last_commit_date: 2025-04-15 11:47:08 -0400
nebbiolo1Linux (Ubuntu 24.04.3 LTS) / x86_64  OK    OK    OK  UNNEEDED, same version is already published
merida1macOS 12.7.6 Monterey / x86_64  OK    OK    OK    OK  UNNEEDED, same version is already published
kjohnson1macOS 13.7.5 Ventura / arm64  OK    OK    OK    OK  UNNEEDED, same version is already published
kunpeng2Linux (openEuler 24.03 LTS) / aarch64  OK    OK    OK  
Package 80/100HostnameOS / ArchINSTALLBUILDCHECKBUILD BIN
scmeth 1.28.0  (landing page)
Divy Kangeyan
git_last_commit: 3d37259
git_last_commit_date: 2025-04-15 11:18:08 -0400
nebbiolo1Linux (Ubuntu 24.04.3 LTS) / x86_64  OK    OK    OK  UNNEEDED, same version is already published
merida1macOS 12.7.6 Monterey / x86_64  OK    OK    OK    OK  UNNEEDED, same version is already published
kjohnson1macOS 13.7.5 Ventura / arm64  OK    OK    OK    OK  UNNEEDED, same version is already published
kunpeng2Linux (openEuler 24.03 LTS) / aarch64  OK    OK    OK  
Package 81/100HostnameOS / ArchINSTALLBUILDCHECKBUILD BIN
SCOPE 1.20.0  (landing page)
Rujin Wang
git_last_commit: bda8fef
git_last_commit_date: 2025-04-15 11:54:42 -0400
nebbiolo1Linux (Ubuntu 24.04.3 LTS) / x86_64  OK    OK    OK  UNNEEDED, same version is already published
merida1macOS 12.7.6 Monterey / x86_64  OK    OK    OK    OK  UNNEEDED, same version is already published
kjohnson1macOS 13.7.5 Ventura / arm64  OK    OK    OK    OK  UNNEEDED, same version is already published
kunpeng2Linux (openEuler 24.03 LTS) / aarch64  OK    OK    OK  
Package 82/100HostnameOS / ArchINSTALLBUILDCHECKBUILD BIN
seqArchRplus 1.8.0  (landing page)
Sarvesh Nikumbh
git_last_commit: 2d77bcc
git_last_commit_date: 2025-04-15 13:00:25 -0400
nebbiolo1Linux (Ubuntu 24.04.3 LTS) / x86_64  OK    OK    ERROR  
merida1macOS 12.7.6 Monterey / x86_64  OK    OK    ERROR    OK  
kjohnson1macOS 13.7.5 Ventura / arm64  OK    OK    ERROR    OK  
kunpeng2Linux (openEuler 24.03 LTS) / aarch64  OK    OK    WARNINGS  
Package 83/100HostnameOS / ArchINSTALLBUILDCHECKBUILD BIN
signeR 2.10.0  (landing page)
Renan Valieris
git_last_commit: b6cdbe3
git_last_commit_date: 2025-04-15 11:05:00 -0400
nebbiolo1Linux (Ubuntu 24.04.3 LTS) / x86_64  OK    OK    WARNINGS  UNNEEDED, same version is already published
merida1macOS 12.7.6 Monterey / x86_64  OK    OK    WARNINGS    OK  UNNEEDED, same version is already published
kjohnson1macOS 13.7.5 Ventura / arm64  OK    OK    WARNINGS    OK  UNNEEDED, same version is already published
kunpeng2Linux (openEuler 24.03 LTS) / aarch64  OK    OK    WARNINGS  
Package 84/100HostnameOS / ArchINSTALLBUILDCHECKBUILD BIN
SigsPack 1.22.0  (landing page)
Franziska Schumann
git_last_commit: 55a66b0
git_last_commit_date: 2025-04-15 11:48:59 -0400
nebbiolo1Linux (Ubuntu 24.04.3 LTS) / x86_64  OK    OK    OK  UNNEEDED, same version is already published
merida1macOS 12.7.6 Monterey / x86_64  OK    OK    OK    OK  UNNEEDED, same version is already published
kjohnson1macOS 13.7.5 Ventura / arm64  OK    OK    OK    OK  UNNEEDED, same version is already published
kunpeng2Linux (openEuler 24.03 LTS) / aarch64  OK    OK    OK  
Package 85/100HostnameOS / ArchINSTALLBUILDCHECKBUILD BIN
SingleMoleculeFootprinting 2.2.0  (landing page)
Guido Barzaghi
git_last_commit: a14d84c
git_last_commit_date: 2025-04-15 12:32:58 -0400
nebbiolo1Linux (Ubuntu 24.04.3 LTS) / x86_64  OK    OK    OK  UNNEEDED, same version is already published
merida1macOS 12.7.6 Monterey / x86_64  OK    OK    OK    OK  UNNEEDED, same version is already published
kjohnson1macOS 13.7.5 Ventura / arm64  OK    OK    OK    OK  UNNEEDED, same version is already published
kunpeng2Linux (openEuler 24.03 LTS) / aarch64  OK    ERROR  skipped
Package 86/100HostnameOS / ArchINSTALLBUILDCHECKBUILD BIN
SparseSignatures 2.18.0  (landing page)
Luca De Sano
git_last_commit: 2e88f4a
git_last_commit_date: 2025-04-15 11:20:42 -0400
nebbiolo1Linux (Ubuntu 24.04.3 LTS) / x86_64  OK    OK    OK  UNNEEDED, same version is already published
merida1macOS 12.7.6 Monterey / x86_64  OK    OK    OK    OK  UNNEEDED, same version is already published
kjohnson1macOS 13.7.5 Ventura / arm64  OK    OK    OK    OK  UNNEEDED, same version is already published
kunpeng2Linux (openEuler 24.03 LTS) / aarch64  OK    OK    OK  
Package 87/100HostnameOS / ArchINSTALLBUILDCHECKBUILD BIN
spatzie 1.14.0  (landing page)
Jennifer Hammelman
git_last_commit: 2e38273
git_last_commit_date: 2025-04-15 12:36:00 -0400
nebbiolo1Linux (Ubuntu 24.04.3 LTS) / x86_64  OK    OK    ERROR  
merida1macOS 12.7.6 Monterey / x86_64  OK    OK    ERROR    OK  
kjohnson1macOS 13.7.5 Ventura / arm64  OK    OK    ERROR    OK  
kunpeng2Linux (openEuler 24.03 LTS) / aarch64  OK    OK    ERROR  
Package 88/100HostnameOS / ArchINSTALLBUILDCHECKBUILD BIN
spiky 1.14.0  (landing page)
Tim Triche
git_last_commit: cdb4edc
git_last_commit_date: 2025-04-15 12:33:26 -0400
nebbiolo1Linux (Ubuntu 24.04.3 LTS) / x86_64  OK    OK    OK  UNNEEDED, same version is already published
merida1macOS 12.7.6 Monterey / x86_64  OK    OK    OK    OK  UNNEEDED, same version is already published
kjohnson1macOS 13.7.5 Ventura / arm64  OK    OK    OK    OK  UNNEEDED, same version is already published
kunpeng2Linux (openEuler 24.03 LTS) / aarch64  OK    OK    OK  
Package 89/100HostnameOS / ArchINSTALLBUILDCHECKBUILD BIN
SpliceWiz 1.10.1  (landing page)
Alex Chit Hei Wong
git_last_commit: 2568ef4
git_last_commit_date: 2025-05-08 12:30:24 -0400
nebbiolo1Linux (Ubuntu 24.04.3 LTS) / x86_64  OK    OK    WARNINGS  UNNEEDED, same version is already published
merida1macOS 12.7.6 Monterey / x86_64  OK    OK    WARNINGS    OK  UNNEEDED, same version is already published
kjohnson1macOS 13.7.5 Ventura / arm64  OK    OK    WARNINGS    OK  UNNEEDED, same version is already published
kunpeng2Linux (openEuler 24.03 LTS) / aarch64  OK    OK    WARNINGS  
Package 90/100HostnameOS / ArchINSTALLBUILDCHECKBUILD BIN
TAPseq 1.20.0  (landing page)
Andreas R. Gschwind
git_last_commit: a6a1f43
git_last_commit_date: 2025-04-15 11:55:24 -0400
nebbiolo1Linux (Ubuntu 24.04.3 LTS) / x86_64  OK    OK    WARNINGS  UNNEEDED, same version is already published
merida1macOS 12.7.6 Monterey / x86_64  OK    OK    WARNINGS    OK  UNNEEDED, same version is already published
kjohnson1macOS 13.7.5 Ventura / arm64  OK    OK    WARNINGS    OK  UNNEEDED, same version is already published
kunpeng2Linux (openEuler 24.03 LTS) / aarch64  OK    OK    NA  
Package 91/100HostnameOS / ArchINSTALLBUILDCHECKBUILD BIN
TFBSTools 1.46.0  (landing page)
Ge Tan
git_last_commit: 0b138b3
git_last_commit_date: 2025-04-15 10:27:15 -0400
nebbiolo1Linux (Ubuntu 24.04.3 LTS) / x86_64  OK    OK    OK  UNNEEDED, same version is already published
merida1macOS 12.7.6 Monterey / x86_64  OK    OK    OK    OK  UNNEEDED, same version is already published
kjohnson1macOS 13.7.5 Ventura / arm64  OK    OK    OK    OK  UNNEEDED, same version is already published
kunpeng2Linux (openEuler 24.03 LTS) / aarch64  OK    OK    NA  
Package 92/100HostnameOS / ArchINSTALLBUILDCHECKBUILD BIN
transmogR 1.4.2  (landing page)
Stevie Pederson
git_last_commit: df421e1
git_last_commit_date: 2025-10-07 11:17:40 -0400
nebbiolo1Linux (Ubuntu 24.04.3 LTS) / x86_64  OK    OK    OK  UNNEEDED, same version is already published
merida1macOS 12.7.6 Monterey / x86_64  OK    OK    OK    OK  UNNEEDED, same version is already published
kjohnson1macOS 13.7.5 Ventura / arm64  OK    OK    OK    OK  UNNEEDED, same version is already published
kunpeng2Linux (openEuler 24.03 LTS) / aarch64  OK    ERROR  skipped
Package 93/100HostnameOS / ArchINSTALLBUILDCHECKBUILD BIN
tRNAscanImport 1.28.0  (landing page)
Felix G.M. Ernst
git_last_commit: 4039806
git_last_commit_date: 2025-04-15 11:18:32 -0400
nebbiolo1Linux (Ubuntu 24.04.3 LTS) / x86_64  OK    OK    OK  UNNEEDED, same version is already published
merida1macOS 12.7.6 Monterey / x86_64  OK    OK    OK    OK  UNNEEDED, same version is already published
kjohnson1macOS 13.7.5 Ventura / arm64  OK    OK    OK    OK  UNNEEDED, same version is already published
kunpeng2Linux (openEuler 24.03 LTS) / aarch64  OK    OK    NA  
Package 94/100HostnameOS / ArchINSTALLBUILDCHECKBUILD BIN
Ularcirc 1.26.0  (landing page)
David Humphreys
git_last_commit: e5a5938
git_last_commit_date: 2025-04-15 11:34:24 -0400
nebbiolo1Linux (Ubuntu 24.04.3 LTS) / x86_64  OK    OK    WARNINGS  UNNEEDED, same version is already published
merida1macOS 12.7.6 Monterey / x86_64  OK    OK    WARNINGS    OK  UNNEEDED, same version is already published
kjohnson1macOS 13.7.5 Ventura / arm64  OK    OK    WARNINGS    OK  UNNEEDED, same version is already published
kunpeng2Linux (openEuler 24.03 LTS) / aarch64  OK    OK    NA  
Package 95/100HostnameOS / ArchINSTALLBUILDCHECKBUILD BIN
UMI4Cats 1.18.2  (landing page)
Mireia Ramos-Rodriguez
git_last_commit: 6919621
git_last_commit_date: 2025-09-23 05:15:27 -0400
nebbiolo1Linux (Ubuntu 24.04.3 LTS) / x86_64  OK    OK    OK  UNNEEDED, same version is already published
merida1macOS 12.7.6 Monterey / x86_64  OK    OK    OK    OK  UNNEEDED, same version is already published
kjohnson1macOS 13.7.5 Ventura / arm64  OK    OK    OK    OK  UNNEEDED, same version is already published
kunpeng2Linux (openEuler 24.03 LTS) / aarch64  OK    OK    NA  
Package 96/100HostnameOS / ArchINSTALLBUILDCHECKBUILD BIN
VarCon 1.16.0  (landing page)
Johannes Ptok
git_last_commit: bc8649c
git_last_commit_date: 2025-04-15 12:15:15 -0400
nebbiolo1Linux (Ubuntu 24.04.3 LTS) / x86_64  OK    OK    OK  UNNEEDED, same version is already published
merida1macOS 12.7.6 Monterey / x86_64  OK    OK    OK    OK  UNNEEDED, same version is already published
kjohnson1macOS 13.7.5 Ventura / arm64  OK    OK    OK    OK  UNNEEDED, same version is already published
kunpeng2Linux (openEuler 24.03 LTS) / aarch64  OK    OK    NA  
Package 97/100HostnameOS / ArchINSTALLBUILDCHECKBUILD BIN
VariantAnnotation 1.54.1  (landing page)
Bioconductor Package Maintainer
git_last_commit: 2bb5901
git_last_commit_date: 2025-05-08 12:31:00 -0400
nebbiolo1Linux (Ubuntu 24.04.3 LTS) / x86_64  OK    OK    WARNINGS  UNNEEDED, same version is already published
merida1macOS 12.7.6 Monterey / x86_64  OK    OK    WARNINGS    OK  UNNEEDED, same version is already published
kjohnson1macOS 13.7.5 Ventura / arm64  OK    OK    WARNINGS    OK  UNNEEDED, same version is already published
kunpeng2Linux (openEuler 24.03 LTS) / aarch64  OK    OK    NA  
Package 98/100HostnameOS / ArchINSTALLBUILDCHECKBUILD BIN
VariantFiltering 1.44.0  (landing page)
Robert Castelo
git_last_commit: b610adf
git_last_commit_date: 2025-04-15 10:30:39 -0400
nebbiolo1Linux (Ubuntu 24.04.3 LTS) / x86_64  OK    OK    OK  UNNEEDED, same version is already published
merida1macOS 12.7.6 Monterey / x86_64  OK    OK    OK    OK  UNNEEDED, same version is already published
kjohnson1macOS 13.7.5 Ventura / arm64  OK    OK    OK    OK  UNNEEDED, same version is already published
kunpeng2Linux (openEuler 24.03 LTS) / aarch64  OK    OK    NA  
Package 99/100HostnameOS / ArchINSTALLBUILDCHECKBUILD BIN
VariantTools 1.50.0  (landing page)
Michael Lawrence
git_last_commit: 79fdeff
git_last_commit_date: 2025-04-15 10:16:18 -0400
nebbiolo1Linux (Ubuntu 24.04.3 LTS) / x86_64  OK    OK    WARNINGS  UNNEEDED, same version is already published
merida1macOS 12.7.6 Monterey / x86_64  OK    OK    WARNINGS    OK  UNNEEDED, same version is already published
kjohnson1macOS 13.7.5 Ventura / arm64  OK    OK    ERROR    OK  
kunpeng2Linux (openEuler 24.03 LTS) / aarch64  OK    OK    NA  
Package 100/100HostnameOS / ArchINSTALLBUILDCHECKBUILD BIN
XNAString 1.16.0  (landing page)
Marianna Plucinska
git_last_commit: d1ff0c2
git_last_commit_date: 2025-04-15 12:30:58 -0400
nebbiolo1Linux (Ubuntu 24.04.3 LTS) / x86_64  ERROR    ERROR  skipped
merida1macOS 12.7.6 Monterey / x86_64  OK    OK    WARNINGS    OK  UNNEEDED, same version is already published
kjohnson1macOS 13.7.5 Ventura / arm64  ERROR    ERROR  skippedskipped
kunpeng2Linux (openEuler 24.03 LTS) / aarch64  ERROR    ERROR  skipped