| Back to Multiple platform build/check report for BioC 3.21: simplified long |
|
This page was generated on 2025-10-16 11:41 -0400 (Thu, 16 Oct 2025).
| Hostname | OS | Arch (*) | R version | Installed pkgs |
|---|---|---|---|---|
| nebbiolo1 | Linux (Ubuntu 24.04.3 LTS) | x86_64 | 4.5.1 (2025-06-13) -- "Great Square Root" | 4833 |
| merida1 | macOS 12.7.6 Monterey | x86_64 | 4.5.1 RC (2025-06-05 r88288) -- "Great Square Root" | 4614 |
| kjohnson1 | macOS 13.7.5 Ventura | arm64 | 4.5.1 Patched (2025-06-14 r88325) -- "Great Square Root" | 4555 |
| kunpeng2 | Linux (openEuler 24.03 LTS) | aarch64 | R Under development (unstable) (2025-02-19 r87757) -- "Unsuffered Consequences" | 4586 |
| Click on any hostname to see more info about the system (e.g. compilers) (*) as reported by 'uname -p', except on Windows and Mac OS X | ||||
| Package 137/2341 | Hostname | OS / Arch | INSTALL | BUILD | CHECK | BUILD BIN | ||||||||
| BASiCS 2.20.0 (landing page) Catalina Vallejos
| nebbiolo1 | Linux (Ubuntu 24.04.3 LTS) / x86_64 | OK | OK | OK | |||||||||
| merida1 | macOS 12.7.6 Monterey / x86_64 | OK | OK | OK | OK | |||||||||
| kjohnson1 | macOS 13.7.5 Ventura / arm64 | OK | OK | WARNINGS | OK | |||||||||
| kunpeng2 | Linux (openEuler 24.03 LTS) / aarch64 | OK | OK | OK | ||||||||||
|
To the developers/maintainers of the BASiCS package: - Allow up to 24 hours (and sometimes 48 hours) for your latest push to git@git.bioconductor.org:packages/BASiCS.git to reflect on this report. See Troubleshooting Build Report for more information. - Use the following Renviron settings to reproduce errors and warnings. - If 'R CMD check' started to fail recently on the Linux builder(s) over a missing dependency, add the missing dependency to 'Suggests:' in your DESCRIPTION file. See Renviron.bioc for more information. - See Martin Grigorov's blog post for how to debug Linux ARM64 related issues on a x86_64 host. |
| Package: BASiCS |
| Version: 2.20.0 |
| Command: /home/biocbuild/R/R/bin/R CMD INSTALL BASiCS |
| StartedAt: 2025-10-13 21:15:08 -0000 (Mon, 13 Oct 2025) |
| EndedAt: 2025-10-13 21:17:03 -0000 (Mon, 13 Oct 2025) |
| EllapsedTime: 115.0 seconds |
| RetCode: 0 |
| Status: OK |
##############################################################################
##############################################################################
###
### Running command:
###
### /home/biocbuild/R/R/bin/R CMD INSTALL BASiCS
###
##############################################################################
##############################################################################
* installing to library ‘/home/biocbuild/R/R-devel_2025-02-19/site-library’
* installing *source* package ‘BASiCS’ ...
** this is package ‘BASiCS’ version ‘2.20.0’
** using staged installation
** libs
using C++ compiler: ‘aarch64-unknown-linux-gnu-g++ (GCC) 14.2.0’
using C++11
/opt/ohpc/pub/compiler/gcc/14.2.0/bin/aarch64-unknown-linux-gnu-g++ -std=gnu++11 -I"/home/biocbuild/R/R/include" -DNDEBUG -I'/home/biocbuild/R/R-devel_2025-02-19/site-library/Rcpp/include' -I'/home/biocbuild/R/R-devel_2025-02-19/site-library/RcppArmadillo/include' -I/usr/local/include -fopenmp -fPIC -g -O2 -Wall -Werror=format-security -c BASiCS.cpp -o BASiCS.o
In file included from /home/biocbuild/R/R/include/R.h:73,
from libraries.h:6,
from utils.h:4,
from updates.h:4,
from BASiCS.cpp:1:
/home/biocbuild/R/R-devel_2025-02-19/site-library/Rcpp/include/Rcpp/exceptions/cpp11/exceptions.h: In function ‘void Rcpp::Rf_warning(const char*, Args&& ...) [with Args = {const char*}]’:
/home/biocbuild/R/R/include/R_ext/Error.h:114:17: warning: infinite recursion detected [-Winfinite-recursion]
114 | #define warning Rf_warning
| ^~~~~~~~~~
/home/biocbuild/R/R-devel_2025-02-19/site-library/Rcpp/include/Rcpp/exceptions/cpp11/exceptions.h:46:13: note: in expansion of macro ‘warning’
46 | inline void warning(const char* fmt, Args&&... args ) {
| ^~~~~~~
In file included from /home/biocbuild/R/R-devel_2025-02-19/site-library/Rcpp/include/Rcpp/exceptions.h:180,
from /home/biocbuild/R/R-devel_2025-02-19/site-library/Rcpp/include/RcppCommon.h:130,
from /home/biocbuild/R/R-devel_2025-02-19/site-library/RcppArmadillo/include/RcppArmadillo/interface/RcppArmadilloForward.h:25,
from /home/biocbuild/R/R-devel_2025-02-19/site-library/RcppArmadillo/include/RcppArmadillo.h:29,
from libraries.h:11:
/home/biocbuild/R/R-devel_2025-02-19/site-library/Rcpp/include/Rcpp/exceptions/cpp11/exceptions.h:47:15: note: recursive call
47 | Rf_warning("%s", tfm::format(fmt, std::forward<Args>(args)... ).c_str());
| ~~~~~~~~~~^~~~~~~~~~~~~~~~~~~~~~~~~~~~~~~~~~~~~~~~~~~~~~~~~~~~~~~~~~~~~~
/opt/ohpc/pub/compiler/gcc/14.2.0/bin/aarch64-unknown-linux-gnu-g++ -std=gnu++11 -I"/home/biocbuild/R/R/include" -DNDEBUG -I'/home/biocbuild/R/R-devel_2025-02-19/site-library/Rcpp/include' -I'/home/biocbuild/R/R-devel_2025-02-19/site-library/RcppArmadillo/include' -I/usr/local/include -fopenmp -fPIC -g -O2 -Wall -Werror=format-security -c RcppExports.cpp -o RcppExports.o
/opt/ohpc/pub/compiler/gcc/14.2.0/bin/aarch64-unknown-linux-gnu-g++ -std=gnu++11 -shared -L/home/biocbuild/R/R/lib -L/usr/local/lib -o BASiCS.so BASiCS.o RcppExports.o -L/home/biocbuild/R/R/lib -lRlapack -L/home/biocbuild/R/R/lib -lRblas -lgfortran -lm -fopenmp -L/home/biocbuild/R/R/lib -lR
installing to /home/biocbuild/R/R-devel_2025-02-19/site-library/00LOCK-BASiCS/00new/BASiCS/libs
** R
** data
** inst
** byte-compile and prepare package for lazy loading
** help
*** installing help indices
** building package indices
** installing vignettes
** testing if installed package can be loaded from temporary location
** checking absolute paths in shared objects and dynamic libraries
** testing if installed package can be loaded from final location
** testing if installed package keeps a record of temporary installation path
* DONE (BASiCS)