| Back to Multiple platform build/check report for BioC 3.21: simplified long |
|
This page was generated on 2025-10-16 11:37 -0400 (Thu, 16 Oct 2025).
| Hostname | OS | Arch (*) | R version | Installed pkgs |
|---|---|---|---|---|
| nebbiolo1 | Linux (Ubuntu 24.04.3 LTS) | x86_64 | 4.5.1 (2025-06-13) -- "Great Square Root" | 4833 |
| merida1 | macOS 12.7.6 Monterey | x86_64 | 4.5.1 RC (2025-06-05 r88288) -- "Great Square Root" | 4614 |
| kjohnson1 | macOS 13.7.5 Ventura | arm64 | 4.5.1 Patched (2025-06-14 r88325) -- "Great Square Root" | 4555 |
| kunpeng2 | Linux (openEuler 24.03 LTS) | aarch64 | R Under development (unstable) (2025-02-19 r87757) -- "Unsuffered Consequences" | 4586 |
| Click on any hostname to see more info about the system (e.g. compilers) (*) as reported by 'uname -p', except on Windows and Mac OS X | ||||
| Package 107/2341 | Hostname | OS / Arch | INSTALL | BUILD | CHECK | BUILD BIN | ||||||||
| ASSET 2.26.0 (landing page) Samsiddhi Bhattacharjee
| nebbiolo1 | Linux (Ubuntu 24.04.3 LTS) / x86_64 | OK | OK | OK | |||||||||
| merida1 | macOS 12.7.6 Monterey / x86_64 | OK | OK | OK | OK | |||||||||
| kjohnson1 | macOS 13.7.5 Ventura / arm64 | OK | OK | OK | OK | |||||||||
| kunpeng2 | Linux (openEuler 24.03 LTS) / aarch64 | OK | OK | OK | ||||||||||
|
To the developers/maintainers of the ASSET package: - Allow up to 24 hours (and sometimes 48 hours) for your latest push to git@git.bioconductor.org:packages/ASSET.git to reflect on this report. See Troubleshooting Build Report for more information. - Use the following Renviron settings to reproduce errors and warnings. - If 'R CMD check' started to fail recently on the Linux builder(s) over a missing dependency, add the missing dependency to 'Suggests:' in your DESCRIPTION file. See Renviron.bioc for more information. |
| Package: ASSET |
| Version: 2.26.0 |
| Command: /home/biocbuild/bbs-3.21-bioc/R/bin/R CMD check --install=check:ASSET.install-out.txt --library=/home/biocbuild/bbs-3.21-bioc/R/site-library --timings ASSET_2.26.0.tar.gz |
| StartedAt: 2025-10-15 20:50:59 -0400 (Wed, 15 Oct 2025) |
| EndedAt: 2025-10-15 20:52:57 -0400 (Wed, 15 Oct 2025) |
| EllapsedTime: 118.2 seconds |
| RetCode: 0 |
| Status: OK |
| CheckDir: ASSET.Rcheck |
| Warnings: 0 |
##############################################################################
##############################################################################
###
### Running command:
###
### /home/biocbuild/bbs-3.21-bioc/R/bin/R CMD check --install=check:ASSET.install-out.txt --library=/home/biocbuild/bbs-3.21-bioc/R/site-library --timings ASSET_2.26.0.tar.gz
###
##############################################################################
##############################################################################
* using log directory ‘/home/biocbuild/bbs-3.21-bioc/meat/ASSET.Rcheck’
* using R version 4.5.1 (2025-06-13)
* using platform: x86_64-pc-linux-gnu
* R was compiled by
gcc (Ubuntu 13.3.0-6ubuntu2~24.04) 13.3.0
GNU Fortran (Ubuntu 13.3.0-6ubuntu2~24.04) 13.3.0
* running under: Ubuntu 24.04.3 LTS
* using session charset: UTF-8
* checking for file ‘ASSET/DESCRIPTION’ ... OK
* this is package ‘ASSET’ version ‘2.26.0’
* checking package namespace information ... OK
* checking package dependencies ... OK
* checking if this is a source package ... OK
* checking if there is a namespace ... OK
* checking for hidden files and directories ... OK
* checking for portable file names ... OK
* checking for sufficient/correct file permissions ... OK
* checking whether package ‘ASSET’ can be installed ... OK
* checking installed package size ... OK
* checking package directory ... OK
* checking ‘build’ directory ... OK
* checking DESCRIPTION meta-information ... NOTE
License components with restrictions not permitted:
GPL-2 + file LICENSE
* checking top-level files ... OK
* checking for left-over files ... OK
* checking index information ... OK
* checking package subdirectories ... NOTE
Problems with news in ‘NEWS’:
Cannot process chunk/lines:
The stochastic p-value calculation with p-value screening appears to be unacceptably slow in many cases.
Cannot process chunk/lines:
Reverting to older deterministic p-value calculation used till ASSET 1.8.0. P-value screening option
Cannot process chunk/lines:
is not supported for now but may be included in future releases.
Cannot process chunk/lines:
A new p-value screening option p.bound introduced and stochastic p-value calculation incorporated to allow
Cannot process chunk/lines:
p-value screening.
* checking code files for non-ASCII characters ... OK
* checking R files for syntax errors ... OK
* checking whether the package can be loaded ... OK
* checking whether the package can be loaded with stated dependencies ... OK
* checking whether the package can be unloaded cleanly ... OK
* checking whether the namespace can be loaded with stated dependencies ... OK
* checking whether the namespace can be unloaded cleanly ... OK
* checking loading without being on the library search path ... OK
* checking dependencies in R code ... OK
* checking S3 generic/method consistency ... OK
* checking replacement functions ... OK
* checking foreign function calls ... OK
* checking R code for possible problems ... OK
* checking Rd files ... NOTE
checkRd: (-1) fast_asset.Rd:29: Lost braces; missing escapes or markup?
29 | \item{cor}{A matrix of dimension k by k storing the correlation of z-statistics under the null hypothesis. It can be estimated using LD score regression (https://github.com/bulik/ldsc). For example, element \code{(j,k)} is the LD score regression intercept between traits \code{j} and {k}. Diagonal elements are equal to 1. Set to identity matrix if different studies do not have overlapping samples.}
| ^
* checking Rd metadata ... OK
* checking Rd cross-references ... OK
* checking for missing documentation entries ... OK
* checking for code/documentation mismatches ... OK
* checking Rd \usage sections ... OK
* checking Rd contents ... OK
* checking for unstated dependencies in examples ... OK
* checking contents of ‘data’ directory ... OK
* checking data for non-ASCII characters ... OK
* checking data for ASCII and uncompressed saves ... OK
* checking files in ‘vignettes’ ... OK
* checking examples ... OK
Examples with CPU (user + system) or elapsed time > 5s
user system elapsed
fast_asset 47.983 0.301 48.287
h.types 5.640 0.010 5.650
* checking for unstated dependencies in ‘tests’ ... OK
* checking tests ...
Running ‘runTests.R’
OK
* checking for unstated dependencies in vignettes ... OK
* checking package vignettes ... OK
* checking re-building of vignette outputs ... OK
* checking PDF version of manual ... OK
* DONE
Status: 3 NOTEs
See
‘/home/biocbuild/bbs-3.21-bioc/meat/ASSET.Rcheck/00check.log’
for details.
ASSET.Rcheck/00install.out
############################################################################## ############################################################################## ### ### Running command: ### ### /home/biocbuild/bbs-3.21-bioc/R/bin/R CMD INSTALL ASSET ### ############################################################################## ############################################################################## * installing to library ‘/home/biocbuild/bbs-3.21-bioc/R/site-library’ * installing *source* package ‘ASSET’ ... ** this is package ‘ASSET’ version ‘2.26.0’ ** using staged installation ** R ** data ** inst ** byte-compile and prepare package for lazy loading ** help *** installing help indices ** building package indices ** installing vignettes ** testing if installed package can be loaded from temporary location ** testing if installed package can be loaded from final location ** testing if installed package keeps a record of temporary installation path * DONE (ASSET)
ASSET.Rcheck/tests/runTests.Rout
R version 4.5.1 (2025-06-13) -- "Great Square Root"
Copyright (C) 2025 The R Foundation for Statistical Computing
Platform: x86_64-pc-linux-gnu
R is free software and comes with ABSOLUTELY NO WARRANTY.
You are welcome to redistribute it under certain conditions.
Type 'license()' or 'licence()' for distribution details.
R is a collaborative project with many contributors.
Type 'contributors()' for more information and
'citation()' on how to cite R or R packages in publications.
Type 'demo()' for some demos, 'help()' for on-line help, or
'help.start()' for an HTML browser interface to help.
Type 'q()' to quit R.
> BiocGenerics:::testPackage("ASSET")
RUNIT TEST PROTOCOL -- Wed Oct 15 20:52:45 2025
***********************************************
Number of test functions: 4
Number of errors: 0
Number of failures: 0
1 Test Suite :
ASSET RUnit Tests - 4 test functions, 0 errors, 0 failures
Number of test functions: 4
Number of errors: 0
Number of failures: 0
Warning messages:
1: In formula.character(object, env = baseenv()) :
Using formula(x) is deprecated when x is a character vector of length > 1.
Consider formula(paste(x, collapse = " ")) instead.
2: In formula.character(object, env = baseenv()) :
Using formula(x) is deprecated when x is a character vector of length > 1.
Consider formula(paste(x, collapse = " ")) instead.
3: In formula.character(object, env = baseenv()) :
Using formula(x) is deprecated when x is a character vector of length > 1.
Consider formula(paste(x, collapse = " ")) instead.
4: In formula.character(object, env = baseenv()) :
Using formula(x) is deprecated when x is a character vector of length > 1.
Consider formula(paste(x, collapse = " ")) instead.
>
> proc.time()
user system elapsed
7.345 0.250 7.586
ASSET.Rcheck/ASSET-Ex.timings
| name | user | system | elapsed | |
| create_blocks | 0.014 | 0.004 | 0.018 | |
| ex_fast_asset | 0.000 | 0.003 | 0.004 | |
| ex_trait | 0.014 | 0.001 | 0.015 | |
| ex_types | 0.006 | 0.000 | 0.007 | |
| fast_asset | 47.983 | 0.301 | 48.287 | |
| h.forestPlot | 0.395 | 0.001 | 0.396 | |
| h.summary | 0.285 | 0.001 | 0.286 | |
| h.traits | 0.287 | 0.002 | 0.289 | |
| h.types | 5.64 | 0.01 | 5.65 | |
| p.dlm | 0.019 | 0.002 | 0.021 | |
| z.max | 0.013 | 0.001 | 0.014 | |