Back to Books build report for BioC 3.22

This page was generated on 2025-07-23 14:30 -0400 (Wed, 23 Jul 2025).

HostnameOSArch (*)R versionInstalled pkgs
nebbiolo2Linux (Ubuntu 24.04.1 LTS)x86_644.5.1 (2025-06-13) -- "Great Square Root" 4792
Click on any hostname to see more info about the system (e.g. compilers)      (*) as reported by 'uname -p', except on Windows and Mac OS X

Package 10/10HostnameOS / ArchINSTALLBUILDCHECK
SingleRBook 1.19.0  (landing page)
Aaron Lun
Snapshot Date: 2025-07-23 06:00 -0400 (Wed, 23 Jul 2025)
git_url: https://git.bioconductor.org/packages/SingleRBook
git_branch: devel
git_last_commit: c3bc428
git_last_commit_date: 2025-04-15 10:47:08 -0400 (Tue, 15 Apr 2025)
nebbiolo2Linux (Ubuntu 24.04.1 LTS) / x86_64  OK    OK    NA  


BUILD results for SingleRBook on nebbiolo2

To the developers/maintainers of the SingleRBook package:
- Use the following Renviron settings to reproduce errors and warnings.
- If 'R CMD check' started to fail recently on the Linux builder(s) over a missing dependency, add the missing dependency to 'Suggests:' in your DESCRIPTION file. See Renviron.bioc for more information.

raw results


Summary

Package: SingleRBook
Version: 1.19.0
Command: /home/biocbuild/bbs-3.22-bioc/R/bin/R CMD build --keep-empty-dirs --no-resave-data SingleRBook
StartedAt: 2025-07-23 06:18:39 -0400 (Wed, 23 Jul 2025)
EndedAt: 2025-07-23 06:52:21 -0400 (Wed, 23 Jul 2025)
EllapsedTime: 2022.0 seconds
RetCode: 0
Status:   OK  
PackageFile: SingleRBook_1.19.0.tar.gz
PackageFileSize: 6.206 MiB

Command output

##############################################################################
##############################################################################
###
### Running command:
###
###   /home/biocbuild/bbs-3.22-bioc/R/bin/R CMD build --keep-empty-dirs --no-resave-data SingleRBook
###
##############################################################################
##############################################################################


* checking for file ‘SingleRBook/DESCRIPTION’ ... OK
* preparing ‘SingleRBook’:
* checking DESCRIPTION meta-information ... OK
* installing the package to build vignettes
* creating vignettes ... OK
* checking for LF line-endings in source and make files and shell scripts
* checking for empty or unneeded directories
* creating default NAMESPACE file
* building ‘SingleRBook_1.19.0.tar.gz’