Back to Books build report for BioC 3.22

This page was generated on 2025-07-16 14:30 -0400 (Wed, 16 Jul 2025).

HostnameOSArch (*)R versionInstalled pkgs
nebbiolo2Linux (Ubuntu 24.04.1 LTS)x86_644.5.1 (2025-06-13) -- "Great Square Root" 4786
Click on any hostname to see more info about the system (e.g. compilers)      (*) as reported by 'uname -p', except on Windows and Mac OS X

Package 9/10HostnameOS / ArchINSTALLBUILDCHECK
OSCA.workflows 1.17.0  (landing page)
Peter Hickey
Snapshot Date: 2025-07-16 06:00 -0400 (Wed, 16 Jul 2025)
git_url: https://git.bioconductor.org/packages/OSCA.workflows
git_branch: devel
git_last_commit: 9bb4528
git_last_commit_date: 2025-04-15 10:47:20 -0400 (Tue, 15 Apr 2025)
nebbiolo2Linux (Ubuntu 24.04.1 LTS) / x86_64  OK    OK    OK  UNNEEDED, same version is already published


CHECK results for OSCA.workflows on nebbiolo2

To the developers/maintainers of the OSCA.workflows package:
- Use the following Renviron settings to reproduce errors and warnings.
- If 'R CMD check' started to fail recently on the Linux builder(s) over a missing dependency, add the missing dependency to 'Suggests:' in your DESCRIPTION file. See Renviron.bioc for more information.

raw results


Summary

Package: OSCA.workflows
Version: 1.17.0
Command: rm -rf OSCA.workflows.book && mkdir OSCA.workflows.book && /home/biocbuild/BBS/utils/deploy_book.py OSCA.workflows_1.17.0.tar.gz OSCA.workflows.book
StartedAt: 2025-07-16 08:22:51 -0400 (Wed, 16 Jul 2025)
EndedAt: 2025-07-16 08:22:54 -0400 (Wed, 16 Jul 2025)
EllapsedTime: 2.1 seconds
RetCode: 0
Status:   OK  
DeployDestDir: OSCA.workflows.book
Warnings: 0

Command output

##############################################################################
##############################################################################
###
### Running command:
###
###   rm -rf OSCA.workflows.book && mkdir OSCA.workflows.book && /home/biocbuild/BBS/utils/deploy_book.py OSCA.workflows_1.17.0.tar.gz OSCA.workflows.book
###
##############################################################################
##############################################################################


Deploying content from book tarball 'OSCA.workflows_1.17.0.tar.gz' to 'OSCA.workflows.book/OSCA.workflows/' ... OK