| Back to Rapid builds (Linux only) of a subset of BioC 3.22 Report updated every 6 hours |
This page was generated on 2025-07-24 09:37 -0400 (Thu, 24 Jul 2025).
| Hostname | OS | Arch (*) | R version | Installed pkgs |
|---|---|---|---|---|
| teran2 | Linux (Ubuntu 24.04.1 LTS) | x86_64 | 4.5.0 (2025-04-11) -- "How About a Twenty-Six" | 914 |
| Click on any hostname to see more info about the system (e.g. compilers) (*) as reported by 'uname -p', except on Windows and Mac OS X | ||||
| Package 219/229 | Hostname | OS / Arch | INSTALL | BUILD | CHECK | |||||||
| tximeta 1.27.2 (landing page) Michael Love
| teran2 | Linux (Ubuntu 24.04.1 LTS) / x86_64 | OK | OK | OK | |||||||
|
To the developers/maintainers of the tximeta package: - Use the following Renviron settings to reproduce errors and warnings. - If 'R CMD check' started to fail recently on the Linux builder(s) over a missing dependency, add the missing dependency to 'Suggests:' in your DESCRIPTION file. See Renviron.bioc for more information. |
| Package: tximeta |
| Version: 1.27.2 |
| Command: /home/rapidbuild/bbs-3.22-bioc-rapid/R/bin/R CMD build --keep-empty-dirs --no-resave-data tximeta |
| StartedAt: 2025-07-24 07:26:01 -0400 (Thu, 24 Jul 2025) |
| EndedAt: 2025-07-24 07:27:13 -0400 (Thu, 24 Jul 2025) |
| EllapsedTime: 71.6 seconds |
| RetCode: 0 |
| Status: OK |
| PackageFile: tximeta_1.27.2.tar.gz |
| PackageFileSize: 1.333 MiB |
##############################################################################
##############################################################################
###
### Running command:
###
### /home/rapidbuild/bbs-3.22-bioc-rapid/R/bin/R CMD build --keep-empty-dirs --no-resave-data tximeta
###
##############################################################################
##############################################################################
* checking for file ‘tximeta/DESCRIPTION’ ... OK
* preparing ‘tximeta’:
* checking DESCRIPTION meta-information ... OK
* installing the package to build vignettes
* creating vignettes ... OK
* checking for LF line-endings in source and make files and shell scripts
* checking for empty or unneeded directories
NB: this package now depends on R (>= 4.1.0)
WARNING: Added dependency on R >= 4.1.0 because package code uses the
pipe |> or function shorthand \(...) syntax added in R 4.1.0.
File(s) using such syntax:
‘summarizeToGene.R’
* building ‘tximeta_1.27.2.tar.gz’