| Back to Rapid builds (Linux only) of a subset of BioC 3.23 Report updated every 6 hours |
This page was generated on 2025-11-21 10:18 -0500 (Fri, 21 Nov 2025).
| Hostname | OS | Arch (*) | R version | Installed pkgs |
|---|---|---|---|---|
| teran2 | Linux (Ubuntu 24.04.3 LTS) | x86_64 | R Under development (unstable) (2025-10-28 r88973) -- "Unsuffered Consequences" | 917 |
| Click on any hostname to see more info about the system (e.g. compilers) (*) as reported by 'uname -p', except on Windows and Mac OS X | ||||
| Package 200/230 | Hostname | OS / Arch | INSTALL | BUILD | CHECK | |||||||
| sesame 1.29.0 (landing page) Wanding Zhou
| teran2 | Linux (Ubuntu 24.04.3 LTS) / x86_64 | OK | OK | OK | |||||||
|
To the developers/maintainers of the sesame package: - Use the following Renviron settings to reproduce errors and warnings. - If 'R CMD check' started to fail recently on the Linux builder(s) over a missing dependency, add the missing dependency to 'Suggests:' in your DESCRIPTION file. See Renviron.bioc for more information. |
| Package: sesame |
| Version: 1.29.0 |
| Command: /home/rapidbuild/bbs-3.23-bioc-rapid/R/bin/R CMD check --install=check:sesame.install-out.txt --library=/home/rapidbuild/bbs-3.23-bioc-rapid/R/site-library --timings sesame_1.29.0.tar.gz |
| StartedAt: 2025-11-21 09:34:15 -0500 (Fri, 21 Nov 2025) |
| EndedAt: 2025-11-21 09:46:51 -0500 (Fri, 21 Nov 2025) |
| EllapsedTime: 756.5 seconds |
| RetCode: 0 |
| Status: OK |
| CheckDir: sesame.Rcheck |
| Warnings: 0 |
##############################################################################
##############################################################################
###
### Running command:
###
### /home/rapidbuild/bbs-3.23-bioc-rapid/R/bin/R CMD check --install=check:sesame.install-out.txt --library=/home/rapidbuild/bbs-3.23-bioc-rapid/R/site-library --timings sesame_1.29.0.tar.gz
###
##############################################################################
##############################################################################
* using log directory ‘/media/volume/teran2_disk/rapidbuild/bbs-3.23-bioc-rapid/meat/sesame.Rcheck’
* using R Under development (unstable) (2025-10-28 r88973)
* using platform: x86_64-pc-linux-gnu
* R was compiled by
gcc (Ubuntu 13.3.0-6ubuntu2~24.04) 13.3.0
GNU Fortran (Ubuntu 13.3.0-6ubuntu2~24.04) 13.3.0
* running under: Ubuntu 24.04.3 LTS
* using session charset: UTF-8
* checking for file ‘sesame/DESCRIPTION’ ... OK
* checking extension type ... Package
* this is package ‘sesame’ version ‘1.29.0’
* package encoding: UTF-8
* checking CRAN incoming feasibility ... NOTE
Maintainer: ‘Wanding Zhou <zhouwanding@gmail.com>’
Unknown, possibly misspelled, fields in DESCRIPTION:
‘git_url’ ‘git_branch’ ‘git_last_commit’ ‘git_last_commit_date’
The Title field should be in title case. Current version is:
‘SEnsible Step-wise Analysis of DNA MEthylation BeadChips’
In title case that is:
‘SEnsible Step-Wise Analysis of DNA MEthylation BeadChips’
Size of tarball: 17019369 bytes
* checking package namespace information ... OK
* checking package dependencies ... OK
* checking if this is a source package ... OK
* checking if there is a namespace ... OK
* checking for hidden files and directories ... OK
* checking for portable file names ... OK
* checking for sufficient/correct file permissions ... OK
* checking whether package ‘sesame’ can be installed ... OK
* checking installed package size ... OK
* checking package directory ... OK
* checking ‘build’ directory ... OK
* checking DESCRIPTION meta-information ... OK
* checking top-level files ... OK
* checking for left-over files ... OK
* checking index information ... OK
* checking package subdirectories ... OK
* checking code files for non-ASCII characters ... OK
* checking R files for syntax errors ... OK
* checking whether the package can be loaded ... OK
* checking whether the package can be loaded with stated dependencies ... OK
* checking whether the package can be unloaded cleanly ... OK
* checking whether the namespace can be loaded with stated dependencies ... OK
* checking whether the namespace can be unloaded cleanly ... OK
* checking loading without being on the library search path ... OK
* checking whether startup messages can be suppressed ... OK
* checking use of S3 registration ... OK
* checking dependencies in R code ... OK
* checking S3 generic/method consistency ... OK
* checking replacement functions ... OK
* checking foreign function calls ... OK
* checking R code for possible problems ... OK
* checking Rd files ... OK
* checking Rd metadata ... OK
* checking Rd cross-references ... OK
* checking for missing documentation entries ... OK
* checking for code/documentation mismatches ... OK
* checking Rd \usage sections ... OK
* checking Rd contents ... OK
* checking for unstated dependencies in examples ... OK
* checking files in ‘vignettes’ ... OK
* checking examples ... NOTE
Examples with CPU (user + system) or elapsed time > 5s
user system elapsed
imputeBetasByGenomicNeighbors 25.148 0.584 25.766
inferSex 16.522 0.235 16.761
inferSpecies 12.694 0.594 13.294
sesameQC_calcStats 13.246 0.017 13.267
imputeBetas 12.545 0.413 13.302
sesameQC_plotHeatSNPs 12.552 0.033 12.587
ELBAR 11.148 0.145 11.304
diffRefSet 9.297 0.146 9.452
getRefSet 9.060 0.061 9.123
sesameQC_plotBar 8.953 0.099 9.074
compareMouseStrainReference 8.482 0.064 8.550
compareReference 8.023 0.115 8.141
matchDesign 7.553 0.042 7.600
inferStrain 6.360 0.607 6.969
visualizeGene 6.326 0.104 6.436
sesameQC_plotBetaByDesign 6.339 0.001 6.341
DMR 6.147 0.132 6.289
sdf_read_table 5.209 0.086 5.297
DML 4.788 0.217 5.034
getMask 3.597 0.115 5.848
* checking for unstated dependencies in ‘tests’ ... OK
* checking tests ...
Running ‘testthat.R’
OK
* checking for unstated dependencies in vignettes ... OK
* checking package vignettes ... OK
* checking re-building of vignette outputs ... OK
* checking PDF version of manual ... OK
* DONE
Status: 2 NOTEs
See
‘/media/volume/teran2_disk/rapidbuild/bbs-3.23-bioc-rapid/meat/sesame.Rcheck/00check.log’
for details.
sesame.Rcheck/00install.out
############################################################################## ############################################################################## ### ### Running command: ### ### /home/rapidbuild/bbs-3.23-bioc-rapid/R/bin/R CMD INSTALL sesame ### ############################################################################## ############################################################################## * installing to library ‘/media/volume/teran2_disk/rapidbuild/bbs-3.23-bioc-rapid/R/site-library’ * installing *source* package ‘sesame’ ... ** this is package ‘sesame’ version ‘1.29.0’ ** using staged installation ** R ** inst ** byte-compile and prepare package for lazy loading ** help *** installing help indices ** building package indices ** installing vignettes ** testing if installed package can be loaded from temporary location ** testing if installed package can be loaded from final location ** testing if installed package keeps a record of temporary installation path * DONE (sesame)
sesame.Rcheck/tests/testthat.Rout
R Under development (unstable) (2025-10-28 r88973) -- "Unsuffered Consequences"
Copyright (C) 2025 The R Foundation for Statistical Computing
Platform: x86_64-pc-linux-gnu
R is free software and comes with ABSOLUTELY NO WARRANTY.
You are welcome to redistribute it under certain conditions.
Type 'license()' or 'licence()' for distribution details.
R is a collaborative project with many contributors.
Type 'contributors()' for more information and
'citation()' on how to cite R or R packages in publications.
Type 'demo()' for some demos, 'help()' for on-line help, or
'help.start()' for an HTML browser interface to help.
Type 'q()' to quit R.
> library(testthat)
> library(sesame)
Loading required package: sesameData
Loading required package: ExperimentHub
Loading required package: BiocGenerics
Loading required package: generics
Attaching package: 'generics'
The following objects are masked from 'package:base':
as.difftime, as.factor, as.ordered, intersect, is.element, setdiff,
setequal, union
Attaching package: 'BiocGenerics'
The following objects are masked from 'package:stats':
IQR, mad, sd, var, xtabs
The following objects are masked from 'package:base':
Filter, Find, Map, Position, Reduce, anyDuplicated, aperm, append,
as.data.frame, basename, cbind, colnames, dirname, do.call,
duplicated, eval, evalq, get, grep, grepl, is.unsorted, lapply,
mapply, match, mget, order, paste, pmax, pmax.int, pmin, pmin.int,
rank, rbind, rownames, sapply, saveRDS, table, tapply, unique,
unsplit, which.max, which.min
Loading required package: AnnotationHub
Loading required package: BiocFileCache
Loading required package: dbplyr
Loading sesameData.
----------------------------------------------------------
| SEnsible Step-wise Analysis of DNA MEthylation (SeSAMe)
| --------------------------------------------------------
| Please cache auxiliary data by "sesameDataCache()".
| This needs to be done only once per SeSAMe installation.
----------------------------------------------------------
>
> test_check("sesame")
[ FAIL 0 | WARN 0 | SKIP 0 | PASS 5 ]
>
> proc.time()
user system elapsed
15.112 0.829 15.924
sesame.Rcheck/sesame-Ex.timings
| name | user | system | elapsed | |
| BetaValueToMValue | 0 | 0 | 0 | |
| DML | 4.788 | 0.217 | 5.034 | |
| DMLpredict | 0.685 | 0.030 | 0.715 | |
| DMR | 6.147 | 0.132 | 6.289 | |
| ELBAR | 11.148 | 0.145 | 11.304 | |
| MValueToBetaValue | 0.001 | 0.000 | 0.000 | |
| SigDF | 0.227 | 0.016 | 0.243 | |
| addMask | 0.044 | 0.000 | 0.044 | |
| betasCollapseToPfx | 0.009 | 0.000 | 0.010 | |
| bisConversionControl | 2.894 | 0.052 | 2.950 | |
| calcEffectSize | 0.619 | 0.021 | 0.640 | |
| checkLevels | 2.280 | 0.037 | 2.333 | |
| cnSegmentation | 0.168 | 0.012 | 0.181 | |
| compareMouseStrainReference | 8.482 | 0.064 | 8.550 | |
| compareMouseTissueReference | 0 | 0 | 0 | |
| compareReference | 8.023 | 0.115 | 8.141 | |
| controls | 1.113 | 0.045 | 1.158 | |
| createUCSCtrack | 3.279 | 0.136 | 3.422 | |
| deIdentify | 3.534 | 0.059 | 3.602 | |
| detectionPnegEcdf | 0.573 | 0.007 | 0.580 | |
| diffRefSet | 9.297 | 0.146 | 9.452 | |
| dmContrasts | 1.389 | 0.029 | 1.418 | |
| dyeBiasCorr | 1.562 | 0.047 | 1.610 | |
| dyeBiasCorrMostBalanced | 4.466 | 0.092 | 4.580 | |
| dyeBiasL | 1.808 | 0.067 | 1.876 | |
| dyeBiasNL | 4.051 | 0.102 | 4.154 | |
| estimateLeukocyte | 4.240 | 0.099 | 4.385 | |
| formatVCF | 1.178 | 0.045 | 1.222 | |
| getAFTypeIbySumAlleles | 0.930 | 0.051 | 0.983 | |
| getAFs | 0.573 | 0.014 | 0.587 | |
| getBetas | 0.614 | 0.013 | 0.626 | |
| getMask | 3.597 | 0.115 | 5.848 | |
| getRefSet | 9.060 | 0.061 | 9.123 | |
| imputeBetas | 12.545 | 0.413 | 13.302 | |
| imputeBetasByGenomicNeighbors | 25.148 | 0.584 | 25.766 | |
| imputeBetasMatrixByMean | 0.001 | 0.000 | 0.001 | |
| inferEthnicity | 0.001 | 0.000 | 0.001 | |
| inferInfiniumIChannel | 0.192 | 0.121 | 0.313 | |
| inferSex | 16.522 | 0.235 | 16.761 | |
| inferSpecies | 12.694 | 0.594 | 13.294 | |
| inferStrain | 6.360 | 0.607 | 6.969 | |
| inferTissue | 4.583 | 0.191 | 4.778 | |
| initFileSet | 0.604 | 0.028 | 0.632 | |
| listAvailableMasks | 0.638 | 0.030 | 0.669 | |
| mLiftOver | 0.001 | 0.000 | 0.000 | |
| mapFileSet | 0.024 | 0.000 | 0.023 | |
| mapToMammal40 | 1.439 | 0.053 | 1.497 | |
| matchDesign | 7.553 | 0.042 | 7.600 | |
| meanIntensity | 1.541 | 0.042 | 1.583 | |
| medianTotalIntensity | 0.487 | 0.013 | 0.499 | |
| noMasked | 2.037 | 0.055 | 2.093 | |
| noob | 1.283 | 0.008 | 1.291 | |
| openSesame | 3.041 | 0.059 | 3.116 | |
| openSesameToFile | 0.857 | 0.002 | 0.859 | |
| pOOBAH | 0.845 | 0.000 | 0.845 | |
| palgen | 0.025 | 0.002 | 0.034 | |
| parseGEOsignalMU | 1.855 | 0.044 | 1.911 | |
| predictAge | 1.376 | 0.034 | 1.410 | |
| predictAgeHorvath353 | 0 | 0 | 0 | |
| predictAgeSkinBlood | 0 | 0 | 0 | |
| predictMouseAgeInMonth | 0 | 0 | 0 | |
| prefixMask | 0.317 | 0.000 | 0.318 | |
| prefixMaskButC | 0.087 | 0.000 | 0.087 | |
| prefixMaskButCG | 0.038 | 0.000 | 0.038 | |
| prepSesame | 2.137 | 0.030 | 2.167 | |
| prepSesameList | 0.002 | 0.000 | 0.001 | |
| print.DMLSummary | 2.341 | 0.045 | 2.386 | |
| print.fileSet | 0.606 | 0.023 | 0.630 | |
| probeID_designType | 0 | 0 | 0 | |
| probeSuccessRate | 2.987 | 0.078 | 3.065 | |
| qualityMask | 1.159 | 0.050 | 1.209 | |
| reIdentify | 2.746 | 0.037 | 2.784 | |
| readFileSet | 0.041 | 0.001 | 0.042 | |
| readIDATpair | 0.062 | 0.001 | 0.063 | |
| recommendedMaskNames | 0.001 | 0.000 | 0.001 | |
| resetMask | 0.218 | 0.013 | 0.231 | |
| scrub | 1.476 | 0.001 | 1.479 | |
| scrubSoft | 2.225 | 0.000 | 2.229 | |
| sdfPlatform | 0.169 | 0.017 | 0.186 | |
| sdf_read_table | 5.209 | 0.086 | 5.297 | |
| sdf_write_table | 1.101 | 0.059 | 1.173 | |
| searchIDATprefixes | 0.004 | 0.001 | 0.007 | |
| sesame-package | 1.038 | 0.030 | 1.069 | |
| sesameAnno_attachManifest | 0 | 0 | 0 | |
| sesameAnno_buildAddressFile | 0 | 0 | 0 | |
| sesameAnno_buildManifestGRanges | 0 | 0 | 0 | |
| sesameAnno_download | 0 | 0 | 0 | |
| sesameAnno_readManifestTSV | 0 | 0 | 0 | |
| sesameQC_calcStats | 13.246 | 0.017 | 13.267 | |
| sesameQC_getStats | 1.346 | 0.000 | 1.346 | |
| sesameQC_plotBar | 8.953 | 0.099 | 9.074 | |
| sesameQC_plotBetaByDesign | 6.339 | 0.001 | 6.341 | |
| sesameQC_plotHeatSNPs | 12.552 | 0.033 | 12.587 | |
| sesameQC_plotIntensVsBetas | 1.838 | 0.020 | 1.858 | |
| sesameQC_plotRedGrnQQ | 0.803 | 0.024 | 0.827 | |
| sesameQC_rankStats | 1.863 | 0.044 | 1.911 | |
| sesameQCtoDF | 1.217 | 0.000 | 1.217 | |
| sesame_checkVersion | 0.003 | 0.000 | 0.003 | |
| sesamize | 0 | 0 | 0 | |
| setMask | 0.055 | 0.000 | 0.055 | |
| signalMU | 0.467 | 0.014 | 0.480 | |
| sliceFileSet | 0.022 | 0.002 | 0.024 | |
| summaryExtractTest | 2.248 | 0.036 | 2.285 | |
| totalIntensities | 1.408 | 0.044 | 1.452 | |
| updateSigDF | 1.695 | 0.059 | 1.757 | |
| visualizeGene | 6.326 | 0.104 | 6.436 | |
| visualizeProbes | 0.769 | 0.001 | 0.770 | |
| visualizeRegion | 0.209 | 0.001 | 0.210 | |
| visualizeSegments | 1.559 | 0.018 | 1.578 | |