| Back to Rapid builds (Linux only) of a subset of BioC 3.23 Report updated every 6 hours |
This page was generated on 2025-11-03 09:48 -0500 (Mon, 03 Nov 2025).
| Hostname | OS | Arch (*) | R version | Installed pkgs |
|---|---|---|---|---|
| teran2 | Linux (Ubuntu 24.04.3 LTS) | x86_64 | R Under development (unstable) (2025-10-28 r88973) -- "Unsuffered Consequences" | 917 |
| Click on any hostname to see more info about the system (e.g. compilers) (*) as reported by 'uname -p', except on Windows and Mac OS X | ||||
| Package 179/230 | Hostname | OS / Arch | INSTALL | BUILD | CHECK | |||||||
| rhdf5 2.55.4 (landing page) Hugo Gruson
| teran2 | Linux (Ubuntu 24.04.3 LTS) / x86_64 | OK | OK | WARNINGS | |||||||
|
To the developers/maintainers of the rhdf5 package: - Use the following Renviron settings to reproduce errors and warnings. - If 'R CMD check' started to fail recently on the Linux builder(s) over a missing dependency, add the missing dependency to 'Suggests:' in your DESCRIPTION file. See Renviron.bioc for more information. |
| Package: rhdf5 |
| Version: 2.55.4 |
| Command: /home/rapidbuild/bbs-3.23-bioc-rapid/R/bin/R CMD build --keep-empty-dirs --no-resave-data rhdf5 |
| StartedAt: 2025-11-03 07:12:50 -0500 (Mon, 03 Nov 2025) |
| EndedAt: 2025-11-03 07:17:08 -0500 (Mon, 03 Nov 2025) |
| EllapsedTime: 257.7 seconds |
| RetCode: 0 |
| Status: OK |
| PackageFile: rhdf5_2.55.4.tar.gz |
| PackageFileSize: 1.156 MiB |
############################################################################## ############################################################################## ### ### Running command: ### ### /home/rapidbuild/bbs-3.23-bioc-rapid/R/bin/R CMD build --keep-empty-dirs --no-resave-data rhdf5 ### ############################################################################## ############################################################################## * checking for file ‘rhdf5/DESCRIPTION’ ... OK * preparing ‘rhdf5’: * checking DESCRIPTION meta-information ... OK * cleaning src * running ‘cleanup’ * installing the package (it is needed to build vignettes) * creating vignettes ... OK * cleaning src * running ‘cleanup’ * checking for LF line-endings in source and make files and shell scripts * checking for empty or unneeded directories * building ‘rhdf5_2.55.4.tar.gz’