Back to Rapid builds (Linux only) of a subset of BioC 3.23
Report updated every 6 hours

This page was generated on 2025-11-21 10:18 -0500 (Fri, 21 Nov 2025).

HostnameOSArch (*)R versionInstalled pkgs
teran2Linux (Ubuntu 24.04.3 LTS)x86_64R Under development (unstable) (2025-10-28 r88973) -- "Unsuffered Consequences" 917
Click on any hostname to see more info about the system (e.g. compilers)      (*) as reported by 'uname -p', except on Windows and Mac OS X

Package 129/230HostnameOS / ArchINSTALLBUILDCHECK
karyoploteR 1.37.0  (landing page)
Bernat Gel
Snapshot Date: 2025-11-21 06:00 -0500 (Fri, 21 Nov 2025)
git_url: https://git.bioconductor.org/packages/karyoploteR
git_branch: devel
git_last_commit: fd32b1e
git_last_commit_date: 2025-10-29 10:36:38 -0500 (Wed, 29 Oct 2025)
teran2Linux (Ubuntu 24.04.3 LTS) / x86_64  OK    OK    OK  


CHECK results for karyoploteR on teran2

To the developers/maintainers of the karyoploteR package:
- Use the following Renviron settings to reproduce errors and warnings.
- If 'R CMD check' started to fail recently on the Linux builder(s) over a missing dependency, add the missing dependency to 'Suggests:' in your DESCRIPTION file. See Renviron.bioc for more information.

raw results


Summary

Package: karyoploteR
Version: 1.37.0
Command: /home/rapidbuild/bbs-3.23-bioc-rapid/R/bin/R CMD check --install=check:karyoploteR.install-out.txt --library=/home/rapidbuild/bbs-3.23-bioc-rapid/R/site-library --timings karyoploteR_1.37.0.tar.gz
StartedAt: 2025-11-21 08:57:40 -0500 (Fri, 21 Nov 2025)
EndedAt: 2025-11-21 09:06:29 -0500 (Fri, 21 Nov 2025)
EllapsedTime: 529.0 seconds
RetCode: 0
Status:   OK  
CheckDir: karyoploteR.Rcheck
Warnings: 0

Command output

##############################################################################
##############################################################################
###
### Running command:
###
###   /home/rapidbuild/bbs-3.23-bioc-rapid/R/bin/R CMD check --install=check:karyoploteR.install-out.txt --library=/home/rapidbuild/bbs-3.23-bioc-rapid/R/site-library --timings karyoploteR_1.37.0.tar.gz
###
##############################################################################
##############################################################################


* using log directory ‘/media/volume/teran2_disk/rapidbuild/bbs-3.23-bioc-rapid/meat/karyoploteR.Rcheck’
* using R Under development (unstable) (2025-10-28 r88973)
* using platform: x86_64-pc-linux-gnu
* R was compiled by
    gcc (Ubuntu 13.3.0-6ubuntu2~24.04) 13.3.0
    GNU Fortran (Ubuntu 13.3.0-6ubuntu2~24.04) 13.3.0
* running under: Ubuntu 24.04.3 LTS
* using session charset: UTF-8
* checking for file ‘karyoploteR/DESCRIPTION’ ... OK
* checking extension type ... Package
* this is package ‘karyoploteR’ version ‘1.37.0’
* package encoding: UTF-8
* checking CRAN incoming feasibility ... NOTE
Maintainer: ‘Bernat Gel <bgel@igtp.cat>’

Unknown, possibly misspelled, fields in DESCRIPTION:
  ‘git_url’ ‘git_branch’ ‘git_last_commit’ ‘git_last_commit_date’

The Title field should be in title case. Current version is:
  ‘Plot customizable linear genomes displaying arbitrary data’
In title case that is:
  ‘Plot Customizable Linear Genomes Displaying Arbitrary Data’

The Description field should not start with the package name,
  'This package' or similar.

The Date field is over a month old.
* checking package namespace information ... OK
* checking package dependencies ... OK
* checking if this is a source package ... OK
* checking if there is a namespace ... OK
* checking for hidden files and directories ... OK
* checking for portable file names ... OK
* checking for sufficient/correct file permissions ... OK
* checking whether package ‘karyoploteR’ can be installed ... OK
* checking installed package size ... OK
* checking package directory ... OK
* checking ‘build’ directory ... OK
* checking DESCRIPTION meta-information ... NOTE
Packages listed in more than one of Depends, Imports, Suggests, Enhances:
  ‘regioneR’ ‘GenomicRanges’
A package should be listed in only one of these fields.
* checking top-level files ... OK
* checking for left-over files ... OK
* checking index information ... OK
* checking package subdirectories ... NOTE
Problems with news in ‘NEWS’:
  Cannot process chunk/lines:
    NEW FEATURES
  Cannot process chunk/lines:
    SIGNIFICANT USER-VISIBLE CHANGES
  Cannot process chunk/lines:
    NEW FEATURES
  Cannot process chunk/lines:
    SIGNIFICANT USER-VISIBLE CHANGES
* checking code files for non-ASCII characters ... OK
* checking R files for syntax errors ... OK
* checking whether the package can be loaded ... OK
* checking whether the package can be loaded with stated dependencies ... OK
* checking whether the package can be unloaded cleanly ... OK
* checking whether the namespace can be loaded with stated dependencies ... OK
* checking whether the namespace can be unloaded cleanly ... OK
* checking loading without being on the library search path ... OK
* checking whether startup messages can be suppressed ... OK
* checking use of S3 registration ... OK
* checking dependencies in R code ... OK
* checking S3 generic/method consistency ... OK
* checking replacement functions ... OK
* checking foreign function calls ... OK
* checking R code for possible problems ... OK
* checking Rd files ... NOTE
checkRd: (-1) kpPlotBAMCoverage.Rd:48: Lost braces
    48 | There's more information at the \url{https://bernatgel.github.io/karyoploter_tutorial/}{karyoploteR tutorial}.
       |                                                                                        ^
checkRd: (-1) kpPlotBAMDensity.Rd:48: Lost braces
    48 | There's more information at the \url{https://bernatgel.github.io/karyoploter_tutorial/}{karyoploteR tutorial}.
       |                                                                                        ^
checkRd: (-1) kpPlotCoverage.Rd:46: Lost braces
    46 |  There's more information at the \url{https://bernatgel.github.io/karyoploter_tutorial/}{karyoploteR tutorial}.
       |                                                                                         ^
checkRd: (-1) kpPlotDensity.Rd:42: Lost braces
    42 | There's more information at the \url{https://bernatgel.github.io/karyoploter_tutorial/}{karyoploteR tutorial}.
       |                                                                                        ^
checkRd: (-1) kpPlotManhattan.Rd:80: Lost braces
    80 | There's more information at the \url{https://bernatgel.github.io/karyoploter_tutorial/}{karyoploteR tutorial}.
       |                                                                                        ^
checkRd: (-1) kpPlotMarkers.Rd:81: Lost braces
    81 | There's more information at the \url{https://bernatgel.github.io/karyoploter_tutorial/}{karyoploteR tutorial}.
       |                                                                                        ^
checkRd: (-1) kpPlotRainfall.Rd:47: Lost braces
    47 | There's more information at the \url{https://bernatgel.github.io/karyoploter_tutorial/}{karyoploteR tutorial}.
       |                                                                                        ^
checkRd: (-1) kpPoints.Rd:54: Lost braces
    54 | There's more information at the \url{https://bernatgel.github.io/karyoploter_tutorial/}{karyoploteR tutorial}.
       |                                                                                        ^
checkRd: (-1) kpRect.Rd:55: Lost braces
    55 | There's more information at the \url{https://bernatgel.github.io/karyoploter_tutorial/}{karyoploteR tutorial}.
       |                                                                                        ^
checkRd: (-1) plotKaryotype.Rd:61: Lost braces
    61 | There's more information at the \url{https://bernatgel.github.io/karyoploter_tutorial/}{karyoploteR tutorial}.
       |                                                                                        ^
* checking Rd metadata ... OK
* checking Rd cross-references ... NOTE
Found the following Rd file(s) with Rd \link{} targets missing package
anchors:
  getCytobands.Rd: GenomicRanges, memoise, forget
  kpPlotBAMCoverage.Rd: bamsignals
  kpPlotBAMDensity.Rd: Rsamtools
  kpPlotBigWig.Rd: BigWigFile
Please provide package anchors for all Rd \link{} targets not in the
package itself and the base packages.
* checking for missing documentation entries ... OK
* checking for code/documentation mismatches ... OK
* checking Rd \usage sections ... OK
* checking Rd contents ... OK
* checking for unstated dependencies in examples ... OK
* checking R/sysdata.rda ... OK
* checking files in ‘vignettes’ ... OK
* checking examples ... NOTE
Examples with CPU (user + system) or elapsed time > 5s
                    user system elapsed
mergeTranscripts  62.088  0.128  62.242
kpPlotGenes       47.306  0.138  47.734
kpPlotDensity     25.605  5.607  31.569
kpPlotHorizon     10.393  0.009  10.405
kpPlotRegions      9.333  0.092   9.426
kpPlotBAMCoverage  4.927  0.230   5.163
* checking for unstated dependencies in ‘tests’ ... OK
* checking tests ...
  Running ‘testthat.R’
 OK
* checking for unstated dependencies in vignettes ... OK
* checking package vignettes ... OK
* checking re-building of vignette outputs ... OK
* checking PDF version of manual ... OK
* DONE

Status: 6 NOTEs
See
  ‘/media/volume/teran2_disk/rapidbuild/bbs-3.23-bioc-rapid/meat/karyoploteR.Rcheck/00check.log’
for details.


Installation output

karyoploteR.Rcheck/00install.out

##############################################################################
##############################################################################
###
### Running command:
###
###   /home/rapidbuild/bbs-3.23-bioc-rapid/R/bin/R CMD INSTALL karyoploteR
###
##############################################################################
##############################################################################


* installing to library ‘/media/volume/teran2_disk/rapidbuild/bbs-3.23-bioc-rapid/R/site-library’
* installing *source* package ‘karyoploteR’ ...
** this is package ‘karyoploteR’ version ‘1.37.0’
** using staged installation
** R
** inst
** byte-compile and prepare package for lazy loading
** help
*** installing help indices
** building package indices
** installing vignettes
** testing if installed package can be loaded from temporary location
** testing if installed package can be loaded from final location
** testing if installed package keeps a record of temporary installation path
* DONE (karyoploteR)

Tests output

karyoploteR.Rcheck/tests/testthat.Rout


R Under development (unstable) (2025-10-28 r88973) -- "Unsuffered Consequences"
Copyright (C) 2025 The R Foundation for Statistical Computing
Platform: x86_64-pc-linux-gnu

R is free software and comes with ABSOLUTELY NO WARRANTY.
You are welcome to redistribute it under certain conditions.
Type 'license()' or 'licence()' for distribution details.

R is a collaborative project with many contributors.
Type 'contributors()' for more information and
'citation()' on how to cite R or R packages in publications.

Type 'demo()' for some demos, 'help()' for on-line help, or
'help.start()' for an HTML browser interface to help.
Type 'q()' to quit R.

> library(testthat)
> library(karyoploteR)
Loading required package: regioneR
Loading required package: GenomicRanges
Loading required package: stats4
Loading required package: BiocGenerics
Loading required package: generics

Attaching package: 'generics'

The following objects are masked from 'package:base':

    as.difftime, as.factor, as.ordered, intersect, is.element, setdiff,
    setequal, union


Attaching package: 'BiocGenerics'

The following objects are masked from 'package:stats':

    IQR, mad, sd, var, xtabs

The following objects are masked from 'package:base':

    Filter, Find, Map, Position, Reduce, anyDuplicated, aperm, append,
    as.data.frame, basename, cbind, colnames, dirname, do.call,
    duplicated, eval, evalq, get, grep, grepl, is.unsorted, lapply,
    mapply, match, mget, order, paste, pmax, pmax.int, pmin, pmin.int,
    rank, rbind, rownames, sapply, saveRDS, table, tapply, unique,
    unsplit, which.max, which.min

Loading required package: S4Vectors

Attaching package: 'S4Vectors'

The following object is masked from 'package:utils':

    findMatches

The following objects are masked from 'package:base':

    I, expand.grid, unname

Loading required package: IRanges
Loading required package: Seqinfo
> 
> test_check("karyoploteR")
[ FAIL 0 | WARN 0 | SKIP 3 | PASS 177 ]

══ Skipped tests (3) ═══════════════════════════════════════════════════════════
• empty test (3): 'test_plotKaryotype.R:27:1', 'test_plotKaryotype.R:34:1',
  'test_plotKaryotype.R:44:1'

[ FAIL 0 | WARN 0 | SKIP 3 | PASS 177 ]
> 
> proc.time()
   user  system elapsed 
 14.345   1.000  15.330 

Example timings

karyoploteR.Rcheck/karyoploteR-Ex.timings

nameusersystemelapsed
addGeneNames4.3180.1284.456
autotrack0.0010.0000.001
colByCategory0.0010.0000.001
colByChr0.3460.0120.358
colByRegion0.6940.1570.861
colByValue0.1280.0000.131
darker0.0010.0000.001
filterParams000
findIntersections0.0810.0000.081
getChromosomeNamesBoundingBox0.0350.0010.035
getColorSchemas0.0000.0010.001
getCytobandColors0.0010.0000.001
getCytobands0.0000.0010.001
getDataPanelBoundingBox0.0310.0000.031
getDefaultPlotParams0.0450.0040.049
getMainTitleBoundingBox0.0240.0010.025
getTextSize0.0530.0000.053
getVariantsColors0.0010.0000.001
horizonColors0.0020.0000.002
is.color000
kpAbline0.6740.0280.872
kpAddBaseNumbers0.2340.0010.235
kpAddChromosomeNames0.0250.0000.024
kpAddChromosomeSeparators0.3140.0010.314
kpAddColorRect0.1020.0020.104
kpAddCytobandLabels0.2810.0010.283
kpAddCytobands0.0240.0000.025
kpAddCytobandsAsLine0.0610.0000.061
kpAddLabels0.3010.0000.301
kpAddMainTitle0.0250.0000.024
kpArea0.2280.0010.228
kpArrows0.3980.0010.399
kpAxis0.1990.0010.200
kpBars0.1210.0000.121
kpDataBackground0.1460.0010.147
kpHeatmap0.0890.0010.090
kpLines0.2090.0010.210
kpPlotBAMCoverage4.9270.2305.163
kpPlotBAMDensity1.1920.0161.208
kpPlotBigWig0.5970.0020.603
kpPlotCoverage0.2740.0010.275
kpPlotDensity25.605 5.60731.569
kpPlotGenes47.306 0.13847.734
kpPlotHorizon10.393 0.00910.405
kpPlotLinks0.7470.0010.749
kpPlotLoess0.0490.0010.051
kpPlotManhattan3.4610.0403.501
kpPlotMarkers1.3080.0021.310
kpPlotNames0.0870.0010.088
kpPlotRainfall0.5060.0000.506
kpPlotRegions9.3330.0929.426
kpPlotRibbon0.0560.0020.058
kpPlotTranscripts4.2400.0024.243
kpPoints0.1710.0010.172
kpPolygon0.1460.0000.146
kpRect0.5290.0000.529
kpSegments0.3530.0000.353
kpText0.1720.0000.171
lighter0.0010.0000.000
makeGenesDataFromTxDb3.9180.0163.941
mergeTranscripts62.088 0.12862.242
plotDefaultPlotParams0.1440.0010.145
plotKaryotype0.6830.0030.686
plotPalettes0.0110.0030.014
prepareParameters20.0230.0010.025
prepareParameters40.10.00.1
processClipping0.0240.0010.025
transparent0.0000.0000.001