Back to Multiple platform build/check report for BioC 3.22:   simplified   long
ABCDEFGHIJKLMNOPQRS[T]UVWXYZ

This page was generated on 2025-10-04 12:08 -0400 (Sat, 04 Oct 2025).

HostnameOSArch (*)R versionInstalled pkgs
nebbiolo2Linux (Ubuntu 24.04.3 LTS)x86_644.5.1 Patched (2025-08-23 r88802) -- "Great Square Root" 4853
lconwaymacOS 12.7.1 Montereyx86_644.5.1 Patched (2025-09-10 r88807) -- "Great Square Root" 4640
kjohnson3macOS 13.7.7 Venturaarm644.5.1 Patched (2025-09-10 r88807) -- "Great Square Root" 4585
taishanLinux (openEuler 24.03 LTS)aarch644.5.0 (2025-04-11) -- "How About a Twenty-Six" 4576
Click on any hostname to see more info about the system (e.g. compilers)      (*) as reported by 'uname -p', except on Windows and Mac OS X

Package 2262/2341HostnameOS / ArchINSTALLBUILDCHECKBUILD BIN
twoddpcr 1.33.0  (landing page)
Anthony Chiu
Snapshot Date: 2025-10-03 13:45 -0400 (Fri, 03 Oct 2025)
git_url: https://git.bioconductor.org/packages/twoddpcr
git_branch: devel
git_last_commit: 5db39f4
git_last_commit_date: 2025-04-15 11:08:59 -0400 (Tue, 15 Apr 2025)
nebbiolo2Linux (Ubuntu 24.04.3 LTS) / x86_64  OK    OK    OK  UNNEEDED, same version is already published
lconwaymacOS 12.7.1 Monterey / x86_64  OK    OK    OK    OK  UNNEEDED, same version is already published
kjohnson3macOS 13.7.7 Ventura / arm64  OK    OK    OK    OK  UNNEEDED, same version is already published
taishanLinux (openEuler 24.03 LTS) / aarch64  OK    OK    OK  


CHECK results for twoddpcr on taishan

To the developers/maintainers of the twoddpcr package:
- Allow up to 24 hours (and sometimes 48 hours) for your latest push to git@git.bioconductor.org:packages/twoddpcr.git to reflect on this report. See Troubleshooting Build Report for more information.
- Use the following Renviron settings to reproduce errors and warnings.
- If 'R CMD check' started to fail recently on the Linux builder(s) over a missing dependency, add the missing dependency to 'Suggests:' in your DESCRIPTION file. See Renviron.bioc for more information.
- See Martin Grigorov's blog post for how to debug Linux ARM64 related issues on a x86_64 host.

raw results


Summary

Package: twoddpcr
Version: 1.33.0
Command: /home/biocbuild/R/R/bin/R CMD check --install=check:twoddpcr.install-out.txt --library=/home/biocbuild/R/R/site-library --no-vignettes --timings twoddpcr_1.33.0.tar.gz
StartedAt: 2025-10-03 12:40:15 -0000 (Fri, 03 Oct 2025)
EndedAt: 2025-10-03 12:43:01 -0000 (Fri, 03 Oct 2025)
EllapsedTime: 166.4 seconds
RetCode: 0
Status:   OK  
CheckDir: twoddpcr.Rcheck
Warnings: 0

Command output

##############################################################################
##############################################################################
###
### Running command:
###
###   /home/biocbuild/R/R/bin/R CMD check --install=check:twoddpcr.install-out.txt --library=/home/biocbuild/R/R/site-library --no-vignettes --timings twoddpcr_1.33.0.tar.gz
###
##############################################################################
##############################################################################


* using log directory ‘/home/biocbuild/bbs-3.22-bioc/meat/twoddpcr.Rcheck’
* using R version 4.5.0 (2025-04-11)
* using platform: aarch64-unknown-linux-gnu
* R was compiled by
    aarch64-unknown-linux-gnu-gcc (GCC) 14.2.0
    GNU Fortran (GCC) 14.2.0
* running under: openEuler 24.03 (LTS)
* using session charset: UTF-8
* using option ‘--no-vignettes’
* checking for file ‘twoddpcr/DESCRIPTION’ ... OK
* this is package ‘twoddpcr’ version ‘1.33.0’
* checking package namespace information ... OK
* checking package dependencies ... OK
* checking if this is a source package ... OK
* checking if there is a namespace ... OK
* checking for hidden files and directories ... OK
* checking for portable file names ... OK
* checking for sufficient/correct file permissions ... OK
* checking whether package ‘twoddpcr’ can be installed ... OK
* checking installed package size ... OK
* checking package directory ... OK
* checking ‘build’ directory ... OK
* checking DESCRIPTION meta-information ... OK
* checking top-level files ... OK
* checking for left-over files ... OK
* checking index information ... OK
* checking package subdirectories ... OK
* checking code files for non-ASCII characters ... OK
* checking R files for syntax errors ... OK
* checking whether the package can be loaded ... OK
* checking whether the package can be loaded with stated dependencies ... OK
* checking whether the package can be unloaded cleanly ... OK
* checking whether the namespace can be loaded with stated dependencies ... OK
* checking whether the namespace can be unloaded cleanly ... OK
* checking loading without being on the library search path ... OK
* checking dependencies in R code ... OK
* checking S3 generic/method consistency ... OK
* checking replacement functions ... OK
* checking foreign function calls ... OK
* checking R code for possible problems ... OK
* checking Rd files ... OK
* checking Rd metadata ... OK
* checking Rd cross-references ... OK
* checking for missing documentation entries ... OK
* checking for code/documentation mismatches ... OK
* checking Rd \usage sections ... NOTE
S3 methods shown with full name in Rd file 'ggplot.well.Rd':
  ‘ggplot.well’ ‘ggplot.plate’

The \usage entries for S3 methods should use the \method markup and not
their full name.
See chapter ‘Writing R documentation files’ in the ‘Writing R
Extensions’ manual.
* checking Rd contents ... OK
* checking for unstated dependencies in examples ... OK
* checking contents of ‘data’ directory ... OK
* checking data for non-ASCII characters ... OK
* checking LazyData ... OK
* checking data for ASCII and uncompressed saves ... OK
* checking files in ‘vignettes’ ... OK
* checking examples ... OK
Examples with CPU (user + system) or elapsed time > 5s
               user system elapsed
knnClassify  17.739  0.099  18.099
ggplot.well   6.686  0.111   6.857
dropletPlot   5.779  0.072   5.867
gridClassify  5.286  0.080   5.390
* checking for unstated dependencies in ‘tests’ ... OK
* checking tests ...
  Running ‘testthat.R’
 OK
* checking for unstated dependencies in vignettes ... OK
* checking package vignettes ... OK
* checking running R code from vignettes ... SKIPPED
* checking re-building of vignette outputs ... SKIPPED
* checking PDF version of manual ... OK
* DONE

Status: 1 NOTE
See
  ‘/home/biocbuild/bbs-3.22-bioc/meat/twoddpcr.Rcheck/00check.log’
for details.


Installation output

twoddpcr.Rcheck/00install.out

##############################################################################
##############################################################################
###
### Running command:
###
###   /home/biocbuild/R/R/bin/R CMD INSTALL twoddpcr
###
##############################################################################
##############################################################################


* installing to library ‘/home/biocbuild/R/R-4.5.0/site-library’
* installing *source* package ‘twoddpcr’ ...
** this is package ‘twoddpcr’ version ‘1.33.0’
** using staged installation
** R
** data
*** moving datasets to lazyload DB
** inst
** byte-compile and prepare package for lazy loading
** help
*** installing help indices
** building package indices
** installing vignettes
** testing if installed package can be loaded from temporary location
** testing if installed package can be loaded from final location
** testing if installed package keeps a record of temporary installation path
* DONE (twoddpcr)

Tests output

twoddpcr.Rcheck/tests/testthat.Rout


R version 4.5.0 (2025-04-11) -- "How About a Twenty-Six"
Copyright (C) 2025 The R Foundation for Statistical Computing
Platform: aarch64-unknown-linux-gnu

R is free software and comes with ABSOLUTELY NO WARRANTY.
You are welcome to redistribute it under certain conditions.
Type 'license()' or 'licence()' for distribution details.

R is a collaborative project with many contributors.
Type 'contributors()' for more information and
'citation()' on how to cite R or R packages in publications.

Type 'demo()' for some demos, 'help()' for on-line help, or
'help.start()' for an HTML browser interface to help.
Type 'q()' to quit R.

> library(testthat)
> library(twoddpcr)
> 
> test_check("twoddpcr")
[ FAIL 0 | WARN 2 | SKIP 0 | PASS 155 ]

[ FAIL 0 | WARN 2 | SKIP 0 | PASS 155 ]
> 
> proc.time()
   user  system elapsed 
  8.401   0.580   9.070 

Example timings

twoddpcr.Rcheck/twoddpcr-Ex.timings

nameusersystemelapsed
amplitudes0.3690.0200.390
basicsSummary0.0060.0000.006
castSummary0.0260.0000.026
classCov0.0860.0000.085
classMeans0.0750.0000.076
classStats0.0940.0040.098
clusterCentres0.8660.0040.876
copiesSummary0.0070.0000.007
ddpcrPlate-class0.3060.0080.317
ddpcrWell-class0.0250.0000.026
ddpcrWell-methods0.2620.0000.264
dropletPlot5.7790.0725.867
exportTable0.1770.0080.188
extractPlateName0.0010.0000.001
extractWellNames0.0010.0000.001
facetPlot2.9730.0803.063
flatPlot4.7710.0474.866
fullCopiesSummary0.0080.0000.008
fullCountsSummary0.0350.0000.035
ggplot.well6.6860.1116.857
gridClassify5.2860.0805.390
heatPlot2.2460.0162.276
kmeansClassify1.3410.0041.350
knnClassify17.739 0.09918.099
mahalanobisRain0.9300.0040.940
mutantCopiesSummary0.0050.0000.005
numDroplets0.2680.0000.268
parseClusterCounts0.0160.0000.016
plateClassification1.1940.0081.205
plateClassificationMethod0.4130.0000.415
plateSummary1.8510.0001.860
positiveCounts0.030.000.03
readCSVDataFrame0.0160.0000.015
relabelClasses0.1090.0000.109
removeDropletClasses0.8820.0000.884
renormalisePlate3.8280.0283.868
sdRain2.9820.0083.116
setChannelNames0.0010.0000.002
setDropletVolume0.0000.0000.001
sortDataFrame0.0030.0000.003
sortWells0.2870.0000.288
thresholdClassify1.7340.0001.744
wellClassification0.0220.0000.022
wellClassificationMethod0.0220.0000.022
whiteTheme1.6550.0161.674
wildTypeCopiesSummary0.0050.0000.005