Back to Multiple platform build/check report for BioC 3.22:   simplified   long
ABCDEFGHIJKLMNOPQRS[T]UVWXYZ

This page was generated on 2025-04-09 11:56 -0400 (Wed, 09 Apr 2025).

HostnameOSArch (*)R versionInstalled pkgs
nebbiolo2Linux (Ubuntu 24.04.1 LTS)x86_644.5.0 beta (2025-04-02 r88102) -- "How About a Twenty-Six" 4737
palomino8Windows Server 2022 Datacenterx644.5.0 RC (2025-04-03 r88103 ucrt) -- "How About a Twenty-Six" 4524
Click on any hostname to see more info about the system (e.g. compilers)      (*) as reported by 'uname -p', except on Windows and Mac OS X

Package 2238/2335HostnameOS / ArchINSTALLBUILDCHECKBUILD BIN
trigger 1.53.1  (landing page)
John D. Storey
Snapshot Date: 2025-04-08 13:00 -0400 (Tue, 08 Apr 2025)
git_url: https://git.bioconductor.org/packages/trigger
git_branch: devel
git_last_commit: d0917ed
git_last_commit_date: 2025-03-26 11:18:40 -0400 (Wed, 26 Mar 2025)
nebbiolo2Linux (Ubuntu 24.04.1 LTS) / x86_64  ERROR    ERROR  skipped
palomino8Windows Server 2022 Datacenter / x64  ERROR    ERROR  skippedskipped


BUILD results for trigger on palomino8

To the developers/maintainers of the trigger package:
- Allow up to 24 hours (and sometimes 48 hours) for your latest push to git@git.bioconductor.org:packages/trigger.git to reflect on this report. See Troubleshooting Build Report for more information.
- Use the following Renviron settings to reproduce errors and warnings.
- If 'R CMD check' started to fail recently on the Linux builder(s) over a missing dependency, add the missing dependency to 'Suggests:' in your DESCRIPTION file. See Renviron.bioc for more information.

raw results


Summary

Package: trigger
Version: 1.53.1
Command: chmod a+r trigger -R && F:\biocbuild\bbs-3.22-bioc\R\bin\R.exe CMD build --keep-empty-dirs --no-resave-data trigger
StartedAt: 2025-04-08 22:57:55 -0400 (Tue, 08 Apr 2025)
EndedAt: 2025-04-08 22:57:59 -0400 (Tue, 08 Apr 2025)
EllapsedTime: 3.4 seconds
RetCode: 1
Status:   ERROR  
PackageFile: None
PackageFileSize: NA

Command output

##############################################################################
##############################################################################
###
### Running command:
###
###   chmod a+r trigger -R && F:\biocbuild\bbs-3.22-bioc\R\bin\R.exe CMD build --keep-empty-dirs --no-resave-data trigger
###
##############################################################################
##############################################################################


* checking for file 'trigger/DESCRIPTION' ... OK
* preparing 'trigger':
* checking DESCRIPTION meta-information ... OK
* cleaning src
* installing the package to build vignettes
      -----------------------------------
* installing *source* package 'trigger' ...
** this is package 'trigger' version '1.53.1'
** using staged installation
** libs
using C compiler: 'gcc.exe (GCC) 14.2.0'
gcc  -I"F:/biocbuild/bbs-3.22-bioc/R/include" -DNDEBUG     -I"C:/rtools45/x86_64-w64-mingw32.static.posix/include"      -O2 -Wall -std=gnu2x  -mfpmath=sse -msse2 -mstackrealign   -c trigger.c -o trigger.o
trigger.c: In function 'mergeorder':
trigger.c:25:20: warning: variable 'n3' set but not used [-Wunused-but-set-variable]
   25 | int i1,i2,i3,n1,n2,n3;
      |                    ^~
trigger.c: In function 'order_c':
trigger.c:54:8: error: implicit declaration of function 'Calloc'; did you mean 'calloc'? [-Wimplicit-function-declaration]
   54 |    p = Calloc(*n, double*);
      |        ^~~~~~
      |        calloc
trigger.c:54:19: error: expected expression before 'double'
   54 |    p = Calloc(*n, double*);
      |                   ^~~~~~
trigger.c:60:4: error: implicit declaration of function 'Free'; did you mean 'free'? [-Wimplicit-function-declaration]
   60 |    Free(p);
      |    ^~~~
      |    free
trigger.c: In function 'sec_link_stat':
trigger.c:89:18: error: expected expression before 'int'
   89 | ll = Calloc(*ng, int);
      |                  ^~~
trigger.c:90:18: error: expected expression before 'double'
   90 | mx = Calloc(*ng, double);
      |                  ^~~~~~
trigger.c:91:18: error: expected expression before 'double'
   91 | mc = Calloc(*ng, double);
      |                  ^~~~~~
trigger.c:92:18: error: expected expression before 'double'
   92 | xc = Calloc(*ng, double);
      |                  ^~~~~~
trigger.c:93:18: error: expected expression before 'double'
   93 | xx = Calloc(*ng, double);
      |                  ^~~~~~
trigger.c:94:18: error: expected expression before 'double'
   94 | cc = Calloc(*ng, double);
      |                  ^~~~~~
trigger.c:81:10: warning: variable 'nct' set but not used [-Wunused-but-set-variable]
   81 | int ntr, nct, i, j;
      |          ^~~
trigger.c: In function 'sec_link_stat_x':
trigger.c:160:18: error: expected expression before 'int'
  160 | ll = Calloc(*ng, int);
      |                  ^~~
trigger.c:161:18: error: expected expression before 'double'
  161 | mx = Calloc(*ng, double);
      |                  ^~~~~~
trigger.c:162:18: error: expected expression before 'double'
  162 | mc = Calloc(*ng, double);
      |                  ^~~~~~
trigger.c:163:18: error: expected expression before 'double'
  163 | xc = Calloc(*ng, double);
      |                  ^~~~~~
trigger.c:164:18: error: expected expression before 'double'
  164 | xx = Calloc(*ng, double);
      |                  ^~~~~~
trigger.c:165:18: error: expected expression before 'double'
  165 | cc = Calloc(*ng, double);
      |                  ^~~~~~
trigger.c:153:10: warning: variable 'nct' set but not used [-Wunused-but-set-variable]
  153 | int ntr, nct, i, j, k, nk;
      |          ^~~
trigger.c: In function 'condi_indep_stat':
trigger.c:244:18: error: expected expression before 'int'
  244 | ll = Calloc(*ng, int);
      |                  ^~~
trigger.c:245:18: error: expected expression before 'double'
  245 | mx = Calloc(*ng, double);
      |                  ^~~~~~
trigger.c:246:18: error: expected expression before 'double'
  246 | mc = Calloc(*ng, double);
      |                  ^~~~~~
trigger.c:247:18: error: expected expression before 'double'
  247 | xc = Calloc(*ng, double);
      |                  ^~~~~~
trigger.c:248:18: error: expected expression before 'double'
  248 | xx = Calloc(*ng, double);
      |                  ^~~~~~
trigger.c:249:18: error: expected expression before 'double'
  249 | cc = Calloc(*ng, double);
      |                  ^~~~~~
trigger.c:233:10: warning: variable 'nct' set but not used [-Wunused-but-set-variable]
  233 | int ntr, nct, i, j;
      |          ^~~
trigger.c: In function 'condi_indep_stat_x':
trigger.c:323:18: error: expected expression before 'int'
  323 | ll = Calloc(*ng, int);
      |                  ^~~
trigger.c:324:18: error: expected expression before 'double'
  324 | mx = Calloc(*ng, double);
      |                  ^~~~~~
trigger.c:325:18: error: expected expression before 'double'
  325 | mc = Calloc(*ng, double);
      |                  ^~~~~~
trigger.c:326:18: error: expected expression before 'double'
  326 | xc = Calloc(*ng, double);
      |                  ^~~~~~
trigger.c:327:18: error: expected expression before 'double'
  327 | xx = Calloc(*ng, double);
      |                  ^~~~~~
trigger.c:328:18: error: expected expression before 'double'
  328 | cc = Calloc(*ng, double);
      |                  ^~~~~~
trigger.c:310:10: warning: variable 'nct' set but not used [-Wunused-but-set-variable]
  310 | int ntr, nct, i, j, k, nk;
      |          ^~~
trigger.c: In function 'condi_indep_stat_rx':
trigger.c:406:18: error: expected expression before 'int'
  406 | ll = Calloc(*ng, int);
      |                  ^~~
trigger.c:407:18: error: expected expression before 'double'
  407 | mx = Calloc(*ng, double);
      |                  ^~~~~~
trigger.c:408:18: error: expected expression before 'double'
  408 | mc = Calloc(*ng, double);
      |                  ^~~~~~
trigger.c:409:18: error: expected expression before 'double'
  409 | xc = Calloc(*ng, double);
      |                  ^~~~~~
trigger.c:410:18: error: expected expression before 'double'
  410 | xx = Calloc(*ng, double);
      |                  ^~~~~~
trigger.c:411:18: error: expected expression before 'double'
  411 | cc = Calloc(*ng, double);
      |                  ^~~~~~
trigger.c:393:10: warning: variable 'nct' set but not used [-Wunused-but-set-variable]
  393 | int ntr, nct, i, j, k, nk;
      |          ^~~
trigger.c: In function 'link_stat':
trigger.c:483:18: error: expected expression before 'int'
  483 | ll = Calloc(*ng, int);
      |                  ^~~
trigger.c:484:18: error: expected expression before 'double'
  484 | mx = Calloc(*ng, double);
      |                  ^~~~~~
trigger.c:485:18: error: expected expression before 'double'
  485 | xs = Calloc(*ng, double);
      |                  ^~~~~~
trigger.c: In function 'link_stat_xx':
trigger.c:548:18: error: expected expression before 'int'
  548 | ll = Calloc(*ng, int);
      |                  ^~~
trigger.c:549:18: error: expected expression before 'double'
  549 | mx = Calloc(*ng, double);
      |                  ^~~~~~
trigger.c:550:18: error: expected expression before 'double'
  550 | xs = Calloc(*ng, double);
      |                  ^~~~~~
make: *** [F:/biocbuild/bbs-3.22-bioc/R/etc/x64/Makeconf:289: trigger.o] Error 1
ERROR: compilation failed for package 'trigger'
* removing 'F:/biocbuild/bbs-3.22-bioc/tmpdir/RtmpqmmaqQ/Rinst686847f2b7a/trigger'
      -----------------------------------
ERROR: package installation failed