Back to Multiple platform build/check report for BioC 3.22:   simplified   long
ABCDEFGHIJKLMNOPQRS[T]UVWXYZ

This page was generated on 2025-10-04 12:05 -0400 (Sat, 04 Oct 2025).

HostnameOSArch (*)R versionInstalled pkgs
nebbiolo2Linux (Ubuntu 24.04.3 LTS)x86_644.5.1 Patched (2025-08-23 r88802) -- "Great Square Root" 4853
lconwaymacOS 12.7.1 Montereyx86_644.5.1 Patched (2025-09-10 r88807) -- "Great Square Root" 4640
kjohnson3macOS 13.7.7 Venturaarm644.5.1 Patched (2025-09-10 r88807) -- "Great Square Root" 4585
taishanLinux (openEuler 24.03 LTS)aarch644.5.0 (2025-04-11) -- "How About a Twenty-Six" 4576
Click on any hostname to see more info about the system (e.g. compilers)      (*) as reported by 'uname -p', except on Windows and Mac OS X

Package 2231/2341HostnameOS / ArchINSTALLBUILDCHECKBUILD BIN
tRanslatome 1.47.0  (landing page)
Toma Tebaldi , Erik Dassi
Snapshot Date: 2025-10-03 13:45 -0400 (Fri, 03 Oct 2025)
git_url: https://git.bioconductor.org/packages/tRanslatome
git_branch: devel
git_last_commit: a374721
git_last_commit_date: 2025-04-15 10:24:21 -0400 (Tue, 15 Apr 2025)
nebbiolo2Linux (Ubuntu 24.04.3 LTS) / x86_64  OK    OK    OK  UNNEEDED, same version is already published
lconwaymacOS 12.7.1 Monterey / x86_64  OK    OK    OK    OK  UNNEEDED, same version is already published
kjohnson3macOS 13.7.7 Ventura / arm64  OK    OK    OK    OK  UNNEEDED, same version is already published
taishanLinux (openEuler 24.03 LTS) / aarch64  OK    OK    OK  


CHECK results for tRanslatome on lconway

To the developers/maintainers of the tRanslatome package:
- Allow up to 24 hours (and sometimes 48 hours) for your latest push to git@git.bioconductor.org:packages/tRanslatome.git to reflect on this report. See Troubleshooting Build Report for more information.
- Use the following Renviron settings to reproduce errors and warnings.
- If 'R CMD check' started to fail recently on the Linux builder(s) over a missing dependency, add the missing dependency to 'Suggests:' in your DESCRIPTION file. See Renviron.bioc for more information.

raw results


Summary

Package: tRanslatome
Version: 1.47.0
Command: /Library/Frameworks/R.framework/Resources/bin/R CMD check --install=check:tRanslatome.install-out.txt --library=/Library/Frameworks/R.framework/Resources/library --no-vignettes --timings tRanslatome_1.47.0.tar.gz
StartedAt: 2025-10-04 01:20:23 -0400 (Sat, 04 Oct 2025)
EndedAt: 2025-10-04 01:26:15 -0400 (Sat, 04 Oct 2025)
EllapsedTime: 352.2 seconds
RetCode: 0
Status:   OK  
CheckDir: tRanslatome.Rcheck
Warnings: 0

Command output

##############################################################################
##############################################################################
###
### Running command:
###
###   /Library/Frameworks/R.framework/Resources/bin/R CMD check --install=check:tRanslatome.install-out.txt --library=/Library/Frameworks/R.framework/Resources/library --no-vignettes --timings tRanslatome_1.47.0.tar.gz
###
##############################################################################
##############################################################################


* using log directory ‘/Users/biocbuild/bbs-3.22-bioc/meat/tRanslatome.Rcheck’
* using R version 4.5.1 Patched (2025-09-10 r88807)
* using platform: x86_64-apple-darwin20
* R was compiled by
    Apple clang version 14.0.0 (clang-1400.0.29.202)
    GNU Fortran (GCC) 14.2.0
* running under: macOS Monterey 12.7.6
* using session charset: UTF-8
* using option ‘--no-vignettes’
* checking for file ‘tRanslatome/DESCRIPTION’ ... OK
* checking extension type ... Package
* this is package ‘tRanslatome’ version ‘1.47.0’
* checking package namespace information ... OK
* checking package dependencies ... INFO
Depends: includes the non-default packages:
  'limma', 'anota', 'DESeq2', 'edgeR', 'RankProd', 'topGO',
  'org.Hs.eg.db', 'GOSemSim', 'Heatplus', 'gplots', 'plotrix',
  'Biobase'
Adding so many packages to the search path is excessive and importing
selectively is preferable.
* checking if this is a source package ... OK
* checking if there is a namespace ... OK
* checking for hidden files and directories ... OK
* checking for portable file names ... OK
* checking for sufficient/correct file permissions ... OK
* checking whether package ‘tRanslatome’ can be installed ... OK
* checking installed package size ... OK
* checking package directory ... OK
* checking ‘build’ directory ... OK
* checking DESCRIPTION meta-information ... OK
* checking top-level files ... OK
* checking for left-over files ... OK
* checking index information ... OK
* checking package subdirectories ... OK
* checking code files for non-ASCII characters ... OK
* checking R files for syntax errors ... OK
* checking whether the package can be loaded ... OK
* checking whether the package can be loaded with stated dependencies ... OK
* checking whether the package can be unloaded cleanly ... OK
* checking whether the namespace can be loaded with stated dependencies ... OK
* checking whether the namespace can be unloaded cleanly ... OK
* checking dependencies in R code ... OK
* checking S3 generic/method consistency ... OK
* checking replacement functions ... OK
* checking foreign function calls ... OK
* checking R code for possible problems ... NOTE
methodLimma: no visible global function definition for ‘lmFit’
methodTTest: no visible global function definition for ‘calcTStatFast’
GOEnrichment,DEGs: no visible global function definition for ‘toTable’
Undefined global functions or variables:
  calcTStatFast lmFit toTable
* checking Rd files ... OK
* checking Rd metadata ... OK
* checking Rd cross-references ... OK
* checking for missing documentation entries ... OK
* checking for code/documentation mismatches ... OK
* checking Rd \usage sections ... OK
* checking Rd contents ... OK
* checking for unstated dependencies in examples ... OK
* checking contents of ‘data’ directory ... OK
* checking data for non-ASCII characters ... OK
* checking data for ASCII and uncompressed saves ... OK
* checking sizes of PDF files under ‘inst/doc’ ... OK
* checking files in ‘vignettes’ ... OK
* checking examples ... OK
Examples with CPU (user + system) or elapsed time > 5s
               user system elapsed
GOComparison 16.417  1.351  17.948
GOEnrichment 13.665  0.313  14.098
* checking for unstated dependencies in vignettes ... OK
* checking package vignettes ... OK
* checking running R code from vignettes ... SKIPPED
* checking re-building of vignette outputs ... SKIPPED
* checking PDF version of manual ... OK
* DONE

Status: 1 NOTE
See
  ‘/Users/biocbuild/bbs-3.22-bioc/meat/tRanslatome.Rcheck/00check.log’
for details.


Installation output

tRanslatome.Rcheck/00install.out

##############################################################################
##############################################################################
###
### Running command:
###
###   /Library/Frameworks/R.framework/Resources/bin/R CMD INSTALL tRanslatome
###
##############################################################################
##############################################################################


* installing to library ‘/Library/Frameworks/R.framework/Versions/4.5-x86_64/Resources/library’
* installing *source* package ‘tRanslatome’ ...
** this is package ‘tRanslatome’ version ‘1.47.0’
** using staged installation
** R
** data
** byte-compile and prepare package for lazy loading

groupGOTerms: 	GOBPTerm, GOMFTerm, GOCCTerm environments built.
** help
*** installing help indices
** building package indices
** installing vignettes
** testing if installed package can be loaded from temporary location

groupGOTerms: 	GOBPTerm, GOMFTerm, GOCCTerm environments built.
** testing if installed package can be loaded from final location

groupGOTerms: 	GOBPTerm, GOMFTerm, GOCCTerm environments built.
** testing if installed package keeps a record of temporary installation path
* DONE (tRanslatome)

Tests output


Example timings

tRanslatome.Rcheck/tRanslatome-Ex.timings

nameusersystemelapsed
CVplot0.0840.0090.094
DEGs0.0010.0010.001
DEGs.table0.0870.1480.237
EnrichedSets0.0000.0000.002
FC.threshold0.0350.0040.040
GOComparison16.417 1.35117.948
GOEnrichment13.665 0.31314.098
GOsets0.0000.0010.001
GOsims0.0000.0010.001
Heatmap0.1050.0080.113
Histogram0.0430.0070.051
IdentityPlot0.0370.0040.042
MAplot0.0600.0070.068
Radar0.0850.0050.090
RegulatoryEnrichment1.5850.0271.620
SDplot0.0540.0060.061
Scatterplot0.0980.0060.104
SimilarityPlot0.0370.0040.041
TranslatomeDataset0.0010.0010.002
average.similarity.scores0.0360.0030.039
computeDEGs0.2250.0080.233
enriched.table0.2790.0200.301
getConditionA0.0340.0030.036
getConditionB0.0380.0040.044
getConditionC0.0370.0030.040
getConditionD0.0380.0040.042
getConditionLabels0.0380.0040.042
getDEGs0.0390.0030.042
getDEGsMethod0.0370.0050.043
getDataType0.0360.0030.039
getExprMatrix0.0630.0770.141
getLevelLabels0.0360.0030.040
identity.matrix0.0330.0040.037
label.condition0.0370.0030.040
label.level.DEGs0.0380.0030.042
label.level.enriched0.0300.0030.032
newTranslatomeDataset0.0410.0050.046
significance.threshold0.0370.0050.048
similarity.matrix0.0340.0050.040
tRanslatomeSampleData0.0370.0040.042