Back to Multiple platform build/check report for BioC 3.22:   simplified   long
ABCDEFGHIJKLMNOPQR[S]TUVWXYZ

This page was generated on 2025-10-04 12:07 -0400 (Sat, 04 Oct 2025).

HostnameOSArch (*)R versionInstalled pkgs
nebbiolo2Linux (Ubuntu 24.04.3 LTS)x86_644.5.1 Patched (2025-08-23 r88802) -- "Great Square Root" 4853
lconwaymacOS 12.7.1 Montereyx86_644.5.1 Patched (2025-09-10 r88807) -- "Great Square Root" 4640
kjohnson3macOS 13.7.7 Venturaarm644.5.1 Patched (2025-09-10 r88807) -- "Great Square Root" 4585
taishanLinux (openEuler 24.03 LTS)aarch644.5.0 (2025-04-11) -- "How About a Twenty-Six" 4576
Click on any hostname to see more info about the system (e.g. compilers)      (*) as reported by 'uname -p', except on Windows and Mac OS X

Package 2126/2341HostnameOS / ArchINSTALLBUILDCHECKBUILD BIN
structToolbox 1.21.0  (landing page)
Gavin Rhys Lloyd
Snapshot Date: 2025-10-03 13:45 -0400 (Fri, 03 Oct 2025)
git_url: https://git.bioconductor.org/packages/structToolbox
git_branch: devel
git_last_commit: 36d5ff1
git_last_commit_date: 2025-04-15 11:54:06 -0400 (Tue, 15 Apr 2025)
nebbiolo2Linux (Ubuntu 24.04.3 LTS) / x86_64  OK    OK    OK  UNNEEDED, same version is already published
lconwaymacOS 12.7.1 Monterey / x86_64  OK    OK    OK    OK  UNNEEDED, same version is already published
kjohnson3macOS 13.7.7 Ventura / arm64  OK    OK    OK    OK  UNNEEDED, same version is already published
taishanLinux (openEuler 24.03 LTS) / aarch64  OK    OK    OK  


CHECK results for structToolbox on taishan

To the developers/maintainers of the structToolbox package:
- Allow up to 24 hours (and sometimes 48 hours) for your latest push to git@git.bioconductor.org:packages/structToolbox.git to reflect on this report. See Troubleshooting Build Report for more information.
- Use the following Renviron settings to reproduce errors and warnings.
- If 'R CMD check' started to fail recently on the Linux builder(s) over a missing dependency, add the missing dependency to 'Suggests:' in your DESCRIPTION file. See Renviron.bioc for more information.
- See Martin Grigorov's blog post for how to debug Linux ARM64 related issues on a x86_64 host.

raw results


Summary

Package: structToolbox
Version: 1.21.0
Command: /home/biocbuild/R/R/bin/R CMD check --install=check:structToolbox.install-out.txt --library=/home/biocbuild/R/R/site-library --no-vignettes --timings structToolbox_1.21.0.tar.gz
StartedAt: 2025-10-03 12:09:38 -0000 (Fri, 03 Oct 2025)
EndedAt: 2025-10-03 12:21:06 -0000 (Fri, 03 Oct 2025)
EllapsedTime: 687.5 seconds
RetCode: 0
Status:   OK  
CheckDir: structToolbox.Rcheck
Warnings: 0

Command output

##############################################################################
##############################################################################
###
### Running command:
###
###   /home/biocbuild/R/R/bin/R CMD check --install=check:structToolbox.install-out.txt --library=/home/biocbuild/R/R/site-library --no-vignettes --timings structToolbox_1.21.0.tar.gz
###
##############################################################################
##############################################################################


* using log directory ‘/home/biocbuild/bbs-3.22-bioc/meat/structToolbox.Rcheck’
* using R version 4.5.0 (2025-04-11)
* using platform: aarch64-unknown-linux-gnu
* R was compiled by
    aarch64-unknown-linux-gnu-gcc (GCC) 14.2.0
    GNU Fortran (GCC) 14.2.0
* running under: openEuler 24.03 (LTS)
* using session charset: UTF-8
* using option ‘--no-vignettes’
* checking for file ‘structToolbox/DESCRIPTION’ ... OK
* checking extension type ... Package
* this is package ‘structToolbox’ version ‘1.21.0’
* package encoding: UTF-8
* checking package namespace information ... OK
* checking package dependencies ... OK
* checking if this is a source package ... OK
* checking if there is a namespace ... OK
* checking for hidden files and directories ... OK
* checking for portable file names ... OK
* checking for sufficient/correct file permissions ... OK
* checking whether package ‘structToolbox’ can be installed ... OK
* checking installed package size ... OK
* checking package directory ... OK
* checking ‘build’ directory ... OK
* checking DESCRIPTION meta-information ... OK
* checking top-level files ... OK
* checking for left-over files ... OK
* checking index information ... OK
* checking package subdirectories ... OK
* checking code files for non-ASCII characters ... OK
* checking R files for syntax errors ... OK
* checking whether the package can be loaded ... OK
* checking whether the package can be loaded with stated dependencies ... OK
* checking whether the package can be unloaded cleanly ... OK
* checking whether the namespace can be loaded with stated dependencies ... OK
* checking whether the namespace can be unloaded cleanly ... OK
* checking loading without being on the library search path ... OK
* checking dependencies in R code ... OK
* checking S3 generic/method consistency ... OK
* checking replacement functions ... OK
* checking foreign function calls ... OK
* checking R code for possible problems ... OK
* checking Rd files ... OK
* checking Rd metadata ... OK
* checking Rd cross-references ... OK
* checking for missing documentation entries ... OK
* checking for code/documentation mismatches ... OK
* checking Rd \usage sections ... OK
* checking Rd contents ... OK
* checking for unstated dependencies in examples ... OK
* checking R/sysdata.rda ... OK
* checking files in ‘vignettes’ ... OK
* checking examples ... OK
Examples with CPU (user + system) or elapsed time > 5s
                            user system elapsed
fold_change_int           22.556  0.048  22.787
fold_change               17.163  0.056  17.529
fisher_exact              14.185  0.024  14.299
fs_line                   10.011  0.099  10.945
forward_selection_by_rank  9.497  0.104  10.529
compare_dist               7.020  0.012   9.037
kfoldxcv_grid              5.673  0.024   5.757
grid_search_1d             5.255  0.004   5.281
kfold_xval                 5.156  0.032   5.207
confounders_clsq           4.553  0.004   5.400
* checking for unstated dependencies in ‘tests’ ... OK
* checking tests ...
  Running ‘testthat.R’
 OK
* checking for unstated dependencies in vignettes ... OK
* checking package vignettes ... OK
* checking running R code from vignettes ... SKIPPED
* checking re-building of vignette outputs ... SKIPPED
* checking PDF version of manual ... OK
* DONE

Status: OK


Installation output

structToolbox.Rcheck/00install.out

##############################################################################
##############################################################################
###
### Running command:
###
###   /home/biocbuild/R/R/bin/R CMD INSTALL structToolbox
###
##############################################################################
##############################################################################


* installing to library ‘/home/biocbuild/R/R-4.5.0/site-library’
* installing *source* package ‘structToolbox’ ...
** this is package ‘structToolbox’ version ‘1.21.0’
** using staged installation
** R
** inst
** byte-compile and prepare package for lazy loading
** help
*** installing help indices
** building package indices
** installing vignettes
** testing if installed package can be loaded from temporary location
** testing if installed package can be loaded from final location
** testing if installed package keeps a record of temporary installation path
* DONE (structToolbox)

Tests output

structToolbox.Rcheck/tests/testthat.Rout


R version 4.5.0 (2025-04-11) -- "How About a Twenty-Six"
Copyright (C) 2025 The R Foundation for Statistical Computing
Platform: aarch64-unknown-linux-gnu

R is free software and comes with ABSOLUTELY NO WARRANTY.
You are welcome to redistribute it under certain conditions.
Type 'license()' or 'licence()' for distribution details.

R is a collaborative project with many contributors.
Type 'contributors()' for more information and
'citation()' on how to cite R or R packages in publications.

Type 'demo()' for some demos, 'help()' for on-line help, or
'help.start()' for an HTML browser interface to help.
Type 'q()' to quit R.

> library(testthat)
> library(ggplot2)
> library(structToolbox)
Loading required package: struct
> 
> test_check("structToolbox")
[ FAIL 0 | WARN 6 | SKIP 0 | PASS 166 ]

[ FAIL 0 | WARN 6 | SKIP 0 | PASS 166 ]
> 
> proc.time()
   user  system elapsed 
273.570   2.416 281.998 

Example timings

structToolbox.Rcheck/structToolbox-Ex.timings

nameusersystemelapsed
ANOVA0.2790.0080.287
AUC3.0280.1073.215
DFA0.3090.0000.309
DatasetExperiment_boxplot1.3710.0191.411
DatasetExperiment_dist1.8150.0391.861
DatasetExperiment_factor_boxplot0.5310.0000.533
DatasetExperiment_heatmap1.6260.0082.047
HCA0.1040.0000.208
HSD0.4260.0000.701
HSDEM0.3910.0040.525
MTBLS79_DatasetExperiment0.0010.0000.001
OPLSDA0.0170.0000.017
OPLSR0.0140.0000.013
PCA0.0070.0000.006
PLSDA0.0190.0000.019
PLSR0.0150.0000.015
SVM0.0320.0000.032
as_data_frame0.2160.0000.217
autoscale0.1040.0000.105
balanced_accuracy2.6460.0072.879
blank_filter0.4870.0070.496
blank_filter_hist0.0010.0000.001
bootstrap0.0150.0000.014
calculate0.0070.0000.007
chart_plot0.0400.0000.039
classical_lsq0.4460.0000.448
compare_dist7.0200.0129.037
confounders_clsq4.5530.0045.400
confounders_lsq_barchart4.4650.0204.499
confounders_lsq_boxplot4.3330.0004.412
constant_sum_norm0.0100.0000.009
corr_coef0.3500.0000.366
dfa_scores_plot1.4080.0121.494
dratio_filter0.4240.0000.426
equal_split0.1810.0000.183
feature_boxplot0.0420.0000.041
feature_profile0.8070.0000.809
feature_profile_array0.9930.0041.000
filter_by_name0.0720.0000.073
filter_na_count1.6020.0001.605
filter_smeta0.1060.0000.106
fisher_exact14.185 0.02414.299
fold_change17.163 0.05617.529
fold_change_int22.556 0.04822.787
fold_change_plot0.0060.0040.010
forward_selection_by_rank 9.497 0.10410.529
fs_line10.011 0.09910.945
glog_opt_plot0.8160.0080.841
glog_transform0.4260.0000.430
grid_search_1d5.2550.0045.281
gs_line0.0010.0000.001
hca_dendrogram000
kfold_xval5.1560.0325.207
kfoldxcv_grid5.6730.0245.757
kfoldxcv_metric0.0010.0000.001
knn_impute0.0170.0000.018
kw_p_hist0.0010.0000.001
kw_rank_sum0.1080.0000.108
linear_model0.0420.0000.042
log_transform0.010.000.01
mean_centre0.0040.0000.004
mean_of_medians0.1680.0040.173
mixed_effect0.2240.0040.320
model_apply0.0350.0000.034
model_predict0.0980.0000.098
model_reverse0.0360.0000.036
model_train0.0760.0000.076
mv_boxplot0.6410.0080.650
mv_feature_filter0.1680.0000.168
mv_feature_filter_hist0.0010.0000.001
mv_histogram0.5480.0040.554
mv_sample_filter0.0120.0000.012
mv_sample_filter_hist0.0010.0000.001
nroot_transform0.010.000.01
ontology_cache000
pairs_filter0.0140.0000.014
pareto_scale0.0800.0000.081
pca_biplot0.0210.0000.022
pca_correlation_plot0.0090.0000.010
pca_dstat_plot0.0130.0000.013
pca_loadings_plot0.0100.0030.013
pca_scores_plot1.0670.0001.070
pca_scree_plot0.0090.0000.009
permutation_test0.0140.0000.014
permutation_test_plot0.0040.0000.004
permute_sample_order0.010.000.01
pls_regcoeff_plot0.6980.0000.724
pls_scores_plot1.3320.0041.599
pls_vip_plot0.7580.0000.760
plsda_feature_importance_plot1.3070.0041.315
plsda_predicted_plot0.8880.0000.902
plsda_roc_plot1.8810.0082.287
plsr_cook_dist0.0090.0000.009
plsr_prediction_plot0.010.000.01
plsr_qq_plot0.010.000.01
plsr_residual_hist0.0090.0000.009
pqn_norm0.5140.0040.520
pqn_norm_hist0.0010.0000.001
prop_na0.0140.0000.014
r_squared0.0010.0000.001
resample0.0220.0000.022
resample_chart0.0000.0030.004
rsd_filter0.0190.0000.020
rsd_filter_hist0.0010.0000.001
run0.0450.0000.044
sb_corr0.040.000.04
scatter_chart0.8130.0040.819
split_data0.0100.0000.011
stratified_split0.1670.0000.168
svm_plot_2d1.2110.0041.603
tSNE0.0340.0000.034
tSNE_scatter0.010.000.01
tic_chart0.4740.0000.476
ttest0.0310.0000.030
vec_norm0.0000.0000.001
wilcox_p_hist0.0000.0010.000
wilcox_test0.0250.0010.026