Back to Multiple platform build/check report for BioC 3.22:   simplified   long
ABCDEFGHIJKLMNOPQR[S]TUVWXYZ

This page was generated on 2025-10-04 12:05 -0400 (Sat, 04 Oct 2025).

HostnameOSArch (*)R versionInstalled pkgs
nebbiolo2Linux (Ubuntu 24.04.3 LTS)x86_644.5.1 Patched (2025-08-23 r88802) -- "Great Square Root" 4853
lconwaymacOS 12.7.1 Montereyx86_644.5.1 Patched (2025-09-10 r88807) -- "Great Square Root" 4640
kjohnson3macOS 13.7.7 Venturaarm644.5.1 Patched (2025-09-10 r88807) -- "Great Square Root" 4585
taishanLinux (openEuler 24.03 LTS)aarch644.5.0 (2025-04-11) -- "How About a Twenty-Six" 4576
Click on any hostname to see more info about the system (e.g. compilers)      (*) as reported by 'uname -p', except on Windows and Mac OS X

Package 1937/2341HostnameOS / ArchINSTALLBUILDCHECKBUILD BIN
scRepertoire 2.5.6  (landing page)
Nick Borcherding
Snapshot Date: 2025-10-03 13:45 -0400 (Fri, 03 Oct 2025)
git_url: https://git.bioconductor.org/packages/scRepertoire
git_branch: devel
git_last_commit: bbd600d
git_last_commit_date: 2025-10-01 09:12:49 -0400 (Wed, 01 Oct 2025)
nebbiolo2Linux (Ubuntu 24.04.3 LTS) / x86_64  OK    OK    OK  UNNEEDED, same version is already published
lconwaymacOS 12.7.1 Monterey / x86_64  OK    OK    OK    OK  UNNEEDED, same version is already published
kjohnson3macOS 13.7.7 Ventura / arm64  OK    OK    OK    OK  UNNEEDED, same version is already published
taishanLinux (openEuler 24.03 LTS) / aarch64  OK    OK    OK  


CHECK results for scRepertoire on lconway

To the developers/maintainers of the scRepertoire package:
- Allow up to 24 hours (and sometimes 48 hours) for your latest push to git@git.bioconductor.org:packages/scRepertoire.git to reflect on this report. See Troubleshooting Build Report for more information.
- Use the following Renviron settings to reproduce errors and warnings.
- If 'R CMD check' started to fail recently on the Linux builder(s) over a missing dependency, add the missing dependency to 'Suggests:' in your DESCRIPTION file. See Renviron.bioc for more information.

raw results


Summary

Package: scRepertoire
Version: 2.5.6
Command: /Library/Frameworks/R.framework/Resources/bin/R CMD check --install=check:scRepertoire.install-out.txt --library=/Library/Frameworks/R.framework/Resources/library --no-vignettes --timings scRepertoire_2.5.6.tar.gz
StartedAt: 2025-10-04 00:34:37 -0400 (Sat, 04 Oct 2025)
EndedAt: 2025-10-04 00:45:14 -0400 (Sat, 04 Oct 2025)
EllapsedTime: 636.8 seconds
RetCode: 0
Status:   OK  
CheckDir: scRepertoire.Rcheck
Warnings: 0

Command output

##############################################################################
##############################################################################
###
### Running command:
###
###   /Library/Frameworks/R.framework/Resources/bin/R CMD check --install=check:scRepertoire.install-out.txt --library=/Library/Frameworks/R.framework/Resources/library --no-vignettes --timings scRepertoire_2.5.6.tar.gz
###
##############################################################################
##############################################################################


* using log directory ‘/Users/biocbuild/bbs-3.22-bioc/meat/scRepertoire.Rcheck’
* using R version 4.5.1 Patched (2025-09-10 r88807)
* using platform: x86_64-apple-darwin20
* R was compiled by
    Apple clang version 14.0.0 (clang-1400.0.29.202)
    GNU Fortran (GCC) 14.2.0
* running under: macOS Monterey 12.7.6
* using session charset: UTF-8
* using option ‘--no-vignettes’
* checking for file ‘scRepertoire/DESCRIPTION’ ... OK
* this is package ‘scRepertoire’ version ‘2.5.6’
* package encoding: UTF-8
* checking package namespace information ... OK
* checking package dependencies ... OK
* checking if this is a source package ... OK
* checking if there is a namespace ... OK
* checking for hidden files and directories ... OK
* checking for portable file names ... OK
* checking for sufficient/correct file permissions ... OK
* checking whether package ‘scRepertoire’ can be installed ... OK
* used C++ compiler: ‘Apple clang version 14.0.0 (clang-1400.0.29.202)’
* used SDK: ‘MacOSX11.3.1.sdk’
* checking installed package size ... OK
* checking package directory ... OK
* checking ‘build’ directory ... OK
* checking DESCRIPTION meta-information ... OK
* checking top-level files ... OK
* checking for left-over files ... OK
* checking index information ... OK
* checking package subdirectories ... OK
* checking code files for non-ASCII characters ... OK
* checking R files for syntax errors ... OK
* checking whether the package can be loaded ... OK
* checking whether the package can be loaded with stated dependencies ... OK
* checking whether the package can be unloaded cleanly ... OK
* checking whether the namespace can be loaded with stated dependencies ... OK
* checking whether the namespace can be unloaded cleanly ... OK
* checking whether startup messages can be suppressed ... OK
* checking dependencies in R code ... OK
* checking S3 generic/method consistency ... OK
* checking replacement functions ... OK
* checking foreign function calls ... OK
* checking R code for possible problems ... NOTE
clonalSizeDistribution: no visible binding for global variable ‘y’
combineExpression: no visible binding for global variable
  ‘clonalFrequency’
Undefined global functions or variables:
  clonalFrequency y
* checking Rd files ... OK
* checking Rd metadata ... OK
* checking Rd cross-references ... NOTE
Non-topic package-anchored link(s) in Rd file 'StartracDiversity.Rd':
  ‘[grDevices:palettes]{hcl.pals}’

Non-topic package-anchored link(s) in Rd file 'alluvialClones.Rd':
  ‘[grDevices:palettes]{hcl.pals}’

Non-topic package-anchored link(s) in Rd file 'clonalAbundance.Rd':
  ‘[grDevices:palettes]{hcl.pals}’

Non-topic package-anchored link(s) in Rd file 'clonalBias.Rd':
  ‘[grDevices:palettes]{hcl.pals}’

Non-topic package-anchored link(s) in Rd file 'clonalDiversity.Rd':
  ‘[grDevices:palettes]{hcl.pals}’

Non-topic package-anchored link(s) in Rd file 'clonalHomeostasis.Rd':
  ‘[grDevices:palettes]{hcl.pals}’

Non-topic package-anchored link(s) in Rd file 'clonalLength.Rd':
  ‘[grDevices:palettes]{hcl.pals}’

Non-topic package-anchored link(s) in Rd file 'clonalNetwork.Rd':
  ‘[grDevices:palettes]{hcl.pals}’

Non-topic package-anchored link(s) in Rd file 'clonalOccupy.Rd':
  ‘[grDevices:palettes]{hcl.pals}’

Non-topic package-anchored link(s) in Rd file 'clonalOverlap.Rd':
  ‘[grDevices:palettes]{hcl.pals}’

Non-topic package-anchored link(s) in Rd file 'clonalProportion.Rd':
  ‘[grDevices:palettes]{hcl.pals}’

Non-topic package-anchored link(s) in Rd file 'clonalQuant.Rd':
  ‘[grDevices:palettes]{hcl.pals}’

Non-topic package-anchored link(s) in Rd file 'clonalRarefaction.Rd':
  ‘[grDevices:palettes]{hcl.pals}’

Non-topic package-anchored link(s) in Rd file 'clonalScatter.Rd':
  ‘[grDevices:palettes]{hcl.pals}’

Non-topic package-anchored link(s) in Rd file 'clonalSizeDistribution.Rd':
  ‘[grDevices:palettes]{hcl.pals}’

Non-topic package-anchored link(s) in Rd file 'percentAA.Rd':
  ‘[grDevices:palettes]{hcl.pals}’

Non-topic package-anchored link(s) in Rd file 'percentGeneUsage.Rd':
  ‘[grDevices:palettes]{hcl.pals}’

Non-topic package-anchored link(s) in Rd file 'percentKmer.Rd':
  ‘[grDevices:palettes]{hcl.pals}’

Non-topic package-anchored link(s) in Rd file 'positionalEntropy.Rd':
  ‘[grDevices:palettes]{hcl.pals}’

Non-topic package-anchored link(s) in Rd file 'positionalProperty.Rd':
  ‘[grDevices:palettes]{hcl.pals}’

See section 'Cross-references' in the 'Writing R Extensions' manual.
* checking for missing documentation entries ... OK
* checking for code/documentation mismatches ... OK
* checking Rd \usage sections ... OK
* checking Rd contents ... OK
* checking for unstated dependencies in examples ... OK
* checking contents of ‘data’ directory ... OK
* checking data for non-ASCII characters ... OK
* checking LazyData ... OK
* checking data for ASCII and uncompressed saves ... OK
* checking line endings in C/C++/Fortran sources/headers ... OK
* checking compiled code ... NOTE
Note: information on .o files is not available
* checking files in ‘vignettes’ ... OK
* checking examples ... OK
Examples with CPU (user + system) or elapsed time > 5s
                         user system elapsed
StartracDiversity      11.042  0.347  11.470
clonalCluster          10.607  0.569  11.253
clonalSizeDistribution  9.615  0.483  10.165
percentGeneUsage        8.552  0.156   8.752
* checking for unstated dependencies in ‘tests’ ... OK
* checking tests ...
  Running ‘spelling.R’
  Running ‘testthat.R’
 OK
* checking for unstated dependencies in vignettes ... OK
* checking package vignettes ... OK
* checking running R code from vignettes ... SKIPPED
* checking re-building of vignette outputs ... SKIPPED
* checking PDF version of manual ... OK
* DONE

Status: 3 NOTEs
See
  ‘/Users/biocbuild/bbs-3.22-bioc/meat/scRepertoire.Rcheck/00check.log’
for details.


Installation output

scRepertoire.Rcheck/00install.out

##############################################################################
##############################################################################
###
### Running command:
###
###   /Library/Frameworks/R.framework/Resources/bin/R CMD INSTALL scRepertoire
###
##############################################################################
##############################################################################


* installing to library ‘/Library/Frameworks/R.framework/Versions/4.5-x86_64/Resources/library’
* installing *source* package ‘scRepertoire’ ...
** this is package ‘scRepertoire’ version ‘2.5.6’
** using staged installation
** libs
using C++ compiler: ‘Apple clang version 14.0.0 (clang-1400.0.29.202)’
using SDK: ‘MacOSX11.3.1.sdk’
clang++ -arch x86_64 -std=gnu++17 -I"/Library/Frameworks/R.framework/Resources/include" -DNDEBUG  -I'/Library/Frameworks/R.framework/Versions/4.5-x86_64/Resources/library/Rcpp/include' -I/opt/R/x86_64/include    -fPIC  -falign-functions=64 -Wall -g -O2   -c RcppExports.cpp -o RcppExports.o
clang++ -arch x86_64 -std=gnu++17 -I"/Library/Frameworks/R.framework/Resources/include" -DNDEBUG  -I'/Library/Frameworks/R.framework/Versions/4.5-x86_64/Resources/library/Rcpp/include' -I/opt/R/x86_64/include    -fPIC  -falign-functions=64 -Wall -g -O2   -c constructConDfAndParseBCR.cpp -o constructConDfAndParseBCR.o
clang++ -arch x86_64 -std=gnu++17 -I"/Library/Frameworks/R.framework/Resources/include" -DNDEBUG  -I'/Library/Frameworks/R.framework/Versions/4.5-x86_64/Resources/library/Rcpp/include' -I/opt/R/x86_64/include    -fPIC  -falign-functions=64 -Wall -g -O2   -c constructConDfAndparseTCR.cpp -o constructConDfAndparseTCR.o
clang++ -arch x86_64 -std=gnu++17 -dynamiclib -Wl,-headerpad_max_install_names -undefined dynamic_lookup -L/Library/Frameworks/R.framework/Resources/lib -L/opt/R/x86_64/lib -o scRepertoire.so RcppExports.o constructConDfAndParseBCR.o constructConDfAndparseTCR.o -F/Library/Frameworks/R.framework/.. -framework R
installing to /Library/Frameworks/R.framework/Versions/4.5-x86_64/Resources/library/00LOCK-scRepertoire/00new/scRepertoire/libs
** R
** data
*** moving datasets to lazyload DB
** inst
** byte-compile and prepare package for lazy loading
Note: wrong number of arguments to 'floor' 
Note: wrong number of arguments to 'floor' 
** help
*** installing help indices
*** copying figures
** building package indices
** installing vignettes
** testing if installed package can be loaded from temporary location
** checking absolute paths in shared objects and dynamic libraries
** testing if installed package can be loaded from final location
** testing if installed package keeps a record of temporary installation path
* DONE (scRepertoire)

Tests output

scRepertoire.Rcheck/tests/spelling.Rout


R version 4.5.1 Patched (2025-09-10 r88807) -- "Great Square Root"
Copyright (C) 2025 The R Foundation for Statistical Computing
Platform: x86_64-apple-darwin20

R is free software and comes with ABSOLUTELY NO WARRANTY.
You are welcome to redistribute it under certain conditions.
Type 'license()' or 'licence()' for distribution details.

R is a collaborative project with many contributors.
Type 'contributors()' for more information and
'citation()' on how to cite R or R packages in publications.

Type 'demo()' for some demos, 'help()' for on-line help, or
'help.start()' for an HTML browser interface to help.
Type 'q()' to quit R.

> if(requireNamespace('spelling', quietly = TRUE))
+   spelling::spell_check_test(vignettes = TRUE, error = FALSE,
+                              skip_on_cran = TRUE)
All Done!
> 
> proc.time()
   user  system elapsed 
  0.215   0.085   0.301 

scRepertoire.Rcheck/tests/testthat.Rout


R version 4.5.1 Patched (2025-09-10 r88807) -- "Great Square Root"
Copyright (C) 2025 The R Foundation for Statistical Computing
Platform: x86_64-apple-darwin20

R is free software and comes with ABSOLUTELY NO WARRANTY.
You are welcome to redistribute it under certain conditions.
Type 'license()' or 'licence()' for distribution details.

R is a collaborative project with many contributors.
Type 'contributors()' for more information and
'citation()' on how to cite R or R packages in publications.

Type 'demo()' for some demos, 'help()' for on-line help, or
'help.start()' for an HTML browser interface to help.
Type 'q()' to quit R.

> # This file is part of the standard setup for testthat.
> # It is recommended that you do not modify it.
> #
> # Where should you do additional test configuration?
> # Learn more about the roles of various files in:
> # * https://r-pkgs.org/tests.html
> # * https://testthat.r-lib.org/reference/test_package.html#special-files
> 
> library(testthat)
> library(scRepertoire)
Loading required package: ggplot2
> 
> test_check("scRepertoire")

Attaching package: 'igraph'

The following object is masked from 'package:testthat':

    compare

The following objects are masked from 'package:stats':

    decompose, spectrum

The following object is masked from 'package:base':

    union

[ FAIL 0 | WARN 1 | SKIP 0 | PASS 781 ]

[ FAIL 0 | WARN 1 | SKIP 0 | PASS 781 ]
> 
> proc.time()
   user  system elapsed 
227.351   7.864 243.250 

Example timings

scRepertoire.Rcheck/scRepertoire-Ex.timings

nameusersystemelapsed
StartracDiversity11.042 0.34711.470
addVariable0.9590.0340.997
alluvialClones4.2820.0894.400
annotateInvariant1.8190.0501.881
clonalAbundance1.9800.0502.043
clonalBias2.2020.0532.275
clonalCluster10.607 0.56911.253
clonalCompare2.7930.0972.915
clonalDiversity1.8650.0591.938
clonalHomeostasis1.2840.0461.340
clonalLength2.0200.0332.067
clonalNetwork0.0010.0010.001
clonalOccupy1.9330.0421.995
clonalOverlap1.4240.0711.506
clonalOverlay1.8980.0411.952
clonalProportion1.2480.0481.304
clonalQuant1.2600.0261.297
clonalRarefaction4.6440.1434.825
clonalScatter1.3390.0371.386
clonalSizeDistribution 9.615 0.48310.165
combineBCR2.9010.0943.673
combineExpression1.5130.0531.577
combineTCR0.8860.0250.916
createHTOContigList0.0000.0010.000
exportClones000
getCirclize1.6300.0511.698
highlightClones1.5090.0341.551
loadContigs0.3580.0251.829
percentAA2.4770.0552.544
percentGeneUsage8.5520.1568.752
percentKmer1.7890.0341.834
positionalEntropy1.9580.0622.031
positionalProperty2.8770.2163.131
quietVDJgenes0.0980.0020.099
subsetClones0.9700.0421.016