Back to Multiple platform build/check report for BioC 3.22:   simplified   long
ABCDEFGHIJKLMNO[P]QRSTUVWXYZ

This page was generated on 2025-10-04 12:06 -0400 (Sat, 04 Oct 2025).

HostnameOSArch (*)R versionInstalled pkgs
nebbiolo2Linux (Ubuntu 24.04.3 LTS)x86_644.5.1 Patched (2025-08-23 r88802) -- "Great Square Root" 4853
lconwaymacOS 12.7.1 Montereyx86_644.5.1 Patched (2025-09-10 r88807) -- "Great Square Root" 4640
kjohnson3macOS 13.7.7 Venturaarm644.5.1 Patched (2025-09-10 r88807) -- "Great Square Root" 4585
taishanLinux (openEuler 24.03 LTS)aarch644.5.0 (2025-04-11) -- "How About a Twenty-Six" 4576
Click on any hostname to see more info about the system (e.g. compilers)      (*) as reported by 'uname -p', except on Windows and Mac OS X

Package 1555/2341HostnameOS / ArchINSTALLBUILDCHECKBUILD BIN
peakPantheR 1.23.3  (landing page)
Arnaud Wolfer
Snapshot Date: 2025-10-03 13:45 -0400 (Fri, 03 Oct 2025)
git_url: https://git.bioconductor.org/packages/peakPantheR
git_branch: devel
git_last_commit: 0d1b221
git_last_commit_date: 2025-09-27 18:38:06 -0400 (Sat, 27 Sep 2025)
nebbiolo2Linux (Ubuntu 24.04.3 LTS) / x86_64  OK    OK    OK  UNNEEDED, same version is already published
lconwaymacOS 12.7.1 Monterey / x86_64  OK    OK    OK    OK  UNNEEDED, same version is already published
kjohnson3macOS 13.7.7 Ventura / arm64  OK    OK    OK    OK  UNNEEDED, same version is already published
taishanLinux (openEuler 24.03 LTS) / aarch64  OK    OK    OK  


CHECK results for peakPantheR on kjohnson3

To the developers/maintainers of the peakPantheR package:
- Allow up to 24 hours (and sometimes 48 hours) for your latest push to git@git.bioconductor.org:packages/peakPantheR.git to reflect on this report. See Troubleshooting Build Report for more information.
- Use the following Renviron settings to reproduce errors and warnings.
- If 'R CMD check' started to fail recently on the Linux builder(s) over a missing dependency, add the missing dependency to 'Suggests:' in your DESCRIPTION file. See Renviron.bioc for more information.

raw results


Summary

Package: peakPantheR
Version: 1.23.3
Command: /Library/Frameworks/R.framework/Resources/bin/R CMD check --install=check:peakPantheR.install-out.txt --library=/Library/Frameworks/R.framework/Resources/library --no-vignettes --timings peakPantheR_1.23.3.tar.gz
StartedAt: 2025-10-03 20:56:19 -0400 (Fri, 03 Oct 2025)
EndedAt: 2025-10-03 21:05:05 -0400 (Fri, 03 Oct 2025)
EllapsedTime: 526.1 seconds
RetCode: 0
Status:   OK  
CheckDir: peakPantheR.Rcheck
Warnings: 0

Command output

##############################################################################
##############################################################################
###
### Running command:
###
###   /Library/Frameworks/R.framework/Resources/bin/R CMD check --install=check:peakPantheR.install-out.txt --library=/Library/Frameworks/R.framework/Resources/library --no-vignettes --timings peakPantheR_1.23.3.tar.gz
###
##############################################################################
##############################################################################


* using log directory ‘/Users/biocbuild/bbs-3.22-bioc/meat/peakPantheR.Rcheck’
* using R version 4.5.1 Patched (2025-09-10 r88807)
* using platform: aarch64-apple-darwin20
* R was compiled by
    Apple clang version 16.0.0 (clang-1600.0.26.6)
    GNU Fortran (GCC) 14.2.0
* running under: macOS Ventura 13.7.7
* using session charset: UTF-8
* using option ‘--no-vignettes’
* checking for file ‘peakPantheR/DESCRIPTION’ ... OK
* this is package ‘peakPantheR’ version ‘1.23.3’
* package encoding: UTF-8
* checking package namespace information ... OK
* checking package dependencies ... OK
* checking if this is a source package ... OK
* checking if there is a namespace ... OK
* checking for hidden files and directories ... OK
* checking for portable file names ... OK
* checking for sufficient/correct file permissions ... OK
* checking whether package ‘peakPantheR’ can be installed ... OK
* checking installed package size ... OK
* checking package directory ... OK
* checking ‘build’ directory ... OK
* checking DESCRIPTION meta-information ... OK
* checking top-level files ... OK
* checking for left-over files ... OK
* checking index information ... OK
* checking package subdirectories ... OK
* checking code files for non-ASCII characters ... OK
* checking R files for syntax errors ... OK
* checking whether the package can be loaded ... OK
* checking whether the package can be loaded with stated dependencies ... OK
* checking whether the package can be unloaded cleanly ... OK
* checking whether the namespace can be loaded with stated dependencies ... OK
* checking whether the namespace can be unloaded cleanly ... OK
* checking whether startup messages can be suppressed ... OK
* checking dependencies in R code ... OK
* checking S3 generic/method consistency ... OK
* checking replacement functions ... OK
* checking foreign function calls ... OK
* checking R code for possible problems ... OK
* checking Rd files ... OK
* checking Rd metadata ... OK
* checking Rd cross-references ... OK
* checking for missing documentation entries ... OK
* checking for code/documentation mismatches ... OK
* checking Rd \usage sections ... OK
* checking Rd contents ... OK
* checking for unstated dependencies in examples ... OK
* checking files in ‘vignettes’ ... OK
* checking examples ... OK
Examples with CPU (user + system) or elapsed time > 5s
                                                         user system elapsed
peakPantheR_ROIStatistics                               9.320  0.052   9.403
peakPantheR_parallelAnnotation                          6.911  0.036   6.984
outputAnnotationDiagnostic-peakPantheRAnnotation-method 6.493  0.027   6.520
outputAnnotationResult-peakPantheRAnnotation-method     6.492  0.020   6.513
* checking for unstated dependencies in ‘tests’ ... OK
* checking tests ...
  Running ‘testthat.R’
 OK
* checking for unstated dependencies in vignettes ... OK
* checking package vignettes ... OK
* checking running R code from vignettes ... SKIPPED
* checking re-building of vignette outputs ... SKIPPED
* checking PDF version of manual ... OK
* DONE

Status: OK


Installation output

peakPantheR.Rcheck/00install.out

##############################################################################
##############################################################################
###
### Running command:
###
###   /Library/Frameworks/R.framework/Resources/bin/R CMD INSTALL peakPantheR
###
##############################################################################
##############################################################################


* installing to library ‘/Library/Frameworks/R.framework/Versions/4.5-arm64/Resources/library’
* installing *source* package ‘peakPantheR’ ...
** this is package ‘peakPantheR’ version ‘1.23.3’
** using staged installation
** R
** inst
** byte-compile and prepare package for lazy loading
** help
*** installing help indices
*** copying figures
** building package indices
** installing vignettes
** testing if installed package can be loaded from temporary location
** testing if installed package can be loaded from final location
** testing if installed package keeps a record of temporary installation path
* DONE (peakPantheR)

Tests output

peakPantheR.Rcheck/tests/testthat.Rout


R version 4.5.1 Patched (2025-09-10 r88807) -- "Great Square Root"
Copyright (C) 2025 The R Foundation for Statistical Computing
Platform: aarch64-apple-darwin20

R is free software and comes with ABSOLUTELY NO WARRANTY.
You are welcome to redistribute it under certain conditions.
Type 'license()' or 'licence()' for distribution details.

R is a collaborative project with many contributors.
Type 'contributors()' for more information and
'citation()' on how to cite R or R packages in publications.

Type 'demo()' for some demos, 'help()' for on-line help, or
'help.start()' for an HTML browser interface to help.
Type 'q()' to quit R.

> library(testthat)
> library(peakPantheR)

This is peakPantheR version 1.23.3 

> 
> test_check("peakPantheR")
2025-10-03 20:59:49.455 R[90448:385029693] XType: Using static font registry.
2025-10-03 20:59:55.288 R[1243:385053579] XType: Using static font registry.
2025-10-03 20:59:58.860 R[1357:385053883] XType: Using static font registry.
2025-10-03 21:01:43.068 R[14787:385085836] XType: Using static font registry.
[ FAIL 0 | WARN 0 | SKIP 0 | PASS 1460 ]
Warning messages:
1: In .Internal(gc(verbose, reset, full)) :
  closing unused connection 10 (/private/var/folders/r0/l4fjk6cj5xj0j3brt4bplpl40000gt/T/RtmpvOKKFa/notValidXML.mzML)
2: In .Internal(gc(verbose, reset, full)) :
  closing unused connection 9 (/private/var/folders/r0/l4fjk6cj5xj0j3brt4bplpl40000gt/T/RtmpvOKKFa/notValidXML.mzML)
3: In .Internal(gc(verbose, reset, full)) :
  closing unused connection 8 (/private/var/folders/r0/l4fjk6cj5xj0j3brt4bplpl40000gt/T/RtmpvOKKFa/notValidXML.mzML)
4: In .Internal(gc(verbose, reset, full)) :
  closing unused connection 7 (/private/var/folders/r0/l4fjk6cj5xj0j3brt4bplpl40000gt/T/RtmpvOKKFa/notValidXML.mzML)
5: In .Internal(gc(verbose, reset, full)) :
  closing unused connection 6 (/Library/Frameworks/R.framework/Versions/4.5-arm64/Resources/library/peakPantheR/extdata/test_fakemzML.mzML)
6: In .Internal(gc(verbose, reset, full)) :
  closing unused connection 5 (/Library/Frameworks/R.framework/Versions/4.5-arm64/Resources/library/peakPantheR/extdata/test_fakemzML.mzML)
> 
> proc.time()
   user  system elapsed 
328.065   2.012 450.490 

Example timings

peakPantheR.Rcheck/peakPantheR-Ex.timings

nameusersystemelapsed
EICs-peakPantheRAnnotation-method4.5420.1534.696
FIR-peakPantheRAnnotation-method0.0100.0010.011
ROI-peakPantheRAnnotation-method0.0070.0010.008
TIC-peakPantheRAnnotation-method0.0060.0010.006
acquisitionTime-peakPantheRAnnotation-method0.0070.0010.007
annotationDiagnosticPlots-peakPantheRAnnotation-method0.0060.0010.006
annotationParamsDiagnostic-peakPantheRAnnotation-method0.0060.0010.006
annotationTable-peakPantheRAnnotation-method0.0060.0010.007
annotation_diagnostic_multiplot_UI_helper0.0590.0050.063
annotation_fit_summary_UI_helper0.0020.0010.003
annotation_showMethod_UI_helper0.0020.0000.001
annotation_showText_UI_helper000
cpdID-peakPantheRAnnotation-method0.0070.0010.008
cpdMetadata-peakPantheRAnnotation-method0.0050.0010.006
cpdName-peakPantheRAnnotation-method0.0050.0000.006
dataPoints-peakPantheRAnnotation-method0.0060.0000.006
filename-peakPantheRAnnotation-method0.0060.0000.006
filepath-peakPantheRAnnotation-method0.0050.0010.006
initialise_annotation_from_files_UI_helper0.0040.0010.005
isAnnotated-peakPantheRAnnotation-method0.0060.0010.008
load_annotation_from_file_UI_helper0.0020.0010.002
nbCompounds-peakPantheRAnnotation-method0.0060.0010.007
nbSamples-peakPantheRAnnotation-method0.0060.0010.006
outputAnnotationDiagnostic-peakPantheRAnnotation-method6.4930.0276.520
outputAnnotationFeatureMetadata_UI_helper0.0010.0000.001
outputAnnotationParamsCSV-peakPantheRAnnotation-method0.0070.0010.007
outputAnnotationResult-peakPantheRAnnotation-method6.4920.0206.513
outputAnnotationSpectraMetadata_UI_helper0.0020.0000.002
peakFit-peakPantheRAnnotation-method0.0070.0010.008
peakPantheRAnnotation0.0100.0000.011
peakPantheR_ROIStatistics9.3200.0529.403
peakPantheR_loadAnnotationParamsCSV0.0020.0010.002
peakPantheR_parallelAnnotation6.9110.0366.984
peakPantheR_plotEICFit0.1610.0030.163
peakPantheR_plotPeakwidth0.2910.0220.314
peakPantheR_quickEIC2.0450.0152.060
peakPantheR_singleFileSearch2.2980.0112.310
peakPantheR_start_GUI000
peakTables-peakPantheRAnnotation-method0.0070.0010.008
resetAnnotation-peakPantheRAnnotation-method0.0080.0000.009
resetFIR-peakPantheRAnnotation-method0.0020.0000.002
retentionTimeCorrection-peakPantheRAnnotation-method4.5240.0164.540
spectraMetadata-peakPantheRAnnotation-method0.0080.0010.007
spectraPaths_and_metadata_UI_helper0.0010.0000.001
spectra_metadata_colourScheme_UI_helper0.0010.0010.002
uROI-peakPantheRAnnotation-method0.0070.0000.007
uROIExist-peakPantheRAnnotation-method0.0060.0010.006
useFIR-peakPantheRAnnotation-method0.0060.0010.007
useUROI-peakPantheRAnnotation-method0.0060.0000.007