Back to Multiple platform build/check report for BioC 3.22:   simplified   long
ABCDEFGHIJKLM[N]OPQRSTUVWXYZ

This page was generated on 2025-10-04 12:07 -0400 (Sat, 04 Oct 2025).

HostnameOSArch (*)R versionInstalled pkgs
nebbiolo2Linux (Ubuntu 24.04.3 LTS)x86_644.5.1 Patched (2025-08-23 r88802) -- "Great Square Root" 4853
lconwaymacOS 12.7.1 Montereyx86_644.5.1 Patched (2025-09-10 r88807) -- "Great Square Root" 4640
kjohnson3macOS 13.7.7 Venturaarm644.5.1 Patched (2025-09-10 r88807) -- "Great Square Root" 4585
taishanLinux (openEuler 24.03 LTS)aarch644.5.0 (2025-04-11) -- "How About a Twenty-Six" 4576
Click on any hostname to see more info about the system (e.g. compilers)      (*) as reported by 'uname -p', except on Windows and Mac OS X

Package 1438/2341HostnameOS / ArchINSTALLBUILDCHECKBUILD BIN
nearBynding 1.19.1  (landing page)
Veronica Busa
Snapshot Date: 2025-10-03 13:45 -0400 (Fri, 03 Oct 2025)
git_url: https://git.bioconductor.org/packages/nearBynding
git_branch: devel
git_last_commit: ab750a4
git_last_commit_date: 2025-07-23 13:23:21 -0400 (Wed, 23 Jul 2025)
nebbiolo2Linux (Ubuntu 24.04.3 LTS) / x86_64  OK    OK    OK  UNNEEDED, same version is already published
lconwaymacOS 12.7.1 Monterey / x86_64  OK    OK    OK    OK  UNNEEDED, same version is already published
kjohnson3macOS 13.7.7 Ventura / arm64  OK    OK    OK    OK  UNNEEDED, same version is already published
taishanLinux (openEuler 24.03 LTS) / aarch64  OK    OK    OK  


CHECK results for nearBynding on taishan

To the developers/maintainers of the nearBynding package:
- Allow up to 24 hours (and sometimes 48 hours) for your latest push to git@git.bioconductor.org:packages/nearBynding.git to reflect on this report. See Troubleshooting Build Report for more information.
- Use the following Renviron settings to reproduce errors and warnings.
- If 'R CMD check' started to fail recently on the Linux builder(s) over a missing dependency, add the missing dependency to 'Suggests:' in your DESCRIPTION file. See Renviron.bioc for more information.
- See Martin Grigorov's blog post for how to debug Linux ARM64 related issues on a x86_64 host.

raw results


Summary

Package: nearBynding
Version: 1.19.1
Command: /home/biocbuild/R/R/bin/R CMD check --install=check:nearBynding.install-out.txt --library=/home/biocbuild/R/R/site-library --no-vignettes --timings nearBynding_1.19.1.tar.gz
StartedAt: 2025-10-03 09:39:20 -0000 (Fri, 03 Oct 2025)
EndedAt: 2025-10-03 09:46:32 -0000 (Fri, 03 Oct 2025)
EllapsedTime: 431.7 seconds
RetCode: 0
Status:   OK  
CheckDir: nearBynding.Rcheck
Warnings: 0

Command output

##############################################################################
##############################################################################
###
### Running command:
###
###   /home/biocbuild/R/R/bin/R CMD check --install=check:nearBynding.install-out.txt --library=/home/biocbuild/R/R/site-library --no-vignettes --timings nearBynding_1.19.1.tar.gz
###
##############################################################################
##############################################################################


* using log directory ‘/home/biocbuild/bbs-3.22-bioc/meat/nearBynding.Rcheck’
* using R version 4.5.0 (2025-04-11)
* using platform: aarch64-unknown-linux-gnu
* R was compiled by
    aarch64-unknown-linux-gnu-gcc (GCC) 14.2.0
    GNU Fortran (GCC) 14.2.0
* running under: openEuler 24.03 (LTS)
* using session charset: UTF-8
* using option ‘--no-vignettes’
* checking for file ‘nearBynding/DESCRIPTION’ ... OK
* checking extension type ... Package
* this is package ‘nearBynding’ version ‘1.19.1’
* package encoding: UTF-8
* checking package namespace information ... OK
* checking package dependencies ... OK
* checking if this is a source package ... OK
* checking if there is a namespace ... OK
* checking for hidden files and directories ... OK
* checking for portable file names ... OK
* checking for sufficient/correct file permissions ... OK
* checking whether package ‘nearBynding’ can be installed ... OK
* checking installed package size ... INFO
  installed size is  7.1Mb
  sub-directories of 1Mb or more:
    extdata   6.9Mb
* checking package directory ... OK
* checking ‘build’ directory ... OK
* checking DESCRIPTION meta-information ... OK
* checking top-level files ... OK
* checking for left-over files ... OK
* checking index information ... OK
* checking package subdirectories ... OK
* checking code files for non-ASCII characters ... OK
* checking R files for syntax errors ... OK
* checking whether the package can be loaded ... OK
* checking whether the package can be loaded with stated dependencies ... OK
* checking whether the package can be unloaded cleanly ... OK
* checking whether the namespace can be loaded with stated dependencies ... OK
* checking whether the namespace can be unloaded cleanly ... OK
* checking loading without being on the library search path ... OK
* checking dependencies in R code ... OK
* checking S3 generic/method consistency ... OK
* checking replacement functions ... OK
* checking foreign function calls ... OK
* checking R code for possible problems ... OK
* checking Rd files ... OK
* checking Rd metadata ... OK
* checking Rd cross-references ... OK
* checking for missing documentation entries ... OK
* checking for code/documentation mismatches ... OK
* checking Rd \usage sections ... OK
* checking Rd contents ... OK
* checking for unstated dependencies in examples ... OK
* checking files in ‘vignettes’ ... OK
* checking examples ... OK
Examples with CPU (user + system) or elapsed time > 5s
                           user system elapsed
processCapRout           20.568  0.203  22.533
visualizeStereogene      12.809  0.201  13.689
visualizeCapRStereogene  12.756  0.051  14.771
liftOverToExomicBG        5.630  0.111   6.100
GenomeMappingToChainFile  5.501  0.131   5.941
* checking for unstated dependencies in vignettes ... OK
* checking package vignettes ... OK
* checking running R code from vignettes ... SKIPPED
* checking re-building of vignette outputs ... SKIPPED
* checking PDF version of manual ... OK
* DONE

Status: OK


Installation output

nearBynding.Rcheck/00install.out

##############################################################################
##############################################################################
###
### Running command:
###
###   /home/biocbuild/R/R/bin/R CMD INSTALL nearBynding
###
##############################################################################
##############################################################################


* installing to library ‘/home/biocbuild/R/R-4.5.0/site-library’
* installing *source* package ‘nearBynding’ ...
** this is package ‘nearBynding’ version ‘1.19.1’
** using staged installation
** R
** inst
** byte-compile and prepare package for lazy loading
** help
*** installing help indices
** building package indices
** installing vignettes
** testing if installed package can be loaded from temporary location
** testing if installed package can be loaded from final location
** testing if installed package keeps a record of temporary installation path
* DONE (nearBynding)

Tests output


Example timings

nearBynding.Rcheck/nearBynding-Ex.timings

nameusersystemelapsed
CleanBAMtoBG0.0410.0000.066
CleanBEDtoBG0.0180.0000.050
ExtractTranscriptomeSequence000
GenomeMappingToChainFile5.5010.1315.941
assessGrouping1.8250.0282.058
bindingContextDistance0.1960.0000.317
bindingContextDistanceCapR0.4400.0000.593
getChainChrSize4.7350.0644.890
get_outfiles0.0080.0000.008
liftOverToExomicBG5.6300.1116.100
nearBynding-package000
processCapRout20.568 0.20322.533
runCapR0.0020.0010.014
runStereogene0.0030.0010.012
runStereogeneOnCapR0.0200.0010.047
symmetryCapR0.4260.0200.449
symmetryContext0.0700.0040.076
visualizeCapRStereogene12.756 0.05114.771
visualizeStereogene12.809 0.20113.689
write_config000
write_fasta0.0010.0000.006